BEGIN:VCALENDAR
VERSION:2.0
PRODID:-//Dòng Chúa Cứu Thế Hải Ngoại - ECPv6.15.20//NONSGML v1.0//EN
CALSCALE:GREGORIAN
METHOD:PUBLISH
X-ORIGINAL-URL:https://dongchuacuuthe.us
X-WR-CALDESC:Events for Dòng Chúa Cứu Thế Hải Ngoại
REFRESH-INTERVAL;VALUE=DURATION:PT1H
X-Robots-Tag:noindex
X-PUBLISHED-TTL:PT1H
BEGIN:VTIMEZONE
TZID:America/Los_Angeles
BEGIN:DAYLIGHT
TZOFFSETFROM:-0800
TZOFFSETTO:-0700
TZNAME:PDT
DTSTART:20240310T100000
END:DAYLIGHT
BEGIN:STANDARD
TZOFFSETFROM:-0700
TZOFFSETTO:-0800
TZNAME:PST
DTSTART:20241103T090000
END:STANDARD
BEGIN:DAYLIGHT
TZOFFSETFROM:-0800
TZOFFSETTO:-0700
TZNAME:PDT
DTSTART:20250309T100000
END:DAYLIGHT
BEGIN:STANDARD
TZOFFSETFROM:-0700
TZOFFSETTO:-0800
TZNAME:PST
DTSTART:20251102T090000
END:STANDARD
BEGIN:DAYLIGHT
TZOFFSETFROM:-0800
TZOFFSETTO:-0700
TZNAME:PDT
DTSTART:20260308T100000
END:DAYLIGHT
BEGIN:STANDARD
TZOFFSETFROM:-0700
TZOFFSETTO:-0800
TZNAME:PST
DTSTART:20261101T090000
END:STANDARD
END:VTIMEZONE
BEGIN:VEVENT
DTSTART;VALUE=DATE:20250530
DTEND;VALUE=DATE:20250531
DTSTAMP:20260423T232919
CREATED:20250512T051434Z
LAST-MODIFIED:20250512T051434Z
UID:11886-1748563200-1748649599@dongchuacuuthe.us
SUMMARY:Thứ Sáu Tuần VI Phục Sinh
DESCRIPTION:Bài đọc Tiếng Anh\nBÀI ĐỌC I: Cv 18\, 9-18\n“Trong thành này\, Ta có một dân đông đảo”. \nTrích sách Tông đồ Công vụ. \n(Khi Phaolô đang ở Côrintô)\, một đêm kia\, Chúa hiện ra phán bảo Phaolô trong một thị kiến rằng: “Con đừng sợ\, cứ giảng dạy\, chứ đừng làm thinh; vì Ta ở cùng con\, và không ai tra tay làm hại con\, vì trong thành này\, Ta có một dân đông đảo”. Phaolô ở lại đó một năm sáu tháng mà giảng dạy lời Chúa cho họ. \n(Đến) thời Galliô làm tổng trấn xứ Akaia\, người Do-thái đồng lòng nổi lên chống Phaolô và điệu ngài đến toà án mà thưa rằng: “Người này xui dân tôn thờ Thiên Chúa trái luật”. Phaolô toan mở miệng\, thì Galliô nói với người Do-thái rằng: “Hỡi người Do-thái\, nếu quả thật là điều chi tội ác\, ta sẽ có lý mà nghe các ngươi; nhược bằng chỉ là những tranh luận về đạo lý\, danh từ và lề luật\, thì các ngươi hãy liệu lấy; ta không muốn xử các việc ấy”. Rồi ông đuổi họ ra khỏi toà án. Mọi người liền bắt Sosthênê\, trưởng hội đường\, và đánh đập ông ta trước toà án\, thế mà Galliô cũng chẳng lưu tâm gì đến. Còn Phaolô thì lưu lại đó nhiều ngày\, rồi từ giã anh em\, xuống tàu đi Syria (với Priscilla và Aquila); tại Cenchri\, ngài cạo trọc đầu\, vì ngài đã khấn như thế. Đó là lời Chúa. \nĐÁP CA: Tv 46\, 2-3. 4-5. 6-7\nĐáp: Thiên Chúa là Vua khắp cõi trần gian (c. 8a). \nHoặc đọc: Alleluia. \nXướng: 1) Hết thảy chư dân\, hãy vỗ tay\, hãy reo mừng Thiên Chúa tiếng reo vui! Vì Chúa là Đấng Tối cao\, khả uý\, Người là Đại Đế trên khắp trần gian. – Đáp. \n2) Người bắt các dân tùng phục chúng tôi\, và đặt chư quốc dưới chân chúng tôi. Người đã chọn cho chúng tôi phần gia sản\, vinh dự của Giacob mà Người sủng ái. – Đáp. \n3) Thiên Chúa ngự lên giữa tiếng tưng bừng\, Chúa ngự lên trong tiếng kèn vang. Hãy ca mừng\, ca mừng Thiên Chúa\, hãy ca mừng\, ca mừng Vua của chúng ta. – Đáp. \nALLELUIA: Cl 3\, 1\nAlleluia\, alleluia! – Nếu anh em sống lại làm một với Đức Kitô\, thì anh em hãy tìm kiếm những sự cao siêu trên trời\, nơi Đức Kitô đang ngự bên hữu Thiên Chúa. – Alleluia. \nPHÚC ÂM: Ga 16\, 20-23a\n“Niềm vui của các con không ai sẽ lấy mất được”. \nTin Mừng Chúa Giêsu Kitô theo Thánh Gioan. \nKhi ấy\, Chúa Giêsu phán cùng các môn đệ rằng: “Thật\, Thầy bảo thật các con: các con sẽ than van khóc lóc\, còn thế gian sẽ vui mừng. Các con sẽ buồn sầu\, nhưng nỗi buồn của các con sẽ trở thành niềm vui. Người đàn bà khi sinh con thì lo buồn\, vì giờ đã đến\, nhưng khi đã sinh con rồi\, thì bà mừng rỡ\, không còn nhớ đến cơn đau\, bởi vì đã có một người sinh ra đời. Các con cũng thế\, bây giờ các con buồn phiền\, nhưng Thầy sẽ gặp lại các con\, và lòng các con sẽ vui mừng\, và niềm vui của các con không ai sẽ lấy mất được. Và trong ngày đó các con sẽ không còn hỏi Thầy điều gì nữa”. Đó là lời Chúa.
URL:https://dongchuacuuthe.us/calendar/thu-sau-tuan-vi-phuc-sinh/
END:VEVENT
END:VCALENDAR