BEGIN:VCALENDAR
VERSION:2.0
PRODID:-//Dòng Chúa Cứu Thế Hải Ngoại - ECPv6.15.20//NONSGML v1.0//EN
CALSCALE:GREGORIAN
METHOD:PUBLISH
X-ORIGINAL-URL:https://dongchuacuuthe.us
X-WR-CALDESC:Events for Dòng Chúa Cứu Thế Hải Ngoại
REFRESH-INTERVAL;VALUE=DURATION:PT1H
X-Robots-Tag:noindex
X-PUBLISHED-TTL:PT1H
BEGIN:VTIMEZONE
TZID:America/Los_Angeles
BEGIN:DAYLIGHT
TZOFFSETFROM:-0800
TZOFFSETTO:-0700
TZNAME:PDT
DTSTART:20240310T100000
END:DAYLIGHT
BEGIN:STANDARD
TZOFFSETFROM:-0700
TZOFFSETTO:-0800
TZNAME:PST
DTSTART:20241103T090000
END:STANDARD
BEGIN:DAYLIGHT
TZOFFSETFROM:-0800
TZOFFSETTO:-0700
TZNAME:PDT
DTSTART:20250309T100000
END:DAYLIGHT
BEGIN:STANDARD
TZOFFSETFROM:-0700
TZOFFSETTO:-0800
TZNAME:PST
DTSTART:20251102T090000
END:STANDARD
BEGIN:DAYLIGHT
TZOFFSETFROM:-0800
TZOFFSETTO:-0700
TZNAME:PDT
DTSTART:20260308T100000
END:DAYLIGHT
BEGIN:STANDARD
TZOFFSETFROM:-0700
TZOFFSETTO:-0800
TZNAME:PST
DTSTART:20261101T090000
END:STANDARD
END:VTIMEZONE
BEGIN:VEVENT
DTSTART;VALUE=DATE:20250529
DTEND;VALUE=DATE:20250530
DTSTAMP:20260423T232919
CREATED:20250512T051352Z
LAST-MODIFIED:20250512T051352Z
UID:11884-1748476800-1748563199@dongchuacuuthe.us
SUMMARY:Thứ Năm Tuần VI Phục Sinh
DESCRIPTION:Bài đọc Tiếng Anh\nBÀI ĐỌC I: Cv 18\, 1-8\n“Ngài cư trú và làm việc tại nhà họ\, và giảng trong hội đường”. \nTrích sách Tông đồ Công vụ. \nTrong những ngày ấy\, Phaolô rời Athêna đi Côrintô; ngài gặp một người Do-thái tên là Aquila\, quê ở Pontô\, vừa từ đất Ý-đại-lợi đến làm một với vợ là Priscilla (bởi vì vua Clauđiô đã ra lệnh trục xuất mọi người Do-thái khỏi Roma); Phaolô đến gặp họ. Và vì chung một nghề\, nên ngài cư trú và làm việc tại nhà họ: họ làm nghề dệt bố để làm nhà lều. Mỗi ngày Sabbat\, ngài đến tranh luận tại hội đường\, nêu danh Chúa Giêsu\, thuyết phục người Do-thái và Hy-lạp. \nKhi Sila và Timôthêu từ Macêđônia đến\, Phaolô chỉ chuyên lo việc giảng dạy\, minh chứng cho người Do-thái biết Chúa Giêsu là Đức Kitô. Nhưng họ công kích và lăng mạ Ngài\, nên ngài dũ áo nói với họ: “Máu các ngươi đổ trên đầu các ngươi. Phần tôi\, tôi vô can\, từ đây\, tôi sẽ đến với dân ngoại”. \nNgài ra khỏi chỗ đó\, vào nhà một người kia tên là Titô Giustô có lòng kính sợ Chúa\, nhà ông ở bên cạnh hội đường. Bấy giờ Crispô trưởng hội đường\, và cả nhà ông tin theo Chúa; nhiều người Corintô nghe giảng\, cũng tin theo và chịu phép rửa. Đó là lời Chúa. \nĐÁP CA: Tv 97\, 1. 2-3ab. 3cd-4\nĐáp: Chúa đã công bố ơn cứu độ của Người trước mặt chư dân (c. 2b). \nHoặc đọc: Alleluia. \nXướng: 1) Hãy ca mừng Chúa một bài ca mới\, vì Người đã làm nên những điều huyền diệu. Tay hữu Người đã tạo cho Người cuộc chiến thắng\, cùng với cánh tay thánh thiện của Người. – Đáp. \n2) Chúa đã công bố ơn cứu độ của Người\, trước mặt chư dân\, Người tỏ rõ đức công minh. Người đã nhớ lại lòng nhân hậu và trung thành để sủng ái nhà Israel. – Đáp. \n3) Khắp nơi bờ cõi địa cầu đã nhìn thấy ơn cứu độ của Thiên Chúa chúng ta. Toàn thể địa cầu hãy reo mừng Chúa\, hãy hoan hỉ\, mừng vui và đàn ca. – Đáp. \nALLELUIA: Ga 16\, 28\nAlleluia\, alleluia! – Thầy bởi Cha mà ra\, và đã đến trong thế gian; bây giờ Thầy lại bỏ thế gian mà về cùng Cha. – Alleluia. \nPHÚC ÂM: Ga 16\, 16-20\n“Các con sẽ buồn sầu\, nhưng nỗi buồn của các con sẽ trở thành niềm vui”.\nTin Mừng Chúa Giêsu Kitô theo Thánh Gioan. \nKhi ấy Chúa Giêsu phán cùng các môn đệ rằng: “Một ít nữa các con sẽ không thấy Thầy\, rồi lại một ít nữa các con sẽ thấy Thầy\, vì Thầy về cùng Cha”. \nBấy giờ trong các môn đệ có mấy người hỏi nhau: “Điều Người nói với chúng ta: ‘Một ít nữa các con sẽ không thấy Thầy\, rồi lại một ít nữa các con sẽ thấy Thầy’\, và ‘Vì Thầy về cùng Cha’\, như thế có ý nghĩa gì?” Họ nói: “Lời Người nói ‘Một ít nữa’ có ý nghĩa gì? Chúng ta không biết Người muốn nói gì?” \nChúa Giêsu nhận thấy họ muốn hỏi Người\, nên Người bảo họ: “Các con hỏi nhau vì Thầy đã nói: Một ít nữa các con sẽ không thấy Thầy\, rồi lại một ít nữa các con sẽ thấy Thầy. Thật\, Thầy bảo thật với các con: các con sẽ than van khóc lóc\, còn thế gian sẽ vui mừng. Các con sẽ buồn sầu; nhưng nỗi buồn của các con sẽ trở thành niềm vui”. Đó là lời Chúa.
URL:https://dongchuacuuthe.us/calendar/thu-nam-tuan-vi-phuc-sinh/
END:VEVENT
END:VCALENDAR