BEGIN:VCALENDAR
VERSION:2.0
PRODID:-//Dòng Chúa Cứu Thế Hải Ngoại - ECPv6.15.20//NONSGML v1.0//EN
CALSCALE:GREGORIAN
METHOD:PUBLISH
X-WR-CALNAME:Dòng Chúa Cứu Thế Hải Ngoại
X-ORIGINAL-URL:https://dongchuacuuthe.us
X-WR-CALDESC:Events for Dòng Chúa Cứu Thế Hải Ngoại
REFRESH-INTERVAL;VALUE=DURATION:PT1H
X-Robots-Tag:noindex
X-PUBLISHED-TTL:PT1H
BEGIN:VTIMEZONE
TZID:America/Los_Angeles
BEGIN:DAYLIGHT
TZOFFSETFROM:-0800
TZOFFSETTO:-0700
TZNAME:PDT
DTSTART:20240310T100000
END:DAYLIGHT
BEGIN:STANDARD
TZOFFSETFROM:-0700
TZOFFSETTO:-0800
TZNAME:PST
DTSTART:20241103T090000
END:STANDARD
BEGIN:DAYLIGHT
TZOFFSETFROM:-0800
TZOFFSETTO:-0700
TZNAME:PDT
DTSTART:20250309T100000
END:DAYLIGHT
BEGIN:STANDARD
TZOFFSETFROM:-0700
TZOFFSETTO:-0800
TZNAME:PST
DTSTART:20251102T090000
END:STANDARD
BEGIN:DAYLIGHT
TZOFFSETFROM:-0800
TZOFFSETTO:-0700
TZNAME:PDT
DTSTART:20260308T100000
END:DAYLIGHT
BEGIN:STANDARD
TZOFFSETFROM:-0700
TZOFFSETTO:-0800
TZNAME:PST
DTSTART:20261101T090000
END:STANDARD
END:VTIMEZONE
BEGIN:VEVENT
DTSTART;VALUE=DATE:20250528
DTEND;VALUE=DATE:20250529
DTSTAMP:20260423T232914
CREATED:20250512T051310Z
LAST-MODIFIED:20250512T051310Z
UID:11882-1748390400-1748476799@dongchuacuuthe.us
SUMMARY:Thứ Tư Tuần VI Phục Sinh
DESCRIPTION:Bài đọc Tiếng Anh\nBÀI ĐỌC I: Cv 17\, 15. 22 – 18\,1\n“Đấng quý vị thờ mà không nhận biết\, thì tôi xin loan báo Người cho quý vị”. \nTrích sách Tông đồ Công vụ. \nTrong những ngày ấy\, nhừng người tháp tùng Phaolô\, dẫn đưa ngài cho đến Athêna; và khi đã nhận lệnh ngài truyền cho Sila và Timôthêu đến gặp ngài lập tức\, họ liền ra đi. \nBấy giờ Phaolô đứng giữa đồi Arêôpagô mà nói: “Kính thưa quý vị người Athêna\, tôi nhận thấy quý vị rất sùng tín về mọi mặt. Vì khi đi ngang qua\, nhìn các tượng thần của quý vị\, tôi cũng thấy một bàn thờ có ghi chữ: “Kính Thần vô danh”. Vậy Đấng quý vị thờ mà không nhận biết\, thì tôi xin loan báo Người cho quý vị. Thiên Chúa\, Đấng đã tác tạo vũ trụ và vạn vật trong vũ trụ\, Người là Chúa trời đất\, nên không ngự nơi đền thờ do tay người phàm làm ra. Người cũng không cần bàn tay người phàm phụng sự như thể thiếu thốn điều gì\, vì chính Người ban cho mọi người sự sống\, hơi thở và hết mọi sự. Người đã làm cho toàn thể loài người từ một nguyên tổ lan tràn khắp mặt đất. Người phân định thời hạn rõ rệt và biên giới chỗ họ ở\, để họ tìm thấy Thiên Chúa nếu họ cố gắng dò dẫm tìm gặp Người\, vì thật ra Người không ở xa mỗi người chúng ta. Vì chưng ta sống\, ta cử động và ta hiện hữu trong Người\, như có mấy thi sĩ của quý vị đã nói: “Chúng ta thuộc tông giống Người”. Vậy bởi chúng ta là dòng giống của Thiên Chúa\, chúng ta không được nghĩ rằng Thần Linh giống như vàng\, hoặc bạc\, hay đá do nghệ thuật chạm trổ và suy tưởng của con người làm ra. Thiên Chúa không chấp những thời gian mê muội đó\, nay Người loan báo cho nhân loại nhận biết để mọi người khắp nơi ăn năn hối cải\, vì Người đã quy định ngày Người sẽ xét xử vũ trụ cách công minh\, do Đấng Người đã chỉ định và cho Đấng ấy từ cõi chết sống lại để mọi người tin”. \nKhi họ nghe nói kẻ chết sống lại\, thì có kẻ nhạo cười\, có người lại nói rằng: “Để khi khác\, chúng tôi sẽ nghe ông nói lại về điều đó”. Thế là Phaolô bỏ họ ra đi. Nhưng cũng có vài người theo và tin ngài\, trong số đó có Điônysiô nhân viên thuộc Arêôpagô\, một phụ nữ tên Đamari và mấy người khác nữa. Sau đó\, Phaolô rời Athêna đi Côrintô. Đó là lời Chúa. \nĐÁP CA: Tv 148\, 1-2. 11-12ab. 12c-14a. 14bcd\nĐáp: Trời đất đầy vinh quang của Chúa. \nHoặc đọc: Alleluia. \nXướng: 1) Hãy ca tụng Chúa từ muôn cõi trời\, hãy ca tụng Người trên nơi cao thẳm. Các thiên thần Chúa\, hãy ca tụng Người đi\, ca tụng Người đi\, hỡi các đạo thiên binh. – Đáp. \n2) Quân vương địa cầu và tất cả chư dân\, quan chức và các vị chính quyền trên cõi đất\, các thanh niên và cả những cô gái tân\, những ông cụ già với đoàn con trẻ. – Đáp. \n3) Họ hãy ca tụng danh Chúa\, vì danh Người siêu phàm\, độc nhất\, oai nghiêm. Người tràn lan trên trời dưới đất\, và Người nâng cao quyền thế dân Người. – Đáp. \n4) Dân Người là đề tài ca tụng cho mọi tín hữu\, cho hết thảy con cái Israel\, dân tộc sống gần gũi với Người. – Đáp. \nALLELUIA: Ga 16\, 7 và 13\nAlleluia\, alleluia! – Chúa phán: “Thầy sẽ sai Thần Chân Lý đến\, Người sẽ dạy các con biết tất cả sự thật”. – Alleluia. \nPHÚC ÂM: Ga 16\, 12-15\n“Thần Chân lý sẽ dạy các con biết tất cả sự thật”. \nTin Mừng Chúa Giêsu Kitô theo Thánh Gioan. \nKhi ấy\, Chúa Giêsu phán cùng các môn đệ rằng: “Thầy còn nhiều điều phải nói với các con\, nhưng bây giờ các con không thể lĩnh hội được. Khi Thần Chân lý đến\, Người sẽ dạy các con biết tất cả sự thật\, vì Người không tự mình mà nói\, nhưng Người nghe gì thì sẽ nói vậy\, và Người sẽ bảo cho các con biết những việc tương lai. Người sẽ làm vinh danh Thầy\, vì Người sẽ lãnh nhận từ nơi Thầy mà loan truyền cho các con. Tất cả những gì Cha có\, đều là của Thầy\, vì thế Thầy đã nói: “Người sẽ lãnh nhận từ nơi Thầy mà loan truyền cho các con”. Đó là lời Chúa.
URL:https://dongchuacuuthe.us/calendar/thu-tu-tuan-vi-phuc-sinh/
END:VEVENT
END:VCALENDAR