BEGIN:VCALENDAR
VERSION:2.0
PRODID:-//Dòng Chúa Cứu Thế Hải Ngoại - ECPv6.15.20//NONSGML v1.0//EN
CALSCALE:GREGORIAN
METHOD:PUBLISH
X-ORIGINAL-URL:https://dongchuacuuthe.us
X-WR-CALDESC:Events for Dòng Chúa Cứu Thế Hải Ngoại
REFRESH-INTERVAL;VALUE=DURATION:PT1H
X-Robots-Tag:noindex
X-PUBLISHED-TTL:PT1H
BEGIN:VTIMEZONE
TZID:America/Los_Angeles
BEGIN:DAYLIGHT
TZOFFSETFROM:-0800
TZOFFSETTO:-0700
TZNAME:PDT
DTSTART:20240310T100000
END:DAYLIGHT
BEGIN:STANDARD
TZOFFSETFROM:-0700
TZOFFSETTO:-0800
TZNAME:PST
DTSTART:20241103T090000
END:STANDARD
BEGIN:DAYLIGHT
TZOFFSETFROM:-0800
TZOFFSETTO:-0700
TZNAME:PDT
DTSTART:20250309T100000
END:DAYLIGHT
BEGIN:STANDARD
TZOFFSETFROM:-0700
TZOFFSETTO:-0800
TZNAME:PST
DTSTART:20251102T090000
END:STANDARD
BEGIN:DAYLIGHT
TZOFFSETFROM:-0800
TZOFFSETTO:-0700
TZNAME:PDT
DTSTART:20260308T100000
END:DAYLIGHT
BEGIN:STANDARD
TZOFFSETFROM:-0700
TZOFFSETTO:-0800
TZNAME:PST
DTSTART:20261101T090000
END:STANDARD
END:VTIMEZONE
BEGIN:VEVENT
DTSTART;VALUE=DATE:20250524
DTEND;VALUE=DATE:20250525
DTSTAMP:20260423T232918
CREATED:20250512T050943Z
LAST-MODIFIED:20250512T050943Z
UID:11874-1748044800-1748131199@dongchuacuuthe.us
SUMMARY:Thứ Bảy Tuần V Phục Sinh
DESCRIPTION:Bài đọc Tiếng Anh\nBÀI ĐỌC I: Cv 16\, 1-10\n“Xin đi sang Macêđonia mà cứu giúp chúng tôi”. \nTrích sách Tông đồ Công vụ. \nTrong những ngày ấy\, Phaolô đến Đerbê và Lystra. Ở đó có một môn đồ tên là Timôthêô\, con của một bà Do-thái đã tin đạo\, còn cha là người dân ngoại. Các anh em ở Lystra và Icôniô chứng nhận anh là người tốt. Phaolô muốn anh đi theo mình\, vì nể người Do-thái ở trong vùng ấy\, nên Phaolô đã đem anh đi cắt bì\, vì mọi người biết cha anh là người dân ngoại. Khi hai ngài đi ngang qua các thành phố\, hai ngài truyền lại cho họ tuân giữ những giáo lý do các tông đồ và kỳ lão tại Giêrusalem đã quyết định. Nhờ vậy\, các giáo đoàn được vững mạnh trong đức tin và mỗi ngày càng tăng thêm đông số. \nCác ngài đi qua Phrygia và vùng Galatia\, vì Thánh Thần ngăn cản không cho rao giảng lời Chúa tại Tiểu Á. Khi đến Mysia\, các ngài tìm cách đi Bithynia; nhưng Thánh Thần của Chúa Giêsu không cho phép. Vậy các ngài đi sang Mysia\, xuống Trôa\, và ban đêm Phaolô được thị kiến thấy một người Macêđô đứng đó và van xin ngài rằng: “Xin đi sang Macêđônia mà cứu giúp chúng tôi”. \nVừa thấy vậy\, chúng tôi liền tìm cách đi sang Macêđônia\, tin chắc rằng Thiên Chúa đã kêu gọi chúng tôi rao giảng Tin Mừng cho họ. Đó là lời Chúa. \nĐÁP CA: Tv 99\, 2. 3. 5\nĐáp: Toàn thể địa cầu\, hãy reo mừng Chúa! (c. 2a) \nHoặc đọc: Alleluia. \nXướng: 1) Toàn thể địa cầu\, hãy reo mừng Chúa! Hãy phụng sự Chúa với niềm vui vẻ; hãy vào trước thiên nhan với lòng hân hoan khoái trá. – Đáp. \n2) Hãy biết rằng Chúa là Thiên Chúa\, chính Người đã tạo tác thân ta\, và ta thuộc quyền sở hữu của Người. – Đáp. \n3) Vì Thiên Chúa\, Người thiện hảo\, lòng từ bi Người tồn tại muôn đời\, và lòng trung tín còn tới muôn muôn thế hệ. – Đáp. \nALLELUIA: Ga 14\, 16\nAlleluia\, alleluia! – Thầy sẽ xin Chúa Cha và Người sẽ ban cho các con một Đấng Phù Trợ khác\, để ở cùng các con luôn mãi. – Alleluia. \nPHÚC ÂM: Ga 15\, 18-21\n“Các con không thuộc về thế gian\, vì chính Thầy đã chọn các con khỏi thế gian”. \nTin Mừng Chúa Giêsu Kitô theo Thánh Gioan. \nKhi ấy\, Chúa Giêsu phán cùng các môn đệ rằng: “Nếu thế gian ghét các con\, các con hãy biết rằng họ đã ghét Thầy trước. Nếu các con thuộc về thế gian\, thế gian sẽ yêu những gì thuộc về nó\, nhưng các con không thuộc về thế gian\, vì chính Thầy đã chọn các con khỏi thế gian\, nên thế gian ghét các con. Các con hãy nhớ lại lời Thầy đã nói với các con: Tôi tớ không trọng hơn chủ. Nếu họ đã bắt Thầy\, thì họ cũng sẽ bắt bớ các con; nếu họ tuân giữ lời Thầy\, thì họ cũng tuân giữ lời các con. Tại vì danh Thầy mà họ sẽ làm cho các con tất cả những điều đó\, bởi vì họ không biết Đấng đã sai Thầy”. Đó là lời Chúa.
URL:https://dongchuacuuthe.us/calendar/thu-bay-tuan-v-phuc-sinh/
END:VEVENT
END:VCALENDAR