BEGIN:VCALENDAR
VERSION:2.0
PRODID:-//Dòng Chúa Cứu Thế Hải Ngoại - ECPv6.15.20//NONSGML v1.0//EN
CALSCALE:GREGORIAN
METHOD:PUBLISH
X-ORIGINAL-URL:https://dongchuacuuthe.us
X-WR-CALDESC:Events for Dòng Chúa Cứu Thế Hải Ngoại
REFRESH-INTERVAL;VALUE=DURATION:PT1H
X-Robots-Tag:noindex
X-PUBLISHED-TTL:PT1H
BEGIN:VTIMEZONE
TZID:America/Los_Angeles
BEGIN:DAYLIGHT
TZOFFSETFROM:-0800
TZOFFSETTO:-0700
TZNAME:PDT
DTSTART:20240310T100000
END:DAYLIGHT
BEGIN:STANDARD
TZOFFSETFROM:-0700
TZOFFSETTO:-0800
TZNAME:PST
DTSTART:20241103T090000
END:STANDARD
BEGIN:DAYLIGHT
TZOFFSETFROM:-0800
TZOFFSETTO:-0700
TZNAME:PDT
DTSTART:20250309T100000
END:DAYLIGHT
BEGIN:STANDARD
TZOFFSETFROM:-0700
TZOFFSETTO:-0800
TZNAME:PST
DTSTART:20251102T090000
END:STANDARD
BEGIN:DAYLIGHT
TZOFFSETFROM:-0800
TZOFFSETTO:-0700
TZNAME:PDT
DTSTART:20260308T100000
END:DAYLIGHT
BEGIN:STANDARD
TZOFFSETFROM:-0700
TZOFFSETTO:-0800
TZNAME:PST
DTSTART:20261101T090000
END:STANDARD
END:VTIMEZONE
BEGIN:VEVENT
DTSTART;VALUE=DATE:20250521
DTEND;VALUE=DATE:20250522
DTSTAMP:20260423T232919
CREATED:20250512T050703Z
LAST-MODIFIED:20250512T050703Z
UID:11868-1747785600-1747871999@dongchuacuuthe.us
SUMMARY:Thứ Tư Tuần V Phục Sinh
DESCRIPTION:Bài đọc Tiếng Anh\nBÀI ĐỌC I: Cv 15\, 1-6\n“Người ta quyết định là các ngài lên Giêrusalem xin các Tông đồ và niên trưởng giải quyết vấn đề này”. \nTrích sách Tông đồ Công vụ. \nTrong những ngày ấy\, có mấy người từ Giuđê đến dạy bảo các anh em rằng: “Nếu anh em không chịu cắt bì theo luật Môsê\, thì không được cứu độ”. Do đó\, Phaolô và Barnaba đã tranh luận gắt gao với họ. Bấy giờ người ta quyết định là Phaolô và Barnaba và một ít người khác thuộc phe họ lên Giêrusalem gặp các Tông đồ và niên trưởng để xin giải quyết vấn đề này. \nCác ngài được giáo đoàn tiễn đưa\, và khi đi ngang qua Phênixê và Samaria\, các ngài kể lại việc dân ngoại trở lại khiến mọi anh em đầy hân hoan. Khi đến Giêrusalem\, các ngài được giáo đoàn\, các Tông đồ và kỳ lão đón tiếp\, rồi các ngài kể lại bao nhiêu việc Thiên Chúa đã thực hiện với các ngài. Nhưng có mấy người tín hữu thuộc nhóm biệt phái đứng lên nói rằng: “Phải cắt bì cho những người dân ngoại và bắt họ cũng phải giữ luật Môsê”. Các Tông đồ và các kỳ lão họp lại cứu xét việc này. Đó là lời Chúa. \nĐÁP CA: Tv 121\, 1-2. 3-4a. 4b-5\nĐáp: Tôi vui mừng khi người ta nói với tôi: “Chúng ta sẽ tiến vào nhà Chúa”(c. 1). \nHoặc đọc: Alleluia. \nXướng: 1) Tôi vui mừng khi người ta nói với tôi: “Chúng ta sẽ tiến vào nhà Chúa”. Hỡi Giêrusalem\, chân chúng tôi đang đứng nơi cửa thành rồi. – Đáp. \n2) Giêrusalem được kiến thiết như thành trì\, được cấu tạo kiên cố trong toàn thể. Nơi đây các bộ lạc\, các bộ lạc của Chúa tiến lên. – Đáp. \n3) Theo luật pháp của Israel\, để ngợi khen danh Chúa. Tại đây đã đặt ngai toà thẩm phán\, ngai toà của nhà Đavít. – Đáp. \nALLELUIA: Ga 16\, 28\nAlleluia\, alleluia! – Thầy bởi Cha mà ra\, và đã đến trong thế gian; bây giờ Thầy lại bỏ thế gian mà về cùng Cha. – Alleluia. \nPHÚC ÂM: Ga 15\, 1-8\n“Ai ở trong Thầy\, và Thầy ở trong người ấy\, kẻ ấy sẽ sinh nhiều trái”. \nTin Mừng Chúa Giêsu Kitô theo Thánh Gioan. \nKhi ấy\, Chúa Giêsu phán cùng các môn đệ rằng: “Thầy là cây nho thật\, và Cha Thầy là người trồng nho. Nhành nào trong Thầy không sinh trái thì Người chặt đi\, còn nhành nào sinh trái thì Người tỉa sạch để nó sai trái hơn. Các con đã được tỉa sạch nhờ lời Thầy đã nói với các con. Các con ở trong Thầy\, và Thầy ở trong các con. Cũng như nhành nho tự nó không thể sinh trái được\, nếu không dính liền với cây nho; các con cũng vậy\, nếu không ở trong Thầy. Thầy là cây nho\, các con là nhành. Ai ở trong Thầy và Thầy ở trong người ấy\, kẻ ấy sẽ sinh nhiều trái\, vì không có Thầy\, các con không thể làm được gì. Ai không ở trong Thầy\, thì bị vứt ra ngoài như nhành nho\, và sẽ khô héo\, người ta sẽ thu lại\, quăng vào lửa cho nó cháy đi. Nếu các con ở trong Thầy\, và lời Thầy ở trong các con\, thì các con muốn gì\, cứ xin\, và sẽ được. Đây là điều làm Cha Thầy được vinh hiển là các con sinh nhiều trái\, và như thế các con trở nên môn đệ của Thầy”. Đó là lời Chúa.
URL:https://dongchuacuuthe.us/calendar/thu-tu-tuan-v-phuc-sinh/
END:VEVENT
END:VCALENDAR