BEGIN:VCALENDAR
VERSION:2.0
PRODID:-//Dòng Chúa Cứu Thế Hải Ngoại - ECPv6.15.20//NONSGML v1.0//EN
CALSCALE:GREGORIAN
METHOD:PUBLISH
X-ORIGINAL-URL:https://dongchuacuuthe.us
X-WR-CALDESC:Events for Dòng Chúa Cứu Thế Hải Ngoại
REFRESH-INTERVAL;VALUE=DURATION:PT1H
X-Robots-Tag:noindex
X-PUBLISHED-TTL:PT1H
BEGIN:VTIMEZONE
TZID:America/Los_Angeles
BEGIN:DAYLIGHT
TZOFFSETFROM:-0800
TZOFFSETTO:-0700
TZNAME:PDT
DTSTART:20240310T100000
END:DAYLIGHT
BEGIN:STANDARD
TZOFFSETFROM:-0700
TZOFFSETTO:-0800
TZNAME:PST
DTSTART:20241103T090000
END:STANDARD
BEGIN:DAYLIGHT
TZOFFSETFROM:-0800
TZOFFSETTO:-0700
TZNAME:PDT
DTSTART:20250309T100000
END:DAYLIGHT
BEGIN:STANDARD
TZOFFSETFROM:-0700
TZOFFSETTO:-0800
TZNAME:PST
DTSTART:20251102T090000
END:STANDARD
BEGIN:DAYLIGHT
TZOFFSETFROM:-0800
TZOFFSETTO:-0700
TZNAME:PDT
DTSTART:20260308T100000
END:DAYLIGHT
BEGIN:STANDARD
TZOFFSETFROM:-0700
TZOFFSETTO:-0800
TZNAME:PST
DTSTART:20261101T090000
END:STANDARD
END:VTIMEZONE
BEGIN:VEVENT
DTSTART;VALUE=DATE:20250520
DTEND;VALUE=DATE:20250521
DTSTAMP:20260423T232919
CREATED:20250512T050607Z
LAST-MODIFIED:20250512T050607Z
UID:11866-1747699200-1747785599@dongchuacuuthe.us
SUMMARY:Thứ Ba Tuần V Phục Sinh
DESCRIPTION:Bài đọc Tiếng Anh\nBÀI ĐỌC I: Cv 14\, 18-27 (Hl 19-28)\n“Các ngài thuật cho giáo đoàn nghe những gì Thiên Chúa đã làm với các ngài”. \nTrích sách Tông đồ Công vụ. \nTrong những ngày ấy\, có mấy người Do-thái từ Antiôkia và Icôniô đến xúi giục dân chúng. Họ ném đá Phaolô\, và tưởng rằng Phaolô đã chết\, nên kéo ngài ra bỏ ngoài thành. Nhưng đang khi các môn đồ đứng xung quanh ngài\, ngài liền chỗi dậy đi vào thành\, và hôm sau\, ngài cùng Barnaba đi sang Đerbê. Khi đã rao giảng Tin Mừng cho thành này và dạy dỗ được nhiều người\, các ngài trở lại Lystra\, Icôniô và Antiôkia\, củng cố tinh thần các môn đồ\, khuyên bảo họ giữ vững đức tin mà rằng: “Chúng ta phải trải qua nhiều nỗi gian truân mới được vào nước Thiên Chúa”. Nơi mỗi hội thánh\, các ngài đặt những vị niên trưởng\, rồi ăn chay cầu nguyện\, trao phó họ cho Chúa là Đấng họ tin theo. \nSau đó\, các ngài sang Pisiđia\, đi đến Pamphylia. Sau khi rao giảng lời Chúa tại Perghê\, các ngài xuống Attilia\, rồi từ đó xuống tàu trở về Antiôkia\, nơi mà trước đây các ngài đã được trao phó cho ơn Chúa để làm công việc các ngài mới hoàn thành. Khi đến nơi\, các ngài tụ họp giáo đoàn\, thuật cho họ nghe những gì Thiên Chúa đã làm với các ngài và đã mở lòng cho nhiều dân ngoại nhận biết đức tin. Các ngài còn ở lại đó với môn đồ trong một thời gian lâu dài. Đó là lời Chúa. \nĐÁP CA: Tv 144\, 10-11. 12-13ab. 21\nĐáp: Lạy Chúa\, các bạn hữu Chúa nhận biết vinh quang nước Chúa (x. c. 12a). \nHoặc đọc: Alleluia. \nXướng: 1) Lạy Chúa\, mọi công cuộc của Chúa hãy ca ngợi Chúa\, và các thánh nhân của Ngài hãy chúc tụng Ngài. Thiên hạ hãy nói lên vinh quang nước Chúa\, và hãy đề cao quyền năng của Ngài. – Đáp. \n2) Để con cái loài người nhận biết quyền năng và vinh quang cao cả nước Chúa. Nước Ngài là nước vĩnh cửu muôn đời\, chủ quyền Ngài tồn tại qua muôn thế hệ. – Đáp. \n3) Miệng tôi hãy xướng lời ca ngợi khen Chúa\, mọi loài huyết nhục hãy chúc tụng danh Chúa tới muôn đời. – Đáp. \nALLELUIA: Ga 16\, 28\nAlleluia\, alleluia! – Thầy bởi Cha mà ra\, và đã đến trong thế gian\, bây giờ Thầy lại bỏ thế gian mà về cùng Cha. – Alleluia. \nPHÚC ÂM: Ga 14\, 27-31a\n“Thầy ban bình an của Thầy cho các con”. \nTin Mừng Chúa Giêsu Kitô theo Thánh Gioan. \nKhi ấy\, Chúa Giêsu phán cùng các môn đệ rằng: “Thầy để lại bình an cho các con\, Thầy ban bình an của Thầy cho các con. Thầy ban cho các con không như thế gian ban tặng. Lòng các con đừng xao xuyến và đừng sợ hãi. Các con đã nghe Thầy nói với các con rằng: Thầy đi\, rồi Thầy sẽ trở lại với các con. Nếu các con yêu mến Thầy\, thì các con hãy vui mừng vì Thầy về với Cha\, bởi lẽ Cha trọng hơn Thầy. Giờ đây Thầy nói với các con trước khi việc xảy ra\, để khi việc xảy ra\, thì các con tin. Thầy không còn nói nhiều với các con nữa\, vì thủ lãnh thế gian đã đến. Nó không có quyền lực gì đối với Thầy. Nhưng để cho thế gian biết rằng Thầy yêu mến Cha\, thì Thầy làm như Cha đã truyền dạy”. Đó là lời Chúa.
URL:https://dongchuacuuthe.us/calendar/thu-ba-tuan-v-phuc-sinh-2/
END:VEVENT
END:VCALENDAR