BEGIN:VCALENDAR
VERSION:2.0
PRODID:-//Dòng Chúa Cứu Thế Hải Ngoại - ECPv6.15.20//NONSGML v1.0//EN
CALSCALE:GREGORIAN
METHOD:PUBLISH
X-WR-CALNAME:Dòng Chúa Cứu Thế Hải Ngoại
X-ORIGINAL-URL:https://dongchuacuuthe.us
X-WR-CALDESC:Events for Dòng Chúa Cứu Thế Hải Ngoại
REFRESH-INTERVAL;VALUE=DURATION:PT1H
X-Robots-Tag:noindex
X-PUBLISHED-TTL:PT1H
BEGIN:VTIMEZONE
TZID:America/Los_Angeles
BEGIN:DAYLIGHT
TZOFFSETFROM:-0800
TZOFFSETTO:-0700
TZNAME:PDT
DTSTART:20240310T100000
END:DAYLIGHT
BEGIN:STANDARD
TZOFFSETFROM:-0700
TZOFFSETTO:-0800
TZNAME:PST
DTSTART:20241103T090000
END:STANDARD
BEGIN:DAYLIGHT
TZOFFSETFROM:-0800
TZOFFSETTO:-0700
TZNAME:PDT
DTSTART:20250309T100000
END:DAYLIGHT
BEGIN:STANDARD
TZOFFSETFROM:-0700
TZOFFSETTO:-0800
TZNAME:PST
DTSTART:20251102T090000
END:STANDARD
BEGIN:DAYLIGHT
TZOFFSETFROM:-0800
TZOFFSETTO:-0700
TZNAME:PDT
DTSTART:20260308T100000
END:DAYLIGHT
BEGIN:STANDARD
TZOFFSETFROM:-0700
TZOFFSETTO:-0800
TZNAME:PST
DTSTART:20261101T090000
END:STANDARD
END:VTIMEZONE
BEGIN:VEVENT
DTSTART;VALUE=DATE:20250518
DTEND;VALUE=DATE:20250519
DTSTAMP:20260423T232913
CREATED:20250512T050340Z
LAST-MODIFIED:20250518T012552Z
UID:11861-1747526400-1747612799@dongchuacuuthe.us
SUMMARY:Chúa Nhật Tuần V Phục Sinh Năm C
DESCRIPTION:Bài đọc Tiếng Anh\nBÀI ĐỌC I: Cv 14\, 20b-26 (Hl 21-27) \n“Các ngài thuật lại những gì Thiên Chúa đã làm với các ngài”.  \nTrích sách Tông đồ Công vụ. \nTrong những ngày ấy\, Phaolô và Barnaba trở lại Lystra\, Icôniô và Antiôkia\, củng cố tinh thần các môn đồ\, khuyên bảo họ giữ vững đức tin mà rằng: “Chúng ta phải trải qua nhiều nỗi gian truân mới được vào nước Thiên Chúa”. Nơi mỗi hội thánh\, các ngài đặt những vị niên trưởng\, rồi ăn chay cầu nguyện\, trao phó họ cho Chúa là Đấng họ tin theo.  \nSau đó\, các ngài sang Pisiđia\, đi đến Pamphylia. Sau khi rao giảng lời Chúa tại Perghê\, các ngài xuống Attilia\, rồi từ đó xuống tàu trở về Antiôkia\, nơi mà trước đây các ngài đã được trao phó cho ơn Chúa để làm công việc các ngài mới hoàn thành. Khi đến nơi\, các ngài tụ họp giáo đoàn\, thuật cho họ nghe những gì Thiên Chúa đã làm với các ngài và đã mở lòng cho nhiều dân ngoại nhận biết đức tin. Đó là lời Chúa. \nĐÁP CA: Tv 144\, 8-9. 10-11. 12-13ab \nĐáp: Lạy Chúa con\, lạy Thiên Chúa\, con sẽ chúc tụng danh Chúa đến muôn đời (c. 1). \nHoặc đọc: Alleluia. \nXướng: 1) Chúa nhân ái và từ bi\, chậm bất bình và giàu ân sủng. Chúa hảo tâm với hết mọi loài\, và từ bi với mọi công cuộc của Chúa. – Đáp.  \n2) Lạy Chúa\, mọi công cuộc của Chúa hãy ca ngợi Chúa\, và các thánh nhân của Ngài hãy chúc tụng Ngài. Thiên hạ hãy nói lên vinh quang nước Chúa\, và hãy đề cao quyền năng của Ngài. – Đáp. \n3) Để con cái loài người nhận biết quyền năng và vinh quang cao cả nước Chúa. Nước Ngài là nước vĩnh cửu muôn đời\, chủ quyền Ngài tồn tại qua muôn thế hệ. – Đáp. \nBÀI ĐỌC II: Kh 21\, 1-5a \n“Thiên Chúa sẽ lau khô mọi giọt lệ ở mắt họ”. \nTrích sách Khải Huyền của Thánh Gioan. \nTôi là Gioan đã thấy trời mới và đất mới. Vì trời cũ và đất cũ đã qua đi\, và biển cũng không còn nữa. Và tôi là Gioan đã thấy thành thánh Giêrusalem mới\, tự trời xuống\, từ nơi Thiên Chúa: tề chỉnh như tân nương được trang điểm cho tân lang của mình. Và tôi nghe có tiếng lớn tự ngai vàng phán ra: “Đây là Thiên Chúa ở với loài người\, và chính Thiên Chúa sẽ ở với họ. Người sẽ lau khô mọi giọt lệ ở mắt họ. Sự chết chóc sẽ không còn nữa\, cũng không còn than khóc\, không còn kêu la\, không còn đau khổ: bởi vì các việc cũ đã qua đi”. Và Đấng ngự trên ngai vàng đã phán rằng: “Này đây\, Ta đổi mới mọi sự”. Đó là lời Chúa. \nALLELUIA: Ga 13\, 34 \nAlleluia\, alleluia! – Chúa phán: “Thầy ban cho các con điều răn mới\, là các con hãy yêu thương nhau\, như Thầy đã yêu thương các con”. – Alleluia. \nPHÚC ÂM: Ga 13\, 31-33a. 34-35 \n“Thầy ban cho các con điều răn mới\, là các con hãy yêu thương nhau”. \nTin Mừng Chúa Giêsu Kitô theo Thánh Gioan. \nKhi Giuđa ra khỏi phòng tiệc\, Chúa Giêsu liền phán: “Bây giờ Con Người được vinh hiển và Thiên Chúa được vinh hiển nơi Người. Nếu Thiên Chúa được vinh hiển nơi Người\, thì Thiên Chúa lại cho Người được vinh hiển nơi chính mình\, và Thiên Chúa sẽ cho Người được vinh hiển.  \n“Các con yêu quý\, Thầy chỉ còn ở với các con một ít nữa thôi. Thầy ban cho các con điều răn mới\, là các con hãy yêu thương nhau. Như Thầy đã yêu thương các con\, thì các con cũng hãy yêu thương nhau. Căn cứ vào điều này mà mọi người nhận biết các con là môn đệ của Thầy\, là nếu các con yêu thương nhau”. Đó là lời Chúa.
URL:https://dongchuacuuthe.us/calendar/chua-nhat-tuan-v-phuc-sinh-nam-c/
END:VEVENT
END:VCALENDAR