BEGIN:VCALENDAR
VERSION:2.0
PRODID:-//Dòng Chúa Cứu Thế Hải Ngoại - ECPv6.15.20//NONSGML v1.0//EN
CALSCALE:GREGORIAN
METHOD:PUBLISH
X-ORIGINAL-URL:https://dongchuacuuthe.us
X-WR-CALDESC:Events for Dòng Chúa Cứu Thế Hải Ngoại
REFRESH-INTERVAL;VALUE=DURATION:PT1H
X-Robots-Tag:noindex
X-PUBLISHED-TTL:PT1H
BEGIN:VTIMEZONE
TZID:America/Los_Angeles
BEGIN:DAYLIGHT
TZOFFSETFROM:-0800
TZOFFSETTO:-0700
TZNAME:PDT
DTSTART:20240310T100000
END:DAYLIGHT
BEGIN:STANDARD
TZOFFSETFROM:-0700
TZOFFSETTO:-0800
TZNAME:PST
DTSTART:20241103T090000
END:STANDARD
BEGIN:DAYLIGHT
TZOFFSETFROM:-0800
TZOFFSETTO:-0700
TZNAME:PDT
DTSTART:20250309T100000
END:DAYLIGHT
BEGIN:STANDARD
TZOFFSETFROM:-0700
TZOFFSETTO:-0800
TZNAME:PST
DTSTART:20251102T090000
END:STANDARD
BEGIN:DAYLIGHT
TZOFFSETFROM:-0800
TZOFFSETTO:-0700
TZNAME:PDT
DTSTART:20260308T100000
END:DAYLIGHT
BEGIN:STANDARD
TZOFFSETFROM:-0700
TZOFFSETTO:-0800
TZNAME:PST
DTSTART:20261101T090000
END:STANDARD
END:VTIMEZONE
BEGIN:VEVENT
DTSTART;VALUE=DATE:20250517
DTEND;VALUE=DATE:20250518
DTSTAMP:20260423T232911
CREATED:20250512T050243Z
LAST-MODIFIED:20250512T050243Z
UID:11859-1747440000-1747526399@dongchuacuuthe.us
SUMMARY:Thứ Bảy Tuần IV Phục Sinh
DESCRIPTION:Bài đọc Tiếng Anh\nBÀI ĐỌC I: Cv 13\, 44-52\n“Đây chúng tôi quay về phía các dân ngoại”. \nTrích sách Tông đồ Công vụ. \nĐến ngày Sabbat sau\, hầu hết cả thành đều đến nghe lời Thiên Chúa. Các người Do-thái thấy đám đông dân chúng\, thì đâm ghen tương\, nói lộng ngôn\, chống lại các điều Phaolô giảng dạy. Phaolô và Barnaba can đảm nói rằng: “Phải giảng lời Thiên Chúa cho các ngươi trước tiên\, nhưng vì các ngươi từ chối lời Thiên Chúa và tự cho mình không xứng đáng sống đời đời\, thì đây chúng tôi quay về phía các dân ngoại; vả lại Chúa đã truyền lệnh cho chúng tôi rằng: ‘Ta đặt ngươi làm ánh sáng muôn dân\, để ngươi nên ơn cứu độ cho đến tận cùng trái đất’ “. Nghe vậy\, các dân ngoại hân hoan ca tụng lời Chúa; những ai được Chúa tiền định hưởng sự sống đời đời\, thì tin theo\, nên lời Chúa được rao giảng khắp cả vùng. \nNhững người Do-thái xúi giục các phụ nữ khá giả đã tòng giáo\, các thân hào trong thành\, bắt bớ Phaolô và Barnaba\, rồi trục xuất hai ngài ra khỏi ranh giới xứ họ. Còn hai ngài\, sau khi phủi bụi chân lại cho họ\, hai ngài đi đến Icôniô. Còn các môn đồ thì đầy hân hoan và Thánh Thần. Đó là lời Chúa. \nĐÁP CA: Tv 97\, 1. 2-3ab. 3cd-4\nĐáp: Khắp nơi bờ cõi địa cầu đã nhìn thấy ơn cứu độ của Thiên Chúa chúng ta (c. 3c). \nHoặc đọc: Alleluia. \nXướng: 1) Hãy ca mừng Chúa một bài ca mới\, vì Người đã làm nên những điều huyền diệu. Tay hữu Người đã tạo cho Người cuộc chiến thắng\, cùng với cánh tay thánh thiện của Người. – Đáp. \n2) Chúa đã công bố ơn cứu độ của Người\, trước mặt chư dân Người tỏ rõ đức công minh. Người đã nhớ lại lòng nhân hậu và trung thành để sủng ái nhà Israel. – Đáp. \n3) Khắp nơi bờ cõi địa cầu đã nhìn thấy ơn cứu độ của Thiên Chúa chúng ta. Toàn thể địa cầu hãy reo mừng Chúa\, hãy hoan hỉ\, mừng vui và đàn ca. – Đáp. \nALLELUIA: Cl 3\, 1\nAlleluia\, alleluia! – Nếu anh em sống lại làm một với Đức Kitô\, thì anh em hãy tìm kiếm những sự cao siêu trên trời\, nơi Đức Kitô đang ngự bên hữu Thiên Chúa. – Alleluia. \nPHÚC ÂM: Ga 14\, 7-14\n“Ai thấy Thầy là xem thấy Cha”. \nTin Mừng Chúa Giêsu Kitô theo Thánh Gioan. \nKhi ấy\, Chúa Giêsu phán cùng các môn đệ rằng: “Nếu các con biết Thầy\, thì cũng biết Cha Thầy. Ngay từ bây giờ\, các con biết và đã xem thấy Người”. \nPhilipphê thưa: “Lạy Thầy\, xin tỏ cho chúng con xem thấy Cha và như thế là đủ cho chúng con”. Chúa Giêsu nói cùng ông rằng: “Philipphê\, Thầy ở với các con bấy lâu rồi\, thế mà con chưa biết Thầy ư? Ai thấy Thầy là xem thấy Cha. Sao con lại nói: Xin tỏ cho chúng con xem thấy Cha? Con không tin rằng Thầy ở trong Cha và Cha ở trong Thầy ư? Những điều Thầy nói với các con\, không phải tự mình mà nói\, nhưng chính Cha ở trong Thầy\, Ngài làm mọi việc. Các con hãy tin rằng Thầy ở trong Cha\, và Cha ở trong Thầy. Ít ra các con hãy tin\, vì các việc Thầy đã làm. Thật\, Thầy bảo thật các con: Ai tin vào Thầy\, người ấy sẽ làm được những việc Thầy đã làm; người ấy còn làm được những việc lớn lao hơn\, vì Thầy về với Cha. Và điều gì các con nhân danh Thầy mà xin Cha\, Thầy sẽ làm\, để Cha được vinh hiển trong Con. Nếu điều gì các con nhân danh Thầy mà xin cùng Thầy\, Thầy sẽ làm cho”. Đó là lời Chúa.
URL:https://dongchuacuuthe.us/calendar/thu-bay-tuan-iv-phuc-sinh-2/
END:VEVENT
END:VCALENDAR