BEGIN:VCALENDAR
VERSION:2.0
PRODID:-//Dòng Chúa Cứu Thế Hải Ngoại - ECPv6.15.20//NONSGML v1.0//EN
CALSCALE:GREGORIAN
METHOD:PUBLISH
X-ORIGINAL-URL:https://dongchuacuuthe.us
X-WR-CALDESC:Events for Dòng Chúa Cứu Thế Hải Ngoại
REFRESH-INTERVAL;VALUE=DURATION:PT1H
X-Robots-Tag:noindex
X-PUBLISHED-TTL:PT1H
BEGIN:VTIMEZONE
TZID:America/Los_Angeles
BEGIN:DAYLIGHT
TZOFFSETFROM:-0800
TZOFFSETTO:-0700
TZNAME:PDT
DTSTART:20240310T100000
END:DAYLIGHT
BEGIN:STANDARD
TZOFFSETFROM:-0700
TZOFFSETTO:-0800
TZNAME:PST
DTSTART:20241103T090000
END:STANDARD
BEGIN:DAYLIGHT
TZOFFSETFROM:-0800
TZOFFSETTO:-0700
TZNAME:PDT
DTSTART:20250309T100000
END:DAYLIGHT
BEGIN:STANDARD
TZOFFSETFROM:-0700
TZOFFSETTO:-0800
TZNAME:PST
DTSTART:20251102T090000
END:STANDARD
BEGIN:DAYLIGHT
TZOFFSETFROM:-0800
TZOFFSETTO:-0700
TZNAME:PDT
DTSTART:20260308T100000
END:DAYLIGHT
BEGIN:STANDARD
TZOFFSETFROM:-0700
TZOFFSETTO:-0800
TZNAME:PST
DTSTART:20261101T090000
END:STANDARD
END:VTIMEZONE
BEGIN:VEVENT
DTSTART;VALUE=DATE:20250303
DTEND;VALUE=DATE:20250304
DTSTAMP:20260424T021942
CREATED:20250223T223401Z
LAST-MODIFIED:20250223T223401Z
UID:11369-1740960000-1741046399@dongchuacuuthe.us
SUMMARY:Thứ Hai Tuần VIII Thường Niên Năm I
DESCRIPTION:BÀI ĐỌC I: Hc 17\, 20-28 (Hl 19-27) \n“Hãy trở về với Thiên Chúa và hãy nhận biết công minh của Người”. \nTrích sách Huấn Ca. \nThiên Chúa đã ban đường công chính cho người sám hối\, nâng đỡ những kẻ mất niềm tin\, và hướng dẫn họ đi vào đường chân lý.  \nHãy trở về với Thiên Chúa và hãy từ bỏ tội lỗi. Hãy kêu cầu trước tôn nhan Chúa\, hãy chấm dứt những điều xúc phạm\, hãy trở về cùng Chúa\, hãy lánh xa những điều gian ác\, và hãy chê ghét những điều xấu xa. Hãy nhận biết công minh và sự xét xử của Thiên Chúa. Hãy đứng vững và cầu xin với Thiên Chúa Tối Cao.  \nHãy thông công vào đời sống các thánh\, và cùng với kẻ sống hãy xưng tụng Thiên Chúa. Đừng ỷ lại vào sự sai lầm của bọn gian ác. Hãy thú nhận tội lỗi trước khi chết\, vì chết rồi\, thì không còn thú tội được nữa. Ngươi hãy thú nhận tội lỗi khi còn sống\, hãy thú nhận tội lỗi khi còn sống và còn khoẻ mạnh.  \nHãy ca tụng Thiên Chúa và ngươi sẽ được vinh hiển trong tình xót thương của Người. Lòng nhân lành của Chúa và sự tha thứ của Người đối với những kẻ trở lại với Người thật lớn lao dường nào! Đó là lời Chúa. \nĐÁP CA: Tv 31\, 1-2. 5. 6. 7 \nĐáp: Chư vị hiền nhân\, hãy vui mừng hân hoan trong Chúa (c. 11a). \nXướng: 1) Phúc thay người được tha thứ lỗi lầm\, và tội phạm của người được ơn che đậy. Phúc thay người mà Chúa không trách cứ lỗi lầm\, và trong lòng người đó chẳng có mưu gian. – Đáp. \n2) Tôi xưng ra cùng Chúa tội phạm của tôi\, và lỗi lầm của tôi\, tôi đã không che giấu. Tôi nói: “Tôi thú thực cùng Chúa điều gian ác của tôi\, và Chúa đã tha thứ tội lỗi cho tôi”. – Đáp. \n3) Bởi thế nên mọi người tín hữu sẽ nguyện cầu cùng Chúa\, trong thời buổi khốn khó gian truân. Khi sóng cả ba đào ập tới\, chúng sẽ không hại nổi những người Này. – Đáp. \n4) Chúa là chỗ dung thân\, Chúa giữ tôi khỏi điều nguy khổ; Chúa đùm bọc tôi trong niềm vui ơn cứu độ. – Đáp. \nALLELUIA: Ga 1\, 14 và 12b \nAlleluia\, alleluia! – Lạy Chúa\, xin hãy phán vì tôi tớ Chúa đang nghe; Chúa có lời ban sự sống đời đời. – Alleluia. \nPHÚC ÂM: Mc 10\, 17-27 \n“Ngươi hãy đi bán tất cả gia tài rồi đến theo Ta”. \nTin Mừng Chúa Giêsu Kitô theo Thánh Marcô. \nKhi ấy\, Chúa Giêsu vừa lên đường\, thì một người chạy lại\, quỳ gối xuống trước Người và hỏi: “Lạy Thầy nhân lành\, tôi phải làm gì để được sống đời đời?” Chúa Giêsu trả lời: “Sao ngươi gọi Ta là nhân lành? Chẳng có ai là nhân lành\, trừ một mình Thiên Chúa. Ngươi đã biết các giới răn: đừng ngoại tình\, đừng giết người\, đừng trộm cắp\, đừng làm chứng gian\, đừng lường gạt\, hãy thảo kính cha mẹ”. Người ấy thưa: “Lạy Thầy\, những điều đó tôi đã giữ từ thuở nhỏ”. Bấy giờ Chúa Giêsu chăm chú nhìn người ấy và đem lòng thương mà bảo rằng: “Ngươi chỉ còn thiếu một điều là ngươi hãy đi bán tất cả gia tài\, đem bố thí cho người nghèo khó và ngươi sẽ có một kho báu trên trời\, rồi đến theo Ta”. Nhưng người ấy nghe những lời đó\, thì sụ nét mặt và buồn rầu bỏ đi\, vì anh ta có nhiều của cải. Lúc đó Chúa Giêsu nhìn chung quanh\, và bảo các môn đệ rằng: “Những người giàu có vào nước Thiên Chúa khó biết bao”. Các môn đệ kinh ngạc vì những lời đó. Nhưng Chúa Giêsu lại nói tiếp và bảo các ông rằng: “Hỡi các con\, những kẻ cậy dựa vào tiền bạc\, thật khó mà vào nước Thiên Chúa biết bao. Con lạc đà chui qua lỗ kim còn dễ hơn người giàu có vào nước Thiên Chúa”.  \nCác ông càng kinh ngạc hỏi nhau rằng: “Như vậy thì ai có thể được cứu độ?” Chúa Giêsu chăm chú nhìn các ông\, và nói: “Đối với loài người thì không thể được\, nhưng không phải đối với Thiên Chúa\, vì Thiên Chúa làm được mọi sự”. Đó là lời Chúa.
URL:https://dongchuacuuthe.us/calendar/thu-hai-tuan-viii-thuong-nien-nam-i/
END:VEVENT
END:VCALENDAR