BEGIN:VCALENDAR
VERSION:2.0
PRODID:-//Dòng Chúa Cứu Thế Hải Ngoại - ECPv6.15.20//NONSGML v1.0//EN
CALSCALE:GREGORIAN
METHOD:PUBLISH
X-ORIGINAL-URL:https://dongchuacuuthe.us
X-WR-CALDESC:Events for Dòng Chúa Cứu Thế Hải Ngoại
REFRESH-INTERVAL;VALUE=DURATION:PT1H
X-Robots-Tag:noindex
X-PUBLISHED-TTL:PT1H
BEGIN:VTIMEZONE
TZID:America/Los_Angeles
BEGIN:DAYLIGHT
TZOFFSETFROM:-0800
TZOFFSETTO:-0700
TZNAME:PDT
DTSTART:20240310T100000
END:DAYLIGHT
BEGIN:STANDARD
TZOFFSETFROM:-0700
TZOFFSETTO:-0800
TZNAME:PST
DTSTART:20241103T090000
END:STANDARD
BEGIN:DAYLIGHT
TZOFFSETFROM:-0800
TZOFFSETTO:-0700
TZNAME:PDT
DTSTART:20250309T100000
END:DAYLIGHT
BEGIN:STANDARD
TZOFFSETFROM:-0700
TZOFFSETTO:-0800
TZNAME:PST
DTSTART:20251102T090000
END:STANDARD
BEGIN:DAYLIGHT
TZOFFSETFROM:-0800
TZOFFSETTO:-0700
TZNAME:PDT
DTSTART:20260308T100000
END:DAYLIGHT
BEGIN:STANDARD
TZOFFSETFROM:-0700
TZOFFSETTO:-0800
TZNAME:PST
DTSTART:20261101T090000
END:STANDARD
END:VTIMEZONE
BEGIN:VEVENT
DTSTART;VALUE=DATE:20250226
DTEND;VALUE=DATE:20250227
DTSTAMP:20260424T021842
CREATED:20250208T215023Z
LAST-MODIFIED:20250208T215023Z
UID:11319-1740528000-1740614399@dongchuacuuthe.us
SUMMARY:Thứ Tư Tuần VII - Mùa Thường Niên
DESCRIPTION:Bài đọc 1         Hc 4\,11-19 \nAi yêu mến khôn ngoan\, thì được Đức Chúa mến yêu. \nBài trích sách Huấn ca. \n11Khôn ngoan làm cho con cái mình nên cao trọng\,\nvà săn sóc những ai kiếm tìm mình.\n12Ai yêu khôn ngoan là yêu sự sống\,\nai sớm tìm kiếm khôn ngoan sẽ tràn trề hoan lạc.\n13Người nắm được khôn ngoan\nsẽ được vinh quang làm gia nghiệp\,\nđi tới đâu\, họ cũng được Đức Chúa ban phúc lành.\n14Ai phụng sự khôn ngoan thì cũng phụng thờ Đấng Thánh\,\nvà ai yêu mến khôn ngoan thì được Đức Chúa mến yêu.\n15Người nghe theo khôn ngoan\, thì xét xử chư dân\,\nai gắn bó với khôn ngoan sẽ định cư yên hàn.\n16Ai tin tưởng vào khôn ngoan\,\nsẽ được khôn ngoan làm gia nghiệp\nvà dòng dõi họ cũng sẽ được thừa hưởng.\n17Vì ban đầu\, khôn ngoan sẽ đồng hành với họ\nqua nẻo đường quanh co\,\ngiáng xuống trên họ hãi hùng run rẩy\,\nvà dùng kỷ luật của mình mà tôi luyện\nbao lâu chưa tin tưởng họ được ;\nrồi lại thử thách họ qua những phán quyết của mình.\n18Sau đó\, khôn ngoan sẽ trở lại với họ trên con đường thẳng\,\nkhiến họ được mừng vui\,\nvà khôn ngoan mặc khải cho họ những bí nhiệm của mình.\n19Nếu người ấy lầm lạc thì khôn ngoan sẽ bỏ rơi họ\,\nvà để mặc cho họ sụp đổ. \nĐáp ca     Tv 118\,165 và 168.171-172.174-175 (Đ. c.165a) \nĐ.Lạy Chúa\, kẻ yêu luật Chúa hưởng an bình thư thái. \n165Kẻ yêu luật Chúa hưởng an bình thư thái\,\nchẳng còn lo gặp chướng ngại nào.\n168Đường con Chúa rõ mười mươi\,\nhuấn lệnh\, thánh ý\, con thời vâng theo. \nĐ.Lạy Chúa\, kẻ yêu luật Chúa hưởng an bình thư thái. \n171Môi này nguyện trào dâng câu tán tụng\,\nvì Ngài dạy thánh chỉ cho con.\n172Lời hứa của Ngài\, miệng con xin mừng hát\,\nmệnh lệnh của Ngài thảy đều công minh. \nĐ.Lạy Chúa\, kẻ yêu luật Chúa hưởng an bình thư thái. \n174Lạy Chúa\, con khát mong ơn Ngài cứu độ\,\nluật Ngài làm con vui sướng thoả thuê.\n175Ước gì con sống để dâng Ngài lời ca tụng\,\ncầu mong quyết định của Ngài phù hộ con. \nĐ.Lạy Chúa\, kẻ yêu luật Chúa hưởng an bình thư thái. \nTung hô Tin Mừng   Ga 14\,6 \nHa-lê-lui-a. Ha-lê-lui-a. \nChúa nói : Chính Thầy là con đường\,\nlà sự thật và là sự sống.\nKhông ai có thể đến với Chúa Cha mà không qua Thầy. \nHa-lê-lui-a. \n\n\n\n\n\nTIN MỪNG NGÀY HÔM NAY\n\n\n\nAi không chống lại chúng ta là ủng hộ chúng ta. \n✠Tin Mừng Chúa Giê-su Ki-tô theo thánh Mác-cô.       Mc 9\,38-40 \n38 Khi ấy\, ông Gio-an nói với Đức Giê-su rằng : “Thưa Thầy\, chúng con thấy có người lấy danh Thầy mà trừ quỷ. Chúng con đã cố ngăn cản\, vì người ấy không theo chúng ta.” 39 Đức Giê-su bảo : “Đừng ngăn cản người ta\, vì không ai lấy danh nghĩa Thầy mà làm phép lạ\, rồi ngay sau đó lại có thể nói xấu về Thầy. 40 Quả thật\, ai không chống lại chúng ta là ủng hộ chúng ta.”
URL:https://dongchuacuuthe.us/calendar/thu-tu-tuan-vii-mua-thuong-nien/
END:VEVENT
END:VCALENDAR