BEGIN:VCALENDAR
VERSION:2.0
PRODID:-//Dòng Chúa Cứu Thế Hải Ngoại - ECPv6.15.20//NONSGML v1.0//EN
CALSCALE:GREGORIAN
METHOD:PUBLISH
X-ORIGINAL-URL:https://dongchuacuuthe.us
X-WR-CALDESC:Events for Dòng Chúa Cứu Thế Hải Ngoại
REFRESH-INTERVAL;VALUE=DURATION:PT1H
X-Robots-Tag:noindex
X-PUBLISHED-TTL:PT1H
BEGIN:VTIMEZONE
TZID:America/Los_Angeles
BEGIN:DAYLIGHT
TZOFFSETFROM:-0800
TZOFFSETTO:-0700
TZNAME:PDT
DTSTART:20240310T100000
END:DAYLIGHT
BEGIN:STANDARD
TZOFFSETFROM:-0700
TZOFFSETTO:-0800
TZNAME:PST
DTSTART:20241103T090000
END:STANDARD
BEGIN:DAYLIGHT
TZOFFSETFROM:-0800
TZOFFSETTO:-0700
TZNAME:PDT
DTSTART:20250309T100000
END:DAYLIGHT
BEGIN:STANDARD
TZOFFSETFROM:-0700
TZOFFSETTO:-0800
TZNAME:PST
DTSTART:20251102T090000
END:STANDARD
BEGIN:DAYLIGHT
TZOFFSETFROM:-0800
TZOFFSETTO:-0700
TZNAME:PDT
DTSTART:20260308T100000
END:DAYLIGHT
BEGIN:STANDARD
TZOFFSETFROM:-0700
TZOFFSETTO:-0800
TZNAME:PST
DTSTART:20261101T090000
END:STANDARD
END:VTIMEZONE
BEGIN:VEVENT
DTSTART;VALUE=DATE:20250225
DTEND;VALUE=DATE:20250226
DTSTAMP:20260424T021842
CREATED:20250208T214944Z
LAST-MODIFIED:20250208T214944Z
UID:11317-1740441600-1740527999@dongchuacuuthe.us
SUMMARY:Thứ Ba Tuần VII - Mùa Thường Niên
DESCRIPTION:Bài đọc 1         Hc 2\,1-11 \nCon hãy chuẩn bị tâm hồn để đón chịu thử thách. \nBài trích sách Huấn ca. \n1Con ơi\, nếu con muốn dấn thân phụng sự Đức Chúa\,\nthì con hãy chuẩn bị tâm hồn để đón chịu thử thách.\n2Hãy giữ lòng cho ngay thẳng và cứ kiên trì\,\nđừng bấn loạn khi con gặp khốn khổ.\n3Hãy bám lấy Người chứ đừng lìa bỏ\,\nđể cuối đời\, con được cất nhắc lên.\n4Mọi chuyện xảy đến cho con\, con hãy chấp nhận\,\nvà trải qua bao thăng trầm\, con hãy cứ kiên nhẫn.\n5Vì vàng phải được tôi luyện trong lửa\,\ncòn những người sáng giá\nthì phải được thử trong lò ô nhục.\n6Hãy tin vào Người\, thì Người sẽ nâng đỡ con.\nĐường con đi\, hãy giữ cho ngay thẳng và trông cậy vào Người.\n7Hỡi ai kính sợ Đức Chúa\,\nhãy trông đợi lòng lân tuất của Người\,\nđừng lìa xa Người kẻo ngã.\n8Hỡi ai kính sợ Đức Chúa\, hãy tin vào Người\,\nvà các bạn sẽ không mất phần thưởng đâu.\n9Hỡi ai kính sợ Đức Chúa\, hãy đợi trông ơn lành\,\nniềm vui không cùng và lòng thương xót.\n10Hãy nhìn lại các thế hệ ban đầu mà xem :\nnào có ai tin vào Đức Chúa mà bị hổ thẹn bao giờ ?\nHay có ai bền tâm kính sợ Người mà bị bỏ rơi ?\nHoặc có ai kêu cầu Người mà bị Người khinh dể ?\n11Vì Đức Chúa là Đấng nhân từ và hay thương xót :\nNgười thứ tha tội lỗi và cứu vớt trong lúc gian truân. \nĐáp ca     Tv 36\,3-4.18-19.27-28.39-40 (Đ. x. c.5) \nĐ.Hãy ký thác đường đời cho Chúa\, chính Người sẽ ra tay. \n3Cứ tin tưởng vào Chúa và làm điều thiện\,\nthì sẽ được ở trong đất nước và sống yên hàn.\n4Hãy lấy Chúa làm niềm vui của bạn\,\nNgười sẽ cho được phỉ chí toại lòng. \nĐ.Hãy ký thác đường đời cho Chúa\, chính Người sẽ ra tay. \n18Chúa chăm sóc cuộc đời người thiện hảo\,\ngia nghiệp họ tồn tại đến muôn năm.\n19Buổi gian nan họ không hề hổ thẹn\,\nngày đói kém lại được no đầy. \nĐ.Hãy ký thác đường đời cho Chúa\, chính Người sẽ ra tay. \n27Hãy làm lành lánh dữ\, bạn sẽ được một nơi ở muôn đời.\n28Bởi vì Chúa yêu thích điều chính trực\,\nchẳng bỏ rơi những bậc hiếu trung. \nĐ.Hãy ký thác đường đời cho Chúa\, chính Người sẽ ra tay. \n39Chính nhân được Chúa thương cứu độ\nvà bảo vệ chở che trong buổi ngặt nghèo.\n40Chúa phù trợ và Người giải thoát\,\ngiải thoát khỏi ác nhân và thương cứu độ\,\nbởi vì họ ẩn náu bên Người. \nĐ.Hãy ký thác đường đời cho Chúa\, chính Người sẽ ra tay. \nTung hô Tin Mừng   Gl 6\,14 \nHa-lê-lui-a. Ha-lê-lui-a. \nƯớc chi tôi chẳng hãnh diện về điều gì\, ngoài thập giá Chúa.\nNhờ thập giá Người\, thế gian đã bị đóng đinh vào thập giá đối với tôi\, và tôi đối với thế gian. \nHa-lê-lui-a. \n\n\n\n\n\nTIN MỪNG NGÀY HÔM NAY\n\n\n\nCon Người sẽ bị nộp. Ai muốn làm người đứng đầu\, thì phải phục vụ mọi người. \n✠Tin Mừng Chúa Giê-su Ki-tô theo thánh Mác-cô.       Mc 9\,30-37 \n30 Khi ấy\, Đức Giê-su và các môn đệ đi băng qua miền Ga-li-lê. Nhưng Đức Giê-su không muốn cho ai biết\, 31 vì Người đang dạy các môn đệ rằng : “Con Người sẽ bị nộp vào tay người đời\, họ sẽ giết chết Người\, và ba ngày sau khi bị giết chết\, Người sẽ sống lại.” 32 Nhưng các ông không hiểu lời đó\, và các ông sợ không dám hỏi lại Người. \n33 Sau đó\, Đức Giê-su và các môn đệ đến thành Ca-phác-na-um. Khi về tới nhà\, Đức Giê-su hỏi các ông : “Dọc đường\, anh em đã bàn tán điều gì vậy ?” 34 Các ông làm thinh\, vì khi đi đường\, các ông đã cãi nhau xem ai là người lớn hơn cả. 35 Rồi Đức Giê-su ngồi xuống\, gọi Nhóm Mười Hai lại mà nói : “Ai muốn làm người đứng đầu\, thì phải làm người rốt hết\, và làm người phục vụ mọi người.” 36 Kế đó\, Người đem một em nhỏ đặt vào giữa các ông\, rồi ôm lấy nó và nói : 37 “Ai tiếp đón một em nhỏ như em này vì danh Thầy\, là tiếp đón chính Thầy ; và ai tiếp đón Thầy\, thì không phải là tiếp đón Thầy\, nhưng là tiếp đón Đấng đã sai Thầy.”
URL:https://dongchuacuuthe.us/calendar/thu-ba-tuan-vii-mua-thuong-nien/
END:VEVENT
END:VCALENDAR