BEGIN:VCALENDAR
VERSION:2.0
PRODID:-//Dòng Chúa Cứu Thế Hải Ngoại - ECPv6.15.20//NONSGML v1.0//EN
CALSCALE:GREGORIAN
METHOD:PUBLISH
X-ORIGINAL-URL:https://dongchuacuuthe.us
X-WR-CALDESC:Events for Dòng Chúa Cứu Thế Hải Ngoại
REFRESH-INTERVAL;VALUE=DURATION:PT1H
X-Robots-Tag:noindex
X-PUBLISHED-TTL:PT1H
BEGIN:VTIMEZONE
TZID:America/Los_Angeles
BEGIN:DAYLIGHT
TZOFFSETFROM:-0800
TZOFFSETTO:-0700
TZNAME:PDT
DTSTART:20240310T100000
END:DAYLIGHT
BEGIN:STANDARD
TZOFFSETFROM:-0700
TZOFFSETTO:-0800
TZNAME:PST
DTSTART:20241103T090000
END:STANDARD
BEGIN:DAYLIGHT
TZOFFSETFROM:-0800
TZOFFSETTO:-0700
TZNAME:PDT
DTSTART:20250309T100000
END:DAYLIGHT
BEGIN:STANDARD
TZOFFSETFROM:-0700
TZOFFSETTO:-0800
TZNAME:PST
DTSTART:20251102T090000
END:STANDARD
BEGIN:DAYLIGHT
TZOFFSETFROM:-0800
TZOFFSETTO:-0700
TZNAME:PDT
DTSTART:20260308T100000
END:DAYLIGHT
BEGIN:STANDARD
TZOFFSETFROM:-0700
TZOFFSETTO:-0800
TZNAME:PST
DTSTART:20261101T090000
END:STANDARD
END:VTIMEZONE
BEGIN:VEVENT
DTSTART;VALUE=DATE:20250222
DTEND;VALUE=DATE:20250223
DTSTAMP:20260424T034217
CREATED:20250208T214832Z
LAST-MODIFIED:20250208T214832Z
UID:11313-1740182400-1740268799@dongchuacuuthe.us
SUMMARY:LẬP TÔNG TOÀ THÁNH PHÊ-RÔ\, TÔNG ĐỒ  lễ kính
DESCRIPTION:Bài đọc 1         1 Pr 5\,1-4 \nTôi thuộc hàng kỳ mục\, lại là chứng nhân những đau khổ của Đức Ki-tô. \nBài trích thư thứ nhất của thánh Phê-rô tông đồ. \n1 Anh em thân mến\, cùng các bậc kỳ mục trong anh em\, tôi xin có mấy lời khuyên nhủ\, vì tôi cũng thuộc hàng kỳ mục\, lại là chứng nhân những đau khổ của Đức Ki-tô và được dự phần vinh quang sắp tỏ hiện trong tương lai. 2 Anh em hãy chăn dắt đoàn chiên mà Thiên Chúa đã giao phó cho anh em : lo lắng cho họ không phải vì miễn cưỡng\, nhưng hoàn toàn tự nguyện như Thiên Chúa muốn\, không phải vì ham hố lợi lộc thấp hèn\, nhưng vì lòng nhiệt thành tận tuỵ. 3 Đừng lấy quyền mà thống trị những người Thiên Chúa đã giao phó cho anh em\, nhưng hãy nêu gương sáng cho đoàn chiên. 4 Như thế\, khi Vị Mục Tử tối cao xuất hiện\, anh em sẽ được lãnh triều thiên vinh hiển không bao giờ hư nát. \nĐáp ca     Tv 22\,1-3a.3b-4.5.6 (Đ. c.1) \nĐ.Chúa là mục tử chăn dắt tôi\, tôi chẳng thiếu thốn gì. \n1Chúa là mục tử chăn dắt tôi\, tôi chẳng thiếu thốn gì.\n2Trong đồng cỏ xanh tươi\, Người cho tôi nằm nghỉ.\nNgười đưa tôi tới dòng nước trong lành3avà bổ sức cho tôi. \nĐ.Chúa là mục tử chăn dắt tôi\, tôi chẳng thiếu thốn gì. \n3bNgười dẫn tôi trên đường ngay nẻo chính\nvì danh dự của Người.\n4Lạy Chúa\, dầu qua lũng âm u\ncon sợ gì nguy khốn\, vì có Chúa ở cùng.\nCôn trượng Ngài bảo vệ\, con vững dạ an tâm. \nĐ.Chúa là mục tử chăn dắt tôi\, tôi chẳng thiếu thốn gì. \n5Chúa dọn sẵn cho con bữa tiệc ngay trước mặt quân thù.\nĐầu con\, Chúa xức đượm dầu thơm\,\nly rượu con đầy tràn chan chứa. \nĐ.Chúa là mục tử chăn dắt tôi\, tôi chẳng thiếu thốn gì. \n6Lòng nhân hậu và tình thương Chúa\nấp ủ tôi suốt cả cuộc đời\,\nvà tôi được ở đền Người\nnhững ngày tháng\, những năm dài triền miên. \nĐ.Chúa là mục tử chăn dắt tôi\, tôi chẳng thiếu thốn gì. \nTung hô Tin Mừng   Mt 16\,18 \nHa-lê-lui-a. Ha-lê-lui-a. \nAnh là Phê-rô\, nghĩa là Tảng Đá\, trên tảng đá này\,\nThầy sẽ xây Hội Thánh của Thầy\, và quyền lực tử thần sẽ không thắng nổi. \nHa-lê-lui-a. \n\n\n\n\n\nTIN MỪNG NGÀY HÔM NAY\n\n\n\nAnh là Phê-rô\, Thầy sẽ trao cho anh chìa khoá Nước Trời. \n✠Tin Mừng Chúa Giê-su Ki-tô theo thánh Mát-thêu.   Mt 16\,13-19 \n13 Khi ấy\, Đức Giê-su đến vùng kế cận thành Xê-da-rê Phi-líp-phê\, Người hỏi các môn đệ rằng : “Người ta nói Con Người là ai ?” 14 Các ông thưa : “Kẻ thì nói là ông Gio-an Tẩy Giả\, kẻ thì bảo là ông Ê-li-a\, có người lại cho là ông Giê-rê-mi-a hay một trong các vị ngôn sứ.” 15 Đức Giê-su lại hỏi : “Còn anh em\, anh em bảo Thầy là ai ?” 16 Ông Si-môn Phê-rô thưa : “Thầy là Đấng Ki-tô\, Con Thiên Chúa hằng sống.” 17 Đức Giê-su nói với ông : “Này anh Si-môn con ông Giô-na\, anh thật là người có phúc\, vì không phải phàm nhân mặc khải cho anh điều ấy\, nhưng là Cha của Thầy\, Đấng ngự trên trời. 18 Còn Thầy\, Thầy bảo cho anh biết : anh là Phê-rô\, nghĩa là Tảng Đá\, trên tảng đá này\, Thầy sẽ xây Hội Thánh của Thầy\, và quyền lực tử thần sẽ không thắng nổi. 19 Thầy sẽ trao cho anh chìa khoá Nước Trời : dưới đất\, anh cầm buộc điều gì\, trên trời cũng sẽ cầm buộc như vậy ; dưới đất\, anh tháo cởi điều gì\, trên trời cũng sẽ tháo cởi như vậy.”
URL:https://dongchuacuuthe.us/calendar/lap-tong-toa-thanh-phe-ro-tong-do-le-kinh/
END:VEVENT
END:VCALENDAR