BEGIN:VCALENDAR
VERSION:2.0
PRODID:-//Dòng Chúa Cứu Thế Hải Ngoại - ECPv6.15.20//NONSGML v1.0//EN
CALSCALE:GREGORIAN
METHOD:PUBLISH
X-ORIGINAL-URL:https://dongchuacuuthe.us
X-WR-CALDESC:Events for Dòng Chúa Cứu Thế Hải Ngoại
REFRESH-INTERVAL;VALUE=DURATION:PT1H
X-Robots-Tag:noindex
X-PUBLISHED-TTL:PT1H
BEGIN:VTIMEZONE
TZID:America/Los_Angeles
BEGIN:DAYLIGHT
TZOFFSETFROM:-0800
TZOFFSETTO:-0700
TZNAME:PDT
DTSTART:20240310T100000
END:DAYLIGHT
BEGIN:STANDARD
TZOFFSETFROM:-0700
TZOFFSETTO:-0800
TZNAME:PST
DTSTART:20241103T090000
END:STANDARD
BEGIN:DAYLIGHT
TZOFFSETFROM:-0800
TZOFFSETTO:-0700
TZNAME:PDT
DTSTART:20250309T100000
END:DAYLIGHT
BEGIN:STANDARD
TZOFFSETFROM:-0700
TZOFFSETTO:-0800
TZNAME:PST
DTSTART:20251102T090000
END:STANDARD
BEGIN:DAYLIGHT
TZOFFSETFROM:-0800
TZOFFSETTO:-0700
TZNAME:PDT
DTSTART:20260308T100000
END:DAYLIGHT
BEGIN:STANDARD
TZOFFSETFROM:-0700
TZOFFSETTO:-0800
TZNAME:PST
DTSTART:20261101T090000
END:STANDARD
END:VTIMEZONE
BEGIN:VEVENT
DTSTART;VALUE=DATE:20250220
DTEND;VALUE=DATE:20250221
DTSTAMP:20260424T034135
CREATED:20250208T214706Z
LAST-MODIFIED:20250208T214721Z
UID:11309-1740009600-1740095999@dongchuacuuthe.us
SUMMARY:Thứ Năm Tuần VI - Mùa Thường Niên
DESCRIPTION:Bài đọc 1     St 9\,1-13 \nTa gác cây cung của Ta lên mây\, và đó sẽ là dấu hiệu giao ước giữa Ta với cõi đất. \nBài trích sách Sáng thế. \n1 Thiên Chúa ban phúc lành cho ông Nô-ê và các con ông. Người phán với họ : “Hãy sinh sôi nảy nở thật nhiều\, cho đầy mặt đất. 2 Mọi dã thú\, mọi chim trời\, mọi giống vật bò dưới đất\, và mọi cá biển sẽ phải kinh hãi khiếp sợ các ngươi : chúng được trao vào tay các ngươi. 3 Mọi loài di động và có sự sống sẽ là lương thực cho các ngươi ; Ta ban cho các ngươi tất cả những thứ đó\, cũng như đã ban cỏ xanh tươi. 4 Tuy nhiên các ngươi không được ăn thịt với mạng sống của nó\, tức là máu. 5 Nhưng Ta sẽ đòi mỗi con vật phải đền nợ máu các ngươi\, tức là mạng sống của các ngươi ; Ta sẽ đòi con người phải đền nợ máu\, Ta sẽ đòi mỗi người phải đền mạng sống của người anh em mình. \n6Ai đổ máu con người\, thì máu nó sẽ bị con người đổ ra\,\nvì Thiên Chúa đã làm ra con người theo hình ảnh Thiên Chúa. \n7 “Về phần các ngươi\, hãy sinh sôi nảy nở thật nhiều\, hãy lan tràn và nảy nở thật nhiều trên mặt đất.” \n8 Thiên Chúa phán với ông Nô-ê và các con ông đang ở với ông rằng : 9 “Đây Ta lập giao ước của Ta với các ngươi\, với dòng dõi các ngươi sau này\, 10 và tất cả mọi sinh vật ở với các ngươi : chim chóc\, gia súc\, dã thú ở với các ngươi\, nghĩa là mọi vật ở trong tàu đi ra\, kể cả dã thú. 11 Ta lập giao ước của Ta với các ngươi : mọi xác phàm sẽ không còn bị nước hồng thuỷ huỷ diệt\, và cũng sẽ không còn có hồng thuỷ để tàn phá mặt đất nữa.” \n12 Thiên Chúa phán : “Đây là dấu hiệu giao ước Ta đặt giữa Ta với các ngươi\, và với mọi sinh vật ở với các ngươi\, cho đến muôn thế hệ mai sau : 13 Ta gác cây cung của Ta lên mây\, và đó sẽ là dấu hiệu giao ước giữa Ta với cõi đất.” \nĐáp ca     Tv 101\,16-18.19-21.29 và 22-23 (Đ. c.20b) \nĐ.Từ trời xanh Chúa đã nhìn xuống cõi trần. \n16Chư dân sẽ sợ uy danh Chúa\,\nmọi đế vương hoàn cầu uý kính Ngài vinh hiển.\n17Vì Chúa sẽ xây dựng lại Xi-on\,\nsẽ xuất hiện quang vinh rực rỡ.\n18Người đoái nghe dân bị bóc lột kêu cầu\,\nchẳng khinh thường lời họ nguyện xin. \nĐ.Từ trời xanh Chúa đã nhìn xuống cõi trần. \n19Điều này phải ghi lại cho đời sau được biết\,\ndân hậu sinh phải ca tụng Chúa Trời.\n20Vì Chúa đưa mắt từ toà cao thánh điện\,\ntừ trời xanh đã nhìn xuống cõi trần\,\n21để nghe kẻ tù đày rên siết thở than\nvà phóng thích những người mang án tử. \nĐ.Từ trời xanh Chúa đã nhìn xuống cõi trần. \n29Con cháu bề tôi sẽ an cư lạc nghiệp\,\nvà dòng giống tồn tại trước nhan Ngài.\n22Rồi ra\, ở Xi-on\, người người sẽ rao truyền danh thánh Chúa\,\ntại Giê-ru-sa-lem\, ai nấy ngợi khen Người\,\n23khi mọi nước mọi dân\ntập trung về để thờ phượng Chúa. \nĐ.Từ trời xanh Chúa đã nhìn xuống cõi trần. \nTung hô Tin Mừng   x. Ga 6\,63c.68c \nHa-lê-lui-a. Ha-lê-lui-a. \nLạy Chúa\, Lời Chúa là thần khí và là sự sống ;\nChúa có những lời đem lại sự sống đời đời. \nHa-lê-lui-a. \n\n\n\n\n\nTIN MỪNG NGÀY HÔM NAY\n\n\n\nThầy là Đấng Ki-tô. Con Người phải chịu đau khổ nhiều. \n✠Tin Mừng Chúa Giê-su Ki-tô theo thánh Mác-cô.       Mc 8\,27-33 \n27 Khi ấy\, Đức Giê-su và các môn đệ rời Bết-xai-đa để đi tới các làng xã vùng Xê-da-rê Phi-líp-phê. Dọc đường\, Người hỏi các môn đệ : “Người ta nói Thầy là ai ?” 28 Các ông đáp : “Họ bảo Thầy là ông Gio-an Tẩy Giả\, có kẻ thì bảo là ông Ê-li-a\, kẻ khác lại cho là một ngôn sứ nào đó.” 29 Người lại hỏi các ông : “Còn anh em\, anh em bảo Thầy là ai ?” Ông Phê-rô trả lời : “Thầy là Đấng Ki-tô.” 30 Đức Giê-su liền cấm ngặt các ông không được nói với ai về Người. \n31 Rồi Người bắt đầu dạy cho các ông biết : Con Người phải chịu đau khổ nhiều\, bị các kỳ mục\, thượng tế cùng kinh sư loại bỏ\, bị giết chết và sau ba ngày sẽ sống lại. 32 Người nói rõ điều đó\, không úp mở. Ông Phê-rô liền kéo riêng Người ra và bắt đầu trách Người. 33 Nhưng khi Đức Giê-su quay lại\, nhìn thấy các môn đệ\, Người trách ông Phê-rô : “Xa-tan ! lui lại đàng sau Thầy ! Vì tư tưởng của anh không phải là tư tưởng của Thiên Chúa\, mà là của loài người.”
URL:https://dongchuacuuthe.us/calendar/thu-nam-tuan-vi-mua-thuong-nien/
END:VEVENT
END:VCALENDAR