BEGIN:VCALENDAR
VERSION:2.0
PRODID:-//Dòng Chúa Cứu Thế Hải Ngoại - ECPv6.15.20//NONSGML v1.0//EN
CALSCALE:GREGORIAN
METHOD:PUBLISH
X-ORIGINAL-URL:https://dongchuacuuthe.us
X-WR-CALDESC:Events for Dòng Chúa Cứu Thế Hải Ngoại
REFRESH-INTERVAL;VALUE=DURATION:PT1H
X-Robots-Tag:noindex
X-PUBLISHED-TTL:PT1H
BEGIN:VTIMEZONE
TZID:America/Los_Angeles
BEGIN:DAYLIGHT
TZOFFSETFROM:-0800
TZOFFSETTO:-0700
TZNAME:PDT
DTSTART:20240310T100000
END:DAYLIGHT
BEGIN:STANDARD
TZOFFSETFROM:-0700
TZOFFSETTO:-0800
TZNAME:PST
DTSTART:20241103T090000
END:STANDARD
BEGIN:DAYLIGHT
TZOFFSETFROM:-0800
TZOFFSETTO:-0700
TZNAME:PDT
DTSTART:20250309T100000
END:DAYLIGHT
BEGIN:STANDARD
TZOFFSETFROM:-0700
TZOFFSETTO:-0800
TZNAME:PST
DTSTART:20251102T090000
END:STANDARD
BEGIN:DAYLIGHT
TZOFFSETFROM:-0800
TZOFFSETTO:-0700
TZNAME:PDT
DTSTART:20260308T100000
END:DAYLIGHT
BEGIN:STANDARD
TZOFFSETFROM:-0700
TZOFFSETTO:-0800
TZNAME:PST
DTSTART:20261101T090000
END:STANDARD
END:VTIMEZONE
BEGIN:VEVENT
DTSTART;VALUE=DATE:20250212
DTEND;VALUE=DATE:20250213
DTSTAMP:20260424T034217
CREATED:20250208T213714Z
LAST-MODIFIED:20250208T213714Z
UID:11291-1739318400-1739404799@dongchuacuuthe.us
SUMMARY:Thứ Tư Tuần V Thường Niên Năm I
DESCRIPTION:BÀI ĐỌC I:  St 2\, 4b-9. 15-17  (Hr 5-9. 15-17)  \n“Thiên Chúa đặt con người vào vườn địa đàng”.  \nTrích sách Sáng Thế.  \nTrong ngày Thiên Chúa tạo dựng trời đất\, thì chưa có bụi cây nào mọc ngoài đồng\, không có một cây rau cỏ nào nẩy mầm ngoài đồng ruộng\, vì Chúa là Thiên Chúa chưa cho mưa rơi xuống đất\, và chưa có người để trồng trọt\, nhưng lúc đó mạch nước từ đất vọt lên\, tưới khắp mặt đất. Vậy Thiên Chúa lấy bùn đất nắn thành con người\, thổi sinh khí vào lỗi mũi và con người trở thành một vật sống.  \nThiên Chúa lập một vườn tại Eđen về phía đông và đặt vào đó con người mà Ngài đã dựng nên. Thiên Chúa cho từ đất mọc lên mọi thứ cây trông đẹp\, ăn ngon\, với cây sự sống ở giữa vườn\, và cây biết lành dữ.  \nVậy Thiên Chúa đem con người đặt vào vườn địa đàng\, để họ trồng tỉa và coi sóc vườn. Và Thiên Chúa truyền lệnh cho con người như sau: “Ngươi được ăn mọi thứ trái cây trong vườn\, nhưng chớ ăn trái cây biết lành dữ\, vì ngày nào ngươi ăn nó\, ngươi sẽ phải chết”.  Đó là lời Chúa.  \nĐÁP CA:  Tv 103\, 1-2a. 27-28. 29bc-30  \nĐáp: Linh hồn tôi ơi\, hãy chúc tụng Chúa (c. 1a).  \nXướng: 1)   Linh hồn tôi ơi\, hãy chúc tụng Chúa\, lạy Chúa là Thiên Chúa của con\, Ngài rất ư vĩ đại! Ngài mặc lấy oai nghiêm huy hoàng\, ánh sáng choàng thân như mang áo khoác.      –  Đáp.   \n2)   Hết thảy mọi vật đều mong chờ ở Chúa\, để Ngài ban lương thực cho chúng đúng thời giờ. Khi Ngài ban cho thì chúng lãnh\, Ngài mở tay ra thì chúng no đầy thiện hảo.      –  Đáp.   \n3)   Ngài rút hơi thở chúng đi\, chúng  chết ngay\, và chúng trở về chỗ tro bụi của mình. Nếu Ngài gởi hơi thở tới\, chúng được tạo thành\, và Ngài canh tân bộ mặt trái đất.      –  Đáp.   \nALLELUIA:  Ga 15\, 15b  \nAlleluia\, alleluia! – Chúa phán: “Thầy gọi các con là bạn hữu\, vì tất cả những gì Thầy đã nghe biết nơi Cha Thầy\, thì Thầy đã cho các con biết”. – Alleluia.  \nPHÚC ÂM:  Mc 7\, 14-23  \n“Những gì từ con người ta xuất ra\, đó là cái làm cho người ta ra ô uế”.  \nTin Mừng Chúa Giêsu Kitô theo Thánh Marcô.  \nKhi ấy\, Chúa Giêsu lại gọi dân chúng mà bảo rằng: “Hết thảy hãy nghe và hiểu rõ lời Ta. Không có gì bên ngoài vào trong con người mà có thể làm cho họ ra ô uế. Chỉ có những gì từ con người ta xuất ra\, chính những cái đó mới làm cho họ ra ô uế. Ai có tai để nghe thì hãy nghe”.  \nLúc Người lìa dân chúng mà về nhà\, các môn đệ hỏi Người về ý nghĩa dụ ngôn ấy. Người liền bảo các ông: “Các con cũng mê muội như thế ư? Các con không hiểu rằng tất cả những gì từ bên ngoài vào trong con người không thể làm cho người ta ra ô uế được\, vì những cái đó không vào trong tâm trí\, nhưng vào bụng rồi xuất ra”. Như vậy Người tuyên bố mọi của ăn đều sạch. Người lại phán: “Những gì ở trong người ta mà ra\, đó là cái làm cho người ta ô uế. Vì từ bên trong\, từ tâm trí người ta xuất phát những tư tưởng xấu\, ngoại tình\, dâm ô\, giết người\, trộm cắp\, tham lam\, độc ác\, xảo trá\, lăng loàn\, ganh tị\, vu khống\, kiêu căng\, ngông cuồng. Tất cả những sự xấu đó đều ở trong mà ra\, và làm cho người ta ra ô uế”.  Đó là lời Chúa.
URL:https://dongchuacuuthe.us/calendar/thu-tu-tuan-v-thuong-nien-nam-i/
END:VEVENT
END:VCALENDAR