BEGIN:VCALENDAR
VERSION:2.0
PRODID:-//Dòng Chúa Cứu Thế Hải Ngoại - ECPv6.15.20//NONSGML v1.0//EN
CALSCALE:GREGORIAN
METHOD:PUBLISH
X-WR-CALNAME:Dòng Chúa Cứu Thế Hải Ngoại
X-ORIGINAL-URL:https://dongchuacuuthe.us
X-WR-CALDESC:Events for Dòng Chúa Cứu Thế Hải Ngoại
REFRESH-INTERVAL;VALUE=DURATION:PT1H
X-Robots-Tag:noindex
X-PUBLISHED-TTL:PT1H
BEGIN:VTIMEZONE
TZID:America/Los_Angeles
BEGIN:DAYLIGHT
TZOFFSETFROM:-0800
TZOFFSETTO:-0700
TZNAME:PDT
DTSTART:20240310T100000
END:DAYLIGHT
BEGIN:STANDARD
TZOFFSETFROM:-0700
TZOFFSETTO:-0800
TZNAME:PST
DTSTART:20241103T090000
END:STANDARD
BEGIN:DAYLIGHT
TZOFFSETFROM:-0800
TZOFFSETTO:-0700
TZNAME:PDT
DTSTART:20250309T100000
END:DAYLIGHT
BEGIN:STANDARD
TZOFFSETFROM:-0700
TZOFFSETTO:-0800
TZNAME:PST
DTSTART:20251102T090000
END:STANDARD
BEGIN:DAYLIGHT
TZOFFSETFROM:-0800
TZOFFSETTO:-0700
TZNAME:PDT
DTSTART:20260308T100000
END:DAYLIGHT
BEGIN:STANDARD
TZOFFSETFROM:-0700
TZOFFSETTO:-0800
TZNAME:PST
DTSTART:20261101T090000
END:STANDARD
END:VTIMEZONE
BEGIN:VEVENT
DTSTART;TZID=America/Los_Angeles:20250210T080000
DTEND;TZID=America/Los_Angeles:20250210T170000
DTSTAMP:20260424T034120
CREATED:20250208T213618Z
LAST-MODIFIED:20250208T213618Z
UID:11287-1739174400-1739206800@dongchuacuuthe.us
SUMMARY:Thứ Hai Tuần V Thường Niên Năm I
DESCRIPTION:BÀI ĐỌC I: St 1\, 1-19 \n“Thiên Chúa phán: và xảy ra như vậy”.  \nTrích sách Sáng Thế.  \nTừ nguyên thuỷ Thiên Chúa đã tạo thành trời đất. Đất còn hoang vu trống rỗng\, tối tăm bao trùm vực thẳm\, và Thần trí Thiên Chúa bay sà trên mặt nước.  \nThiên Chúa phán: “Hãy có ánh sáng”. Và có ánh sáng. Thiên Chúa thấy ánh sáng tốt đẹp\, Người phân rẽ ánh sáng khỏi tối tăm. Thiên Chúa gọi ánh sáng là ngày\, tối tăm là đêm. Qua một buổi chiều và một buổi sáng: đó là ngày thứ nhất.  \nThiên Chúa phán: “Hãy có một vòm trời ở giữa nước\, phân rẽ nước với nước”\, và Thiên Chúa làm nên vòm trời\, và phân rẽ nước phía trên vòm trời với nước dưới vòm trời. Và xảy ra như vậy. Thiên Chúa gọi vòm đó là trời. Qua một buổi chiều và một buổi sáng: đó là ngày thứ hai.  \nThiên Chúa phán: “Nước dưới trời hãy tụ tại một nơi\, để lộ ra chỗ khô cạn. Và đã xảy ra như vậy. Thiên Chúa gọi chỗ khô cạn là đất\, và Người gọi khối nước là biển. Thiên Chúa thấy tốt đẹp. Và Thiên Chúa phán: “Đất hãy trổ sinh thảo mộc xanh tươi mang hạt giống\, và cây ăn trái phát sinh trái theo giống nó\, và trong trái có hạt giống\, trên mặt đất. Và đã xảy ra như vậy. Tức thì đất sản xuất thảo mộc xanh tươi mang hạt theo giống nó\, và cây phát sinh trái trong có hạt tuỳ theo loại nó. Và Thiên Chúa thấy nó tốt đẹp. Qua một buổi chiều và một buổi sáng: đó là ngày thứ ba.  \nThiên Chúa còn phán: “Hãy có những vật sáng trên vòm trời và hãy phân chia ngày và đêm\, và trở thành dấu chỉ thời gian\, ngày và năm tháng\, để soi sáng trên vòm trời và giãi sáng mặt đất”. Và đã xảy ra như vậy. Thiên Chúa đã làm nên hai vầng sáng lớn: Vầng sáng lớn hơn làm chủ ban ngày\, và vầng sáng nhỏ hơn làm chủ ban đêm; và Ngài cũng làm nên các tinh tú. Thiên Chúa đặt chúng trên vòm trời để soi sáng trên mặt đất\, và làm chủ ngày đêm\, và phân chia ánh sáng với tối tăm. Thiên Chúa thấy tốt đẹp. Qua một buổi chiều và một buổi sáng: đó là ngày thứ tư.  Đó là lời Chúa.  \nĐÁP CA:  Tv 103\, 1-2a. 5-6. 10 và 12. 24 và 35c  \nĐáp: Nguyện cho Chúa hân hoan vì công cuộc của Chúa (c. 31b).\nXướng: 1)   Linh hồn tôi ơi\, hãy chúc tụng Chúa. Lạy Chúa là Thiên Chúa của con\, Ngài rất ư vĩ đại! Ngài mặc lấy oai nghiêm huy hoàng\, ánh sáng choàng thân như mang áo khoác.    –  Đáp.   \n2)   Ngài dựng vững địa cầu trên nền tảng\, cho tới muôn đời nó chẳng lung lay. Ngài dùng biển che phủ nó như áo che thân\, trên ngọn núi non muôn ngàn nước đọng.    –  Đáp.   \n3)   Ngài lệnh cho mạch nước tràn ra thành suối\, chúng chảy rì rào giữa miền non núi. Bên cạnh chúng\, chim trời cư ngụ\, từ trong ngành cây vang ra tiếng hót.    –  Đáp.   \n4)   Lạy Chúa\, thực nhiều thay công cuộc của Ngài! Ngài đã tạo thành vạn vật cách khôn ngoan\, địa cầu đầy dẫy loài thụ tạo của Ngài. Linh hồn tôi ơi\, hãy chúc tụng Chúa.    –  Đáp.   \nALLELUIA:  Ga 14\, 5  \nAlleluia\, alleluia! – Chúa phán: “Thầy là đường\, là sự thật và là sự sống\, không ai đến được với Cha mà không qua Thầy”. – Alleluia.  \nPHÚC ÂM:  Mc 6\, 53-56  \n“Tất cả những ai chạm tới Người\, đều được khỏi bệnh”.  \nTin Mừng Chúa Giêsu Kitô theo Thánh Marcô.  \nKhi ấy\, Chúa Giêsu và các môn đệ qua biển rồi\, các ngài tới miền Giênêsarét và ghé bến. Các ngài lên khỏi thuyền\, tức thì người ta nhận ra Người\, họ liền rảo chạy khắp miền\, và nghe tin Người ở đâu thì khiêng những người đau yếu nằm trên chõng đến đó. Bất cứ Người vào làng trại hay đô thị nào\, người ta cũng đặt các bệnh nhân ở các nơi công cộng và xin Người cho họ ít là được chạm tới gấu áo Người\, và tất cả những ai chạm tới Người\, đều được khỏi bệnh.  Đó là lời Chúa.
URL:https://dongchuacuuthe.us/calendar/thu-hai-tuan-v-thuong-nien-nam-i/
END:VEVENT
END:VCALENDAR