BEGIN:VCALENDAR
VERSION:2.0
PRODID:-//Dòng Chúa Cứu Thế Hải Ngoại - ECPv6.15.20//NONSGML v1.0//EN
CALSCALE:GREGORIAN
METHOD:PUBLISH
X-WR-CALNAME:Dòng Chúa Cứu Thế Hải Ngoại
X-ORIGINAL-URL:https://dongchuacuuthe.us
X-WR-CALDESC:Events for Dòng Chúa Cứu Thế Hải Ngoại
REFRESH-INTERVAL;VALUE=DURATION:PT1H
X-Robots-Tag:noindex
X-PUBLISHED-TTL:PT1H
BEGIN:VTIMEZONE
TZID:America/Los_Angeles
BEGIN:DAYLIGHT
TZOFFSETFROM:-0800
TZOFFSETTO:-0700
TZNAME:PDT
DTSTART:20240310T100000
END:DAYLIGHT
BEGIN:STANDARD
TZOFFSETFROM:-0700
TZOFFSETTO:-0800
TZNAME:PST
DTSTART:20241103T090000
END:STANDARD
BEGIN:DAYLIGHT
TZOFFSETFROM:-0800
TZOFFSETTO:-0700
TZNAME:PDT
DTSTART:20250309T100000
END:DAYLIGHT
BEGIN:STANDARD
TZOFFSETFROM:-0700
TZOFFSETTO:-0800
TZNAME:PST
DTSTART:20251102T090000
END:STANDARD
BEGIN:DAYLIGHT
TZOFFSETFROM:-0800
TZOFFSETTO:-0700
TZNAME:PDT
DTSTART:20260308T100000
END:DAYLIGHT
BEGIN:STANDARD
TZOFFSETFROM:-0700
TZOFFSETTO:-0800
TZNAME:PST
DTSTART:20261101T090000
END:STANDARD
END:VTIMEZONE
BEGIN:VEVENT
DTSTART;VALUE=DATE:20250205
DTEND;VALUE=DATE:20250206
DTSTAMP:20260424T034827
CREATED:20250201T214852Z
LAST-MODIFIED:20250201T214852Z
UID:11208-1738713600-1738799999@dongchuacuuthe.us
SUMMARY:Thứ Tư Tuần IV Thường Niên Năm I
DESCRIPTION:BÀI ĐỌC I: Dt 12\, 4-7\, 11-15  \n“Chúa sửa dạy ai mà Người yêu mến”.  \nTrích thơ gửi tín hữu Do-thái. \nAnh em thân mến\, khi chiến đấu với tội lỗi\, anh em chưa đến nỗi phải đổ máu\, và anh em đã quên lời yên ủi tôi nói với anh em\, như nói với những người con rằng: “Hỡi con\, con chớ khinh thường việc Chúa sửa dạy\, và đừng nản chí khi Người quở trách con; vì Chúa sửa dạy ai mà Người yêu mến\, và đánh đòn kẻ mà Người chọn làm con”.  \nTrong khi được sửa dạy\, anh em hãy bền chí\, Thiên Chúa xử sự với anh em như con cái: vì có người con nào mà cha không sửa phạt? Ngày nay\, hẳn ai cũng coi việc sửa dạy là nỗi buồn khổ hơn là nguồn vui\, nhưng sau này\, nó sẽ mang lại hoa quả bình an công chính cho những ai được sửa dạy. Vì thế\, anh em hãy nâng đỡ những bàn tay bủn rủn và những đầu gối rụng rời. Đường anh em đi\, anh em hãy bạt cho thẳng\, để người què khỏi bị trẹo chân\, nhưng được an lành. \nAnh em hãy sống hoà thuận với hết mọi người\, hãy ăn ở thánh thiện\, chẳng vậy không được nhìn thấy Thiên Chúa. Anh em hãy coi chừng\, đừng để mất ơn Chúa\, đừng để một rễ cay đắng nào mọc chồi gây xáo trộn và làm cho nhiều người bị nhiễm độc. Đó là lời Chúa. \nĐÁP CA: Tv 102\, 1-2. 13-14. 17-18a \nĐáp: Lòng yêu thương của Chúa vẫn còn tồn tại từ thuở này tới thuở kia cho những ai kính sợ Người. (c. 17). \nXướng: 1) Linh hồn tôi ơi\, hãy chúc tụng Chúa! Toàn thể con người tôi\, hãy chúc tụng thánh danh Người. Linh hồn tôi ơi\, hãy chúc tụng Chúa\, và chớ khá quên mọi ân huệ của Người. – Đáp. \n2) Cũng như người cha yêu thương con cái\, Chúa yêu thương những ai kính sợ Người. Người hiểu biết chỗ gây hình của chúng tôi\, Người nhớ rằng tro bụi là tụi chúng tôi! – Đáp. \n3) Nhưng lòng yêu thương của Chúa vẫn còn tồn tại\, từ thuở này đến thuở kia cho những ai kính sợ Người\, và đức công minh Chúa còn dành để cho con cháu họ\, cho những ai giữ lời minh ước của Người. – Đáp. \nALLELUIA: Ga 8\, 12 \nAlleluia\, alleluia! – Chúa phán: “Ta là sự sáng thế gian\, ai theo Ta\, sẽ được ánh sáng ban sự sống”. – Alleluia.  \nPHÚC ÂM: Mc 6\, 1-6  \n“Không một tiên tri nào mà không bị khinh bỉ ở quê hương”.  \nTin Mừng Chúa Giêsu Kitô theo Thánh Marcô. \nKhi ấy\, Chúa Giêsu trở về quê nhà và các môn đệ cùng theo Người. Đến ngày Sabbat\, Người vào giảng trong hội đường\, và nhiều thính giả sửng sốt về giáo lý của Người\, nên nói rằng: “Bởi đâu ông này được như vậy? Sao ông được khôn ngoan như vậy? Bởi đâu tay Người làm được những sự lạ thể ấy? Ông này chẳng phải bác thợ mộc con bà Maria\, anh em với Giacôbê\, Giuse\, Giuđa và Simon sao? Chị em ông không ở với chúng ta đây sao?” Và họ vấp phạm vì Người. Chúa Giêsu liền bảo họ: “Không một tiên tri nào mà không bị khinh bỉ ở quê hương\, gia đình họ hàng mình”. Ở đó Người không làm được phép lạ nào\, ngoại trừ đặt tay chữa vài bệnh nhân\, và Người ngạc nhiên vì họ cứng lòng tin. Người đi rảo qua các làng chung quanh và giảng dạy. Đó là lời Chúa.
URL:https://dongchuacuuthe.us/calendar/thu-tu-tuan-iv-thuong-nien-nam-i/
END:VEVENT
END:VCALENDAR