BEGIN:VCALENDAR
VERSION:2.0
PRODID:-//Dòng Chúa Cứu Thế Hải Ngoại - ECPv6.15.20//NONSGML v1.0//EN
CALSCALE:GREGORIAN
METHOD:PUBLISH
X-WR-CALNAME:Dòng Chúa Cứu Thế Hải Ngoại
X-ORIGINAL-URL:https://dongchuacuuthe.us
X-WR-CALDESC:Events for Dòng Chúa Cứu Thế Hải Ngoại
REFRESH-INTERVAL;VALUE=DURATION:PT1H
X-Robots-Tag:noindex
X-PUBLISHED-TTL:PT1H
BEGIN:VTIMEZONE
TZID:America/Los_Angeles
BEGIN:DAYLIGHT
TZOFFSETFROM:-0800
TZOFFSETTO:-0700
TZNAME:PDT
DTSTART:20240310T100000
END:DAYLIGHT
BEGIN:STANDARD
TZOFFSETFROM:-0700
TZOFFSETTO:-0800
TZNAME:PST
DTSTART:20241103T090000
END:STANDARD
BEGIN:DAYLIGHT
TZOFFSETFROM:-0800
TZOFFSETTO:-0700
TZNAME:PDT
DTSTART:20250309T100000
END:DAYLIGHT
BEGIN:STANDARD
TZOFFSETFROM:-0700
TZOFFSETTO:-0800
TZNAME:PST
DTSTART:20251102T090000
END:STANDARD
BEGIN:DAYLIGHT
TZOFFSETFROM:-0800
TZOFFSETTO:-0700
TZNAME:PDT
DTSTART:20260308T100000
END:DAYLIGHT
BEGIN:STANDARD
TZOFFSETFROM:-0700
TZOFFSETTO:-0800
TZNAME:PST
DTSTART:20261101T090000
END:STANDARD
END:VTIMEZONE
BEGIN:VEVENT
DTSTART;VALUE=DATE:20250130
DTEND;VALUE=DATE:20250131
DTSTAMP:20260424T034120
CREATED:20241230T190324Z
LAST-MODIFIED:20241230T190324Z
UID:11082-1738195200-1738281599@dongchuacuuthe.us
SUMMARY:Thứ Năm Tuần III Thường Niên Năm I
DESCRIPTION:BÀI ĐỌC I: Dt 10\, 19-25 \n“Chúng ta hãy kiên trì tuyên xưng niềm hy vọng của chúng ta\, và hãy thúc giục nhau thực thi bác ái”.  \nTrích thơ gửi tín hữu Do-thái. \nAnh em thân mến\, nhờ máu Chúa Giêsu\, chúng ta tin tưởng bước vào cung thánh. Đó là con đuờng mới và sống động mà Người đã mở cho chúng ta\, xuyên qua tấm màn là thân xác Người; và ban cho chúng ta có một thượng tế cai quản nhà Thiên Chúa. Chúng ta hãy tiến đến với lòng chân thành\, đầy đức tin\, lòng được trong sạch khỏi lương tâm gian ác\, và thân xác được tắm gội bằng nước trong sạch. Chúng ta hãy kiên trì tuyên xưng niềm hy vọng của chúng ta\, vì Đấng đã hứa là Đấng trung tín. Chúng ta hãy thúc giục nhau thực thi bác ái và làm việc thiện. Đừng trốn tránh những buổi hội chung như ít người có thói quen\, nhưng anh em hãy khích lệ nhau\, nhất là khi thấy ngày đó gần đến. Đó là lời Chúa. \nĐÁP CA: Tv 23\, 1-2. 3-4ab. 5-6. \nĐáp: Lạy Chúa\, đó là dòng dõi người tìm kiếm Chúa (c. 6). \nXướng: 1) Chúa là chủ trái đất và mọi vật làm sung mãn nó\, chủ địa cầu và muôn loài cư trú ở trong. Vì chính Ngài xây dựng nó trên biển cả\, và Ngài giữ vững nó trên chỗ nước nguồn. – Đáp. \n2) Ai khá trèo lên cao sơn của Chúa\, ai được đứng trong nơi thánh của Ngài? Người tay vô tội và lòng thanh khiết\, người không để lòng xu hướng bả phù hoa. – Đáp. \n3) Người đó sẽ được Chúa chúc phúc cho\, và được Thiên Chúa là Đấng cứu độ ban ân thưởng. Đó là dòng dõi người tìm kiếm Chúa\, người tìm long nhan Thiên Chúa nhà Giacóp. – Đáp. \nALLELUIA: Tv 24\, 4c và 5a \nAlleluia\, alleluia! – Lạy Chúa\, xin dạy bảo con về lối bước của Chúa\, và xin hướng dẫn con trong chân lý của Ngài. – Alleluia. \nPHÚC ÂM: Mc 4\, 21-25  \n“Đèn đốt lên là để đặt trên giá đèn. Các ngươi đong đấu nào\, thì người ta sẽ đong đấu ấy cho các ngươi”.  \nTin Mừng Chúa Giêsu Kitô theo Thánh Marcô. \nKhi ấy\, Chúa Giêsu phán cùng dân chúng rằng: “Có ai đem đèn sáng đặt trong thùng hay dưới gầm giường chăng? Chẳng phải là để đặt trên giá đèn sao? Vì chẳng có gì giấu kín mà chẳng tố lộ ra và chẳng có gì kín đáo mà không bị đưa ra ánh sáng. Ai có tai để nghe\, thì hãy nghe”. Và Người bảo họ rằng: “Hãy coi chừng điều các ngươi nghe thấy. Các ngươi đong bằng đấu nào\, thì người ta sẽ đong lại cho các ngươi bằng đấu ấy\, và người ta còn thêm nữa. Vì ai có\, sẽ được cho thêm; và ai không có\, cả cái đang có cũng bị lấy mất”. \nĐó là lời Chúa.
URL:https://dongchuacuuthe.us/calendar/thu-nam-tuan-iii-thuong-nien-nam-i/
END:VEVENT
END:VCALENDAR