BEGIN:VCALENDAR
VERSION:2.0
PRODID:-//Dòng Chúa Cứu Thế Hải Ngoại - ECPv6.15.20//NONSGML v1.0//EN
CALSCALE:GREGORIAN
METHOD:PUBLISH
X-ORIGINAL-URL:https://dongchuacuuthe.us
X-WR-CALDESC:Events for Dòng Chúa Cứu Thế Hải Ngoại
REFRESH-INTERVAL;VALUE=DURATION:PT1H
X-Robots-Tag:noindex
X-PUBLISHED-TTL:PT1H
BEGIN:VTIMEZONE
TZID:America/Los_Angeles
BEGIN:DAYLIGHT
TZOFFSETFROM:-0800
TZOFFSETTO:-0700
TZNAME:PDT
DTSTART:20240310T100000
END:DAYLIGHT
BEGIN:STANDARD
TZOFFSETFROM:-0700
TZOFFSETTO:-0800
TZNAME:PST
DTSTART:20241103T090000
END:STANDARD
BEGIN:DAYLIGHT
TZOFFSETFROM:-0800
TZOFFSETTO:-0700
TZNAME:PDT
DTSTART:20250309T100000
END:DAYLIGHT
BEGIN:STANDARD
TZOFFSETFROM:-0700
TZOFFSETTO:-0800
TZNAME:PST
DTSTART:20251102T090000
END:STANDARD
BEGIN:DAYLIGHT
TZOFFSETFROM:-0800
TZOFFSETTO:-0700
TZNAME:PDT
DTSTART:20260308T100000
END:DAYLIGHT
BEGIN:STANDARD
TZOFFSETFROM:-0700
TZOFFSETTO:-0800
TZNAME:PST
DTSTART:20261101T090000
END:STANDARD
END:VTIMEZONE
BEGIN:VEVENT
DTSTART;VALUE=DATE:20250120
DTEND;VALUE=DATE:20250121
DTSTAMP:20260424T050712
CREATED:20241230T184256Z
LAST-MODIFIED:20241230T184256Z
UID:11062-1737331200-1737417599@dongchuacuuthe.us
SUMMARY:Thứ Hai Tuần II Thường Niên Năm I
DESCRIPTION:BÀI ĐỌC I: Dt 5\, 1-10  \n“Dầu là Con Thiên Chúa\, Người đã học vâng phục do những đau khổ Người chịu”.  \nTrích thư gửi tín hữu Do-thái. \nTất cả các vị Thượng tế được chọn giữa loài người\, nên được đặt lên thay cho loài người mà lo việc Chúa\, để hiến dâng lễ vật và hy lễ đền tội. Người có thể thông cảm với những kẻ mê muội và lầm lạc\, vì chính người cũng mắc phải yếu đuối tư bề. Vì thế cũng như người phải dâng lễ đền tội thay cho dân thế nào\, thì người dâng lễ đền tội cho chính mình như vậy. Không ai được chiếm vinh dự đó\, nhưng phải là người được Thiên Chúa kêu gọi\, như Aaron. Cũng thế\, Đức Kitô không tự dành lấy quyền làm thượng tế\, nhưng là Đấng đã nói với Người rằng: “Con là Con Cha\, hôm nay Cha sinh ra Con”. Cũng có nơi khác Ngài phán: “Con là Tư tế đến muôn đời theo phẩm hàm Menkixêđê”. Khi còn sống ở đời này\, Chúa Kitô đã lớn tiếng và rơi lệ dâng lời cầu xin khẩn nguyện lên Đấng có thể cứu Mình khỏi chết\, và vì lòng thành kính\, Người đã được nhậm lời. Dầu là Con Thiên Chúa\, Người đã học vâng phục do những đau khổ Người chịu\, và khi hoàn tất\, Người đã trở nên căn nguyên ơn cứu độ đời đời cho tất cả những kẻ tùng phục Người. Người được Thiên Chúa gọi là Thượng tế theo phẩm hàm Menkixêđê. Đó là lời Chúa.  \nĐÁP CA: Tv 109\, 1. 2. 3. 4. \nĐáp: Con là Thượng tế tới muôn đời theo phẩm hàm Menkixêđê (c. 4bc). \nXướng: 1) Thiên Chúa đã tuyên bố cùng Chúa tôi rằng: “Con hãy ngồi bên hữu Ta\, cho tới khi Ta bắt quân thù làm bệ kê dưới chân Con”. – Đáp.  \n2) Đức Thiên Chúa từ Sion sẽ phô bày vương trượng quyền bính của Ngài\, rằng: “Con hãy thống trị giữa quân thù”. – Đáp.  \n3) Các thủ lãnh cùng hiện diện bên Con\, ngày Con giáng sinh trong thánh thiện huy hoàng: trước rạng đông\, tựa hồ sương sa\, Ta đã sinh hạ ra Con”. – Đáp.  \n4) Đức Thiên Chúa đã thề và không hối hận rằng: “Con là Thượng tế tới muôn đời theo phẩm hàm Menkixêđê”. – Đáp.  \nALLELUIA: Tv 144\, 13cd \nAlleluia\, alleluia! – Chúa trung thành trong mọi lời Chúa phán\, và thánh thiện trong mọi việc Chúa làm. – Alleluia. \nPHÚC ÂM: Mc 2\, 18-22  \n“Tân lang còn ở với họ”.  \nTin Mừng Chúa Giêsu Kitô theo Thánh Marcô. \nKhi ấy\, môn đồ của Gioan và các người biệt phái ăn chay\, họ đến nói với Chúa Giêsu rằng: “Tại sao môn đồ của Gioan và các người biệt phái ăn chay\, còn môn đồ Ngài lại không ăn chay?” Chúa Giêsu nói với họ: “Các khách dự tiệc cưới có thể ăn chay khi tân lang còn ở với họ không? Bao lâu tân lang còn ở với họ\, thì họ không thể ăn chay được. Nhưng sẽ đến ngày tân lang bị đem đi\, bấy giờ họ sẽ ăn chay. Không ai lấy vải mới mà vá áo cũ\, chẳng vậy\, miếng vải vá sẽ rút lại mà kéo áo cũ\, và chỗ rách lại tệ hơn. Cũng không ai đổ rượu mới vào bầu da cũ\, chẳng vậy\, rượu sẽ làm vỡ bầu da\, và rượu đổ\, bầu da hư. Nhưng rượu mới phải để trong bầu da mới”.  \nĐó là lời Chúa.
URL:https://dongchuacuuthe.us/calendar/thu-hai-tuan-ii-thuong-nien-nam-i/
END:VEVENT
END:VCALENDAR