BEGIN:VCALENDAR
VERSION:2.0
PRODID:-//Dòng Chúa Cứu Thế Hải Ngoại - ECPv6.15.20//NONSGML v1.0//EN
CALSCALE:GREGORIAN
METHOD:PUBLISH
X-WR-CALNAME:Dòng Chúa Cứu Thế Hải Ngoại
X-ORIGINAL-URL:https://dongchuacuuthe.us
X-WR-CALDESC:Events for Dòng Chúa Cứu Thế Hải Ngoại
REFRESH-INTERVAL;VALUE=DURATION:PT1H
X-Robots-Tag:noindex
X-PUBLISHED-TTL:PT1H
BEGIN:VTIMEZONE
TZID:America/Los_Angeles
BEGIN:DAYLIGHT
TZOFFSETFROM:-0800
TZOFFSETTO:-0700
TZNAME:PDT
DTSTART:20240310T100000
END:DAYLIGHT
BEGIN:STANDARD
TZOFFSETFROM:-0700
TZOFFSETTO:-0800
TZNAME:PST
DTSTART:20241103T090000
END:STANDARD
BEGIN:DAYLIGHT
TZOFFSETFROM:-0800
TZOFFSETTO:-0700
TZNAME:PDT
DTSTART:20250309T100000
END:DAYLIGHT
BEGIN:STANDARD
TZOFFSETFROM:-0700
TZOFFSETTO:-0800
TZNAME:PST
DTSTART:20251102T090000
END:STANDARD
BEGIN:DAYLIGHT
TZOFFSETFROM:-0800
TZOFFSETTO:-0700
TZNAME:PDT
DTSTART:20260308T100000
END:DAYLIGHT
BEGIN:STANDARD
TZOFFSETFROM:-0700
TZOFFSETTO:-0800
TZNAME:PST
DTSTART:20261101T090000
END:STANDARD
END:VTIMEZONE
BEGIN:VEVENT
DTSTART;VALUE=DATE:20250118
DTEND;VALUE=DATE:20250119
DTSTAMP:20260424T050714
CREATED:20241230T183401Z
LAST-MODIFIED:20241230T183401Z
UID:11058-1737158400-1737244799@dongchuacuuthe.us
SUMMARY:Thứ Bảy Tuần I Thường Niên Năm I
DESCRIPTION:BÀI ĐỌC I: Dt 4\, 12-16  \n“Chúng ta hãy giữ vững việc tuyên xưng đức tin của chúng ta”.  \nTrích thư gửi tín hữu Do-thái. \nAnh em thân mến\, lời Thiên Chúa là lời hằng sống\, linh nghiệm\, sắc bén hơn mọi thứ gươm hai lưỡi\, thấu suốt đến nỗi phân rẽ linh hồn với thần trí\, gân cốt với tuỷ não\, phân tách tình cảm với ý nghĩ của tâm hồn. Không một tạo vật nào ẩn khuất được trước mặt Chúa; tất cả mọi sự đều phải phơi trần và tỏ ra trước mắt của Đấng mà ta phải trả lẽ. \nVậy chúng ta có một Thượng tế cao cả đã đi qua các tầng trời\, là Đức Giêsu\, Con Thiên Chúa\, nên chúng ta hãy giữ vững việc tuyên xưng đức tin của chúng ta. Vì chưng\, không phải chúng ta có Thượng tế không thể thông cảm sự yếu đuối của chúng ta\, trái lại\, Người đã từng chịu thử thách bằng mọi cách như chúng ta\, ngoại trừ tội lỗi. Nên chúng ta hãy tin tưởng chạy đến toà ơn Chúa\, để nhờ Chúa thương đến\, chúng ta được ơn Chúa tuỳ thời cơ thuận tiện. Đó là lời Chúa. \nĐÁP CA: Tv 18\, 8 . 9. 10. 15 \nĐáp: Lạy Chúa\, lời Chúa là thần trí và là sự sống (Ga 6\, 64b). \nXướng: 1) Luật pháp Chúa toàn thiện\, bồi bổ tâm linh; chỉ thị Chúa cố định\, phá ngu kẻ dốt. – Đáp. \n2) Giới răn Chúa chánh trực\, làm hoan lạc tâm can; mệnh lệnh Chúa trong ngời\, sáng soi con mắt. – Đáp. \n3) Lòng tôn sợ Chúa thuần khiết\, còn mãi muôn đời; phán quyết của Chúa chân thật\, công minh hết thảy. – Đáp. \n4) Xin Chúa nhậm những lời miệng con công bố\, và sự lòng con suy gẫm trước thiên nhan\, lạy Chúa là Đá Tảng\, là Đấng Cứu Chuộc con. – Đáp. \nALLELUIA: Tv 129\, 5 \nAlleluia\, alleluia! – Con hy vọng rất nhiều vào Chúa\, linh hồn con trông cậy ở lời Chúa. – Alleluia. \nPHÚC ÂM: Mc 2\, 13-17  \n“Ta không đến để kêu gọi những người công chính\, mà kêu gọi những người tội lỗi”.  \nTin Mừng Chúa Giêsu Kitô theo Thánh Marcô. \nKhi ấy Chúa Giêsu đi dọc theo bờ biển\, toàn dân đến cùng Người và Người giảng dạy họ. Khi vừa đi qua\, Người thấy ông Lêvi con của Alphê\, đang ngồi nơi bàn thu thuế. Người bảo ông: “Hãy theo Ta”. Ông liền đứng dậy theo Người. Và xảy ra là khi Người dùng bữa tại nhà ông\, nhiều người thu thuế và tội lỗi cùng đồng bàn với Chúa Giêsu và các môn đệ của Người\, vì đã có nhiều kẻ theo Người. Những luật sĩ và biệt phái thấy Người ngồi ăn uống với những người thu thuế và tội lỗi\, liền nói với các môn đệ Người rằng: “Tại sao thầy các ông lại ăn uống với những người thu thuế và tội lỗi?” Nghe vậy\, Chúa Giêsu bảo họ: “Những người khoẻ mạnh không cần gì đến thầy thuốc\, nhưng là những người đau yếu. Ta không đến để kêu gọi những người công chính\, mà kêu gọi những người tội lỗi”.  \nĐó là lời Chúa.
URL:https://dongchuacuuthe.us/calendar/thu-bay-tuan-i-thuong-nien-nam-i/
END:VEVENT
END:VCALENDAR