BEGIN:VCALENDAR
VERSION:2.0
PRODID:-//Dòng Chúa Cứu Thế Hải Ngoại - ECPv6.15.20//NONSGML v1.0//EN
CALSCALE:GREGORIAN
METHOD:PUBLISH
X-WR-CALNAME:Dòng Chúa Cứu Thế Hải Ngoại
X-ORIGINAL-URL:https://dongchuacuuthe.us
X-WR-CALDESC:Events for Dòng Chúa Cứu Thế Hải Ngoại
REFRESH-INTERVAL;VALUE=DURATION:PT1H
X-Robots-Tag:noindex
X-PUBLISHED-TTL:PT1H
BEGIN:VTIMEZONE
TZID:America/Los_Angeles
BEGIN:DAYLIGHT
TZOFFSETFROM:-0800
TZOFFSETTO:-0700
TZNAME:PDT
DTSTART:20240310T100000
END:DAYLIGHT
BEGIN:STANDARD
TZOFFSETFROM:-0700
TZOFFSETTO:-0800
TZNAME:PST
DTSTART:20241103T090000
END:STANDARD
BEGIN:DAYLIGHT
TZOFFSETFROM:-0800
TZOFFSETTO:-0700
TZNAME:PDT
DTSTART:20250309T100000
END:DAYLIGHT
BEGIN:STANDARD
TZOFFSETFROM:-0700
TZOFFSETTO:-0800
TZNAME:PST
DTSTART:20251102T090000
END:STANDARD
BEGIN:DAYLIGHT
TZOFFSETFROM:-0800
TZOFFSETTO:-0700
TZNAME:PDT
DTSTART:20260308T100000
END:DAYLIGHT
BEGIN:STANDARD
TZOFFSETFROM:-0700
TZOFFSETTO:-0800
TZNAME:PST
DTSTART:20261101T090000
END:STANDARD
END:VTIMEZONE
BEGIN:VEVENT
DTSTART;VALUE=DATE:20250117
DTEND;VALUE=DATE:20250118
DTSTAMP:20260424T050616
CREATED:20241230T183315Z
LAST-MODIFIED:20241230T183315Z
UID:11056-1737072000-1737158399@dongchuacuuthe.us
SUMMARY:Thứ Sáu Tuần I Thường Niên Năm I
DESCRIPTION:BÀI ĐỌC I: Dt 4\, 1-5. 11  \n“Chúng ta hãy mau mau tiến vào nơi an nghỉ đó”.  \nTrích thư gửi tín hữu Do-thái. \nAnh em thân mến\, chúng ta hãy lo sợ kẻo đang khi lời hứa được vào trong sự an nghỉ của Chúa còn có giá trị mà có người trong anh em tưởng mình không được hưởng. Quả thật\, chúng ta đã nhận lãnh tin mừng như họ; nhưng lời họ đã nghe không sinh ích gì cho họ\, bởi họ không lấy đức tin mà thông hiệp với những kẻ đã tin. Chúng ta là những kẻ đã tin; chúng ta đang đi vào nơi an nghỉ\, như lời Người phán rằng: “Như Ta đã thề trong cơn thịnh nộ\, chúng sẽ không được vào nơi an nghỉ của Ta”. Dầu vậy\, các công trình của Người đã được hoàn tất từ tạo thiên lập địa. Vì chưng\, có câu nói về ngày thứ bảy rằng: “Và ngày thứ bảy\, Thiên Chúa đã nghỉ mọi việc”. Lại có câu khác rằng: “Không\, chúng nó sẽ chẳng vào nơi an nghỉ của Ta”. Vậy chúng ta hãy mau mau tiến vào nơi an nghỉ đó\, để không ai sa ngã mà nên gương bất trung. Đó là lời Chúa.  \nĐÁP CA: Tv 77\, 3 và 4bc. 6c-7. 8 \nĐáp: Chúng tôi sẽ không quên lãng những kỳ công của Chúa (c. 7c). \nXướng: 1) Điều mà chúng tôi đã nghe\, đã biết\, mà tổ tiên đã thuật lại cho chúng tôi hay\, chúng tôi sẽ kể lại cho thế hệ tương lai\, đó là những lời khen ngợi và quyền năng của Chúa. – Đáp. \n2) Để họ đứng ra và thuật lại cho con cái họ\, hầu cho chúng đặt niềm hy vọng nơi Thiên Chúa\, và không quên lãng những kỳ công của Người\, những giới răn của Người chúng sẽ tuân theo. – Đáp. \n3) Và chúng đừng trở nên như tổ tiên chúng\, một thế hệ khó dạy và lăng loàn\, một thế hệ không có lòng ngay thẳng\, và không có tâm hồn trung kiên cùng Thiên Chúa. – Đáp. \nALLELUIA: Tv 118\, 27 \nAlleluia\, alleluia! – Xin Chúa cho con hiểu đường lối những huấn lệnh của Chúa\, và con suy gẫm các điều lạ lùng của Chúa. – Alleluia. \nPHÚC ÂM: Mc 2\, 1-12  \n“Con Người có quyền tha tội dưới đất”.  \nTin Mừng Chúa Giêsu Kitô theo Thánh Marcô. \nSau ít ngày\, Chúa Giêsu lại trở về Capharnaum; nghe tin Người đang ở trong nhà\, nhiều người tuôn đến đông đảo\, đến nỗi ngoài cửa cũng không còn chỗ đứng\, và Người giảng dạy họ. Người ta mang đến cho Người một kẻ bất toại do bốn người khiêng. Vì dân chúng quá đông\, không thể khiêng đến gần Người được\, nên họ dỡ mái nhà trên chỗ Người ngồi một lỗ to\, rồi thòng chiếc chõng với người bất toại xuống. Thấy lòng tin của họ\, Chúa Giêsu nói với người bất toại rằng: “Hỡi con\, tội lỗi con được tha”. Lúc ấy\, có một ít luật sĩ ngồi đó\, họ thầm nghĩ rằng: “Sao ông này lại nói thế? Ông nói phạm thượng. Ai có quyền tha tội\, nếu không phải là một mình Thiên Chúa”. Chúa Giêsu biết tâm trí họ nghĩ như vậy\, liền nói với họ: “Tại sao các ông nghĩ như thế? Nói với người bất toại này: ‘Tội lỗi con được tha’ hay nói: ‘Hãy chỗi dậy vác chõng mà đi’\, đàng nào dễ hơn? Nhưng (nói thế là) để các ông biết Con Người có quyền tha tội dưới đất”. – Người nói với kẻ bất toại: “Ta truyền cho con hãy chỗi dậy\, vác chõng mà về nhà”. Lập tức người ấy đứng dậy\, vác chõng ra đi trước mặt mọi người\, khiến ai nấy sửng sốt và ngợi khen Thiên Chúa rằng: “Chúng tôi chưa từng thấy như thế bao giờ”. \nĐó là lời Chúa.
URL:https://dongchuacuuthe.us/calendar/thu-sau-tuan-i-thuong-nien-nam-i/
END:VEVENT
END:VCALENDAR