BEGIN:VCALENDAR
VERSION:2.0
PRODID:-//Dòng Chúa Cứu Thế Hải Ngoại - ECPv6.15.20//NONSGML v1.0//EN
CALSCALE:GREGORIAN
METHOD:PUBLISH
X-ORIGINAL-URL:https://dongchuacuuthe.us
X-WR-CALDESC:Events for Dòng Chúa Cứu Thế Hải Ngoại
REFRESH-INTERVAL;VALUE=DURATION:PT1H
X-Robots-Tag:noindex
X-PUBLISHED-TTL:PT1H
BEGIN:VTIMEZONE
TZID:America/Los_Angeles
BEGIN:DAYLIGHT
TZOFFSETFROM:-0800
TZOFFSETTO:-0700
TZNAME:PDT
DTSTART:20240310T100000
END:DAYLIGHT
BEGIN:STANDARD
TZOFFSETFROM:-0700
TZOFFSETTO:-0800
TZNAME:PST
DTSTART:20241103T090000
END:STANDARD
BEGIN:DAYLIGHT
TZOFFSETFROM:-0800
TZOFFSETTO:-0700
TZNAME:PDT
DTSTART:20250309T100000
END:DAYLIGHT
BEGIN:STANDARD
TZOFFSETFROM:-0700
TZOFFSETTO:-0800
TZNAME:PST
DTSTART:20251102T090000
END:STANDARD
BEGIN:DAYLIGHT
TZOFFSETFROM:-0800
TZOFFSETTO:-0700
TZNAME:PDT
DTSTART:20260308T100000
END:DAYLIGHT
BEGIN:STANDARD
TZOFFSETFROM:-0700
TZOFFSETTO:-0800
TZNAME:PST
DTSTART:20261101T090000
END:STANDARD
END:VTIMEZONE
BEGIN:VEVENT
DTSTART;VALUE=DATE:20250114
DTEND;VALUE=DATE:20250115
DTSTAMP:20260424T050712
CREATED:20241230T182916Z
LAST-MODIFIED:20241230T182916Z
UID:11050-1736812800-1736899199@dongchuacuuthe.us
SUMMARY:Thứ Ba Tuần I Thường Niên Năm I
DESCRIPTION:BÀI ĐỌC I: Dt 2\, 5-12 \n“Đấng ban ơn cứu độ phải chịu khổ nạn để nên hoàn hảo”.  \nTrích thư gửi tín hữu Do-thái. \nThiên Chúa đã không đặt dưới quyền các thiên thần vũ trụ tương lai mà chúng tôi đang nói đến. Nhưng có người đã minh chứng trong một đoạn sách kia rằng: “Nhân loại là gì mà Chúa nhớ đến\, con người là gì mà Chúa đến viếng thăm? Trong một thời gian\, Chúa đã hạ Người xuống kém các thiên thần; Chúa lại đặt trên đầu Người triều thiên vinh quang và danh dự; Chúa đã đặt Người cai trị các công trình tay Chúa tác thành; và bắt vạn vật quy phục dưới chân Người. Vì khi Ngài bắt vạn vật quy phục Người\, Ngài không trừ ra vật nào khỏi phục tùng Người. Hiện nay chúng ta chưa thấy mọi sự phục quyền Người. Nhưng Đấng trong một thời gian bị hạ xuống kém các Thiên thần\, là Đức Giêsu\, chúng ta thấy Người được triều thiên vinh quang và danh dự vì cuộc tử nạn của Người\, để nhờ ơn Thiên Chúa\, Người chịu chết thay cho mọi người. Quả vậy\, thật là thích hợp việc Chúa là nguyên nhân và cùng đích mọi vật\, đã dẫn đưa nhiều con cái đến vinh quang và đã lấy cuộc khổ nạn mà làm cho Đấng đem lại ơn cứu rỗi được hoàn hảo. Vì chưng\, Đấng thánh hoá và những người được thánh hoá\, tất cả đều do một nguồn gốc. Vì thế\, Người không hổ thẹn gọi họ là anh em mà rằng: “Tôi sẽ cao rao danh Chúa cho anh em tôi; tôi sẽ ngợi khen Người giữa cộng đoàn”. Đó là lời Chúa.  \nĐÁP CA: Tv 8\, 2a và 5. 6-7. 8-9. \nĐáp: Chúa ban cho Con Chúa quyền hành trên công cuộc tay Ngài sáng tạo (c. 7). \nXướng: 1) Lạy Chúa\, lạy Chúa chúng con\, nhân loại là chi mà Chúa nhớ tới? con người là chi mà Chúa để ý chăm nom? – Đáp. \n2) Chúa dựng nên con người kém thiên thần một chút\, Chúa trang sức con người bằng danh dự với vinh quang\, Chúa ban cho quyền hành trên công cuộc tay Ngài sáng tạo\, Chúa đặt muôn vật dưới chân con người. – Đáp. \n3) Nào chiên\, nào bò\, thôi thì tất cả\, cho tới những muông thú ở đồng hoang\, chim trời với cá đại dương\, những gì lội khắp nẻo đường biển khơi. – Đáp. \nALLELUIA: Tv 24\, 4c và 5a \nAlleluia\, alleluia! – Lạy Chúa\, xin dạy bảo con về lối bước của Chúa và xin hướng dẫn con trong chân lý của Ngài. – Alleluia. \nPHÚC ÂM: Mc 1\, 21-28 \n“Ngài giảng dạy người ta như Đấng có uy quyền”.  \nTin Mừng Chúa Giêsu Kitô theo Thánh Marcô. \n(Đến thành Capharnaum)\, ngày nghỉ lễ\, Chúa Giêsu vào giảng dạy trong hội đường. Người ta kinh ngạc về giáo lý của Người\, vì Người giảng dạy người ta như Đấng có uy quyền\, chứ không như các luật sĩ. \nĐang lúc đó\, trong hội đường có một người bị thần ô uế ám\, nên thét lên rằng: “Hỡi Giêsu Nadarét\, có chuyện gì giữa chúng tôi và ông? Ông đến để tiêu diệt chúng tôi sao? Tôi biết ông là ai: là Đấng Thánh của Thiên Chúa”. Chúa Giêsu quát bảo nó rằng: “Hãy im đi\, và ra khỏi người này!” Thần ô uế liền dằn vật người ấy\, thét lên một tiếng lớn\, rồi xuất khỏi người ấy. Mọi người kinh ngạc hỏi nhau rằng: “Cái chi vậy? Đây là một giáo lý mới ư? Người dùng uy quyền mà truyền lệnh cho cả các thần ô uế\, và chúng vâng lệnh Người”. Danh tiếng Người liền đồn ra khắp mọi nơi\, và lan tràn khắp vùng lân cận xứ Galilêa.  \nĐó là lời Chúa.
URL:https://dongchuacuuthe.us/calendar/thu-ba-tuan-i-thuong-nien-nam-i/
END:VEVENT
END:VCALENDAR