BEGIN:VCALENDAR
VERSION:2.0
PRODID:-//Dòng Chúa Cứu Thế Hải Ngoại - ECPv6.15.20//NONSGML v1.0//EN
CALSCALE:GREGORIAN
METHOD:PUBLISH
X-WR-CALNAME:Dòng Chúa Cứu Thế Hải Ngoại
X-ORIGINAL-URL:https://dongchuacuuthe.us
X-WR-CALDESC:Events for Dòng Chúa Cứu Thế Hải Ngoại
REFRESH-INTERVAL;VALUE=DURATION:PT1H
X-Robots-Tag:noindex
X-PUBLISHED-TTL:PT1H
BEGIN:VTIMEZONE
TZID:America/Los_Angeles
BEGIN:DAYLIGHT
TZOFFSETFROM:-0800
TZOFFSETTO:-0700
TZNAME:PDT
DTSTART:20240310T100000
END:DAYLIGHT
BEGIN:STANDARD
TZOFFSETFROM:-0700
TZOFFSETTO:-0800
TZNAME:PST
DTSTART:20241103T090000
END:STANDARD
BEGIN:DAYLIGHT
TZOFFSETFROM:-0800
TZOFFSETTO:-0700
TZNAME:PDT
DTSTART:20250309T100000
END:DAYLIGHT
BEGIN:STANDARD
TZOFFSETFROM:-0700
TZOFFSETTO:-0800
TZNAME:PST
DTSTART:20251102T090000
END:STANDARD
BEGIN:DAYLIGHT
TZOFFSETFROM:-0800
TZOFFSETTO:-0700
TZNAME:PDT
DTSTART:20260308T100000
END:DAYLIGHT
BEGIN:STANDARD
TZOFFSETFROM:-0700
TZOFFSETTO:-0800
TZNAME:PST
DTSTART:20261101T090000
END:STANDARD
END:VTIMEZONE
BEGIN:VEVENT
DTSTART;VALUE=DATE:20250112
DTEND;VALUE=DATE:20250113
DTSTAMP:20260424T050714
CREATED:20241230T182649Z
LAST-MODIFIED:20241230T182649Z
UID:11046-1736640000-1736726399@dongchuacuuthe.us
SUMMARY:Lễ Chúa Chịu Phép Rửa Năm C
DESCRIPTION:BÀI ĐỌC I: Is 42\, 1-4. 6-7 \n“Này là tôi tớ Ta\, Ta hài lòng về người”. \nTrích sách Tiên tri Isaia. \nĐây là lời Chúa phán: “Này là tôi tớ Ta mà Ta nâng đỡ\, là người Ta chọn\, Ta hài lòng về người. Ta ban Thần trí Ta trên người. Người sẽ xét xử chư dân. Người sẽ không lớn tiếng\, không thiên vị ai; không ai nghe tiếng người ở công trường. Người không bẻ gẫy cây lau bị giập\, không dập tắt tim đèn còn khói. Người trung thành đem lại lẽ công bình. Người sẽ không buồn phiền\, không nao núng\, chỉ lo đặt công lý trên địa cầu\, vì trăm đảo mong đợi lề luật người.  \nTa là Chúa\, Ta đã gọi con trong công lý\, đã cầm lấy tay con\, đã gìn giữ con\, đã đặt con thành giao ước của dân\, và nên ánh sáng của chư dân\, để con mở mắt cho người mù\, đưa ra khỏi tù những người bị xiềng xích\, đưa ra khỏi ngục những người ngồi trong tối tăm”. Đó là lời Chúa. \nĐÁP CA: Tv 28\, 1a và 2. 3ac-4. 3b và 9b-10 \nĐáp: Chúa sẽ chúc phúc cho dân Người trong cảnh thái bình (c. 11b). \nXướng: 1) Các con cái Thiên Chúa hãy dâng kính Chúa\, hãy dâng kính Chúa vinh quang xứng với danh Người; hãy mang lễ phục thánh để thờ lạy Chúa. – Đáp.  \n2) Tiếng Chúa vang dội trên mặt nước\, Chúa ngự trên muôn ngàn sóng nước. Tiếng Chúa phán ra trong uy quyền\, tiếng Chúa phán ra trong oai vệ. – Đáp.  \n3) Thiên Chúa oai nghiêm làm cho sấm sét nổ ran\, và trong thánh đài của Chúa\, mọi người kêu lên: Vinh quang! Chúa ngự trị trong cơn hồng thuỷ\, và Chúa làm vua ngự trị tới muôn đời. – Đáp.  \nBÀI ĐỌC II: Cv 10\, 34-38 \n“Chúa dùng Thánh Thần mà xức dầu tấn phong cho Người”. \nTrích sách Tông đồ Công vụ. \nTrong những ngày ấy\, Phêrô mở miệng nói rằng: “Quả thật\, tôi nghiệm biết rằng Thiên Chúa không thiên tư tây vị\, nhưng ở bất cứ xứ nào\, ai kính sợ Người và thực hành sự công chính\, đều được Người đón nhận. Thiên Chúa đã sai Lời Người đến cùng con cái Israel\, loan tin bình an\, nhờ Chúa Giêsu Kitô là Chúa muôn loài. Như anh em biết\, điều đã xảy ra trong toàn cõi Giuđa\, khởi đầu từ Galilêa\, sau khi Gioan đã rao giảng phép rửa: ấy là Chúa Giêsu thành Nadarét. Thiên Chúa đã dùng Thánh Thần và quyền năng mà xức dầu tấn phong cho Người. Người đi qua mọi nơi\, ban bố ơn lành và chữa mọi người bị quỷ ám\, bởi vì Thiên Chúa ở với Người”. Đó là lời Chúa. \nALLELUIA: x. Mc 9\, 7 \nAlleluia\, alleluia! – Các tầng trời mở ra\, tiếng Chúa Cha tuyên phán: “Này là Con Ta yêu dấu\, hãy nghe lời Người”. – Alleluia. \nPHÚC ÂM: Lc 3\, 15-16. 21-22 \n“Khi Chúa Giêsu đã chịu phép rửa và đang cầu nguyện thì trời mở ra”. \nTin Mừng Chúa Giêsu Kitô theo Thánh Luca. \nKhi ấy\, trong lúc dân chúng đang mong đợi\, và mọi người tự hỏi trong lòng rằng: “Gioan có phải là Đấng Kitô không?”\, Gioan lên tiếng bảo mọi người rằng: “Phần tôi\, tôi rửa anh em trong nước\, nhưng Đấng cao trọng hơn tôi đang đến\, và tôi không xứng đáng cởi dây giày cho Người\, chính Người sẽ rửa anh em trong Chúa Thánh Thần và trong lửa!”  \nVậy khi tất cả dân chúng đã chịu phép rửa\, và chính lúc Chúa Giêsu cũng đã chịu phép rửa xong\, Người đang cầu nguyện\, thì trời mở ra và Thánh Thần Chúa ngự xuống trên Người dưới hình chim bồ câu\, và có tiếng từ trời phán: “Con là Con yêu dấu của Cha\, Con đẹp lòng Cha”. Đó là lời Chúa.
URL:https://dongchuacuuthe.us/calendar/le-chua-chiu-phep-rua-nam-c/
END:VEVENT
END:VCALENDAR