BEGIN:VCALENDAR
VERSION:2.0
PRODID:-//Dòng Chúa Cứu Thế Hải Ngoại - ECPv6.15.20//NONSGML v1.0//EN
CALSCALE:GREGORIAN
METHOD:PUBLISH
X-ORIGINAL-URL:https://dongchuacuuthe.us
X-WR-CALDESC:Events for Dòng Chúa Cứu Thế Hải Ngoại
REFRESH-INTERVAL;VALUE=DURATION:PT1H
X-Robots-Tag:noindex
X-PUBLISHED-TTL:PT1H
BEGIN:VTIMEZONE
TZID:America/Los_Angeles
BEGIN:DAYLIGHT
TZOFFSETFROM:-0800
TZOFFSETTO:-0700
TZNAME:PDT
DTSTART:20240310T100000
END:DAYLIGHT
BEGIN:STANDARD
TZOFFSETFROM:-0700
TZOFFSETTO:-0800
TZNAME:PST
DTSTART:20241103T090000
END:STANDARD
BEGIN:DAYLIGHT
TZOFFSETFROM:-0800
TZOFFSETTO:-0700
TZNAME:PDT
DTSTART:20250309T100000
END:DAYLIGHT
BEGIN:STANDARD
TZOFFSETFROM:-0700
TZOFFSETTO:-0800
TZNAME:PST
DTSTART:20251102T090000
END:STANDARD
BEGIN:DAYLIGHT
TZOFFSETFROM:-0800
TZOFFSETTO:-0700
TZNAME:PDT
DTSTART:20260308T100000
END:DAYLIGHT
BEGIN:STANDARD
TZOFFSETFROM:-0700
TZOFFSETTO:-0800
TZNAME:PST
DTSTART:20261101T090000
END:STANDARD
END:VTIMEZONE
BEGIN:VEVENT
DTSTART;VALUE=DATE:20250104
DTEND;VALUE=DATE:20250105
DTSTAMP:20260424T050713
CREATED:20241230T173817Z
LAST-MODIFIED:20241230T173817Z
UID:11026-1735948800-1736035199@dongchuacuuthe.us
SUMMARY:Ngày 4 tháng 1 Tuần Trước Lễ Hiển Linh
DESCRIPTION:BÀI ĐỌC I: 1 Ga 3\, 7-10 \n“Người ấy không phạm tội được\, vì đã sinh ra bởi Thiên Chúa”. \nTrích thư thứ nhất của Thánh Gioan Tông đồ. \nHỡi các con bé nhỏ\, đừng để ai lừa gạt các con. Ai thi hành sự công chính là người công chính\, cũng như chính Người là Đấng công chính. Ai phạm tội thì bởi quỷ mà ra\, vì quỷ là kẻ phạm tội từ ban đầu. Con Thiên Chúa đã xuất hiện để phá huỷ công việc của ma quỷ.  \nBất cứ ai đã sinh ra bởi Thiên Chúa\, thì không phạm tội\, vì mầm giống của Người ở trong kẻ ấy. Kẻ ấy không phạm tội được\, vì đã bởi Thiên Chúa mà sinh ra. Do đó mà nhận ra được con của Thiên Chúa và con cái ma quỷ. Bất cứ ai không phải là người công chính\, và không thương yêu anh em mình\, thì không bởi Thiên Chúa mà ra. Đó là lời Chúa. \nĐÁP CA: Tv 97\, 1. 7- 8. 9 \nĐáp: Khắp nơi bờ cõi địa cầu đã nhìn thấy ơn cứu độ của Thiên Chúa chúng ta (c. 3a). \nXướng: 1) Hãy ca mừng Chúa một bài ca mới\, vì Người đã làm nên những điều huyền diệu. Tay hữu Người đã tạo cho Người cuộc chiến thắng\, cùng với cánh tay thánh thiện của Người. – Đáp.  \n2) Biển khơi và muôn vật trong đó hãy rống tiếng lên\, cả địa cầu và những dân cư ngụ ở trong cũng thế. Các sông ngòi hãy vỗ tay reo\, đồng thời các núi non hãy hân hoan nhảy nhót. – Đáp.  \n3) Trước thiên nhan Chúa\, vì Người ngự tới\, vì Người ngự tới cai quản địa cầu. Người cai quản địa cầu với đức công minh\, và cai quản chư dân trong đường chính trực. – Đáp.  \nALLELUIA: \nAlleluia\, alleluia! – Thuở xưa\, nhiều lần nhiều cách\, Thiên Chúa đã dùng các tiên tri mà phán dạy cha ông\, nhưng đến thời sau hết\, tức là trong những ngày này\, Người đã phán dạy chúng ta nơi người Con. – Alleluia. \nPHÚC ÂM: Ga 1\, 35-42 \n“Chúng tôi đã gặp Đấng Cứu Thế”. \nTin Mừng Chúa Giêsu Kitô theo Thánh Gioan. \nKhi ấy\, Gioan đang đứng với hai người trong nhóm môn đệ của ông\, nhìn theo Chúa Giêsu đang đi mà nói: “Đây là Chiên Thiên Chúa”. Hai môn đệ nghe ông nói\, liền đi theo Chúa Giêsu. Chúa Giêsu ngoảnh mặt lại\, thấy họ đi theo mình\, thì nói với họ: “Các ngươi tìm gì?” Họ thưa với Người: “Rabbi\, nghĩa là thưa Thầy\, Thầy ở đâu?” Người đáp: “Hãy đến mà xem”. Họ đã đến và xem chỗ Người ở\, và ở lại với Người ngày hôm ấy\, lúc đó độ chừng giờ thứ mười. Anrê\, em ông Simon Phêrô\, (là) một trong hai người đã nghe Gioan nói và đã đi theo Chúa Giêsu. Ông gặp Simon anh mình trước hết và nói với anh: “Chúng tôi đã gặp Đấng Messia\, nghĩa là Đấng Kitô”\, và ông dẫn anh mình tới Chúa Giêsu. Chúa Giêsu nhìn Simon và nói: “Ngươi là Simon\, con ông Gioan\, ngươi sẽ được gọi là Kêpha\, nghĩa là Đá”.  \nĐó là lời Chúa.
URL:https://dongchuacuuthe.us/calendar/ngay-4-thang-1-tuan-truoc-le-hien-linh-2/
END:VEVENT
END:VCALENDAR