BEGIN:VCALENDAR
VERSION:2.0
PRODID:-//Dòng Chúa Cứu Thế Hải Ngoại - ECPv6.15.20//NONSGML v1.0//EN
CALSCALE:GREGORIAN
METHOD:PUBLISH
X-ORIGINAL-URL:https://dongchuacuuthe.us
X-WR-CALDESC:Events for Dòng Chúa Cứu Thế Hải Ngoại
REFRESH-INTERVAL;VALUE=DURATION:PT1H
X-Robots-Tag:noindex
X-PUBLISHED-TTL:PT1H
BEGIN:VTIMEZONE
TZID:America/Los_Angeles
BEGIN:DAYLIGHT
TZOFFSETFROM:-0800
TZOFFSETTO:-0700
TZNAME:PDT
DTSTART:20230312T100000
END:DAYLIGHT
BEGIN:STANDARD
TZOFFSETFROM:-0700
TZOFFSETTO:-0800
TZNAME:PST
DTSTART:20231105T090000
END:STANDARD
BEGIN:DAYLIGHT
TZOFFSETFROM:-0800
TZOFFSETTO:-0700
TZNAME:PDT
DTSTART:20240310T100000
END:DAYLIGHT
BEGIN:STANDARD
TZOFFSETFROM:-0700
TZOFFSETTO:-0800
TZNAME:PST
DTSTART:20241103T090000
END:STANDARD
BEGIN:DAYLIGHT
TZOFFSETFROM:-0800
TZOFFSETTO:-0700
TZNAME:PDT
DTSTART:20250309T100000
END:DAYLIGHT
BEGIN:STANDARD
TZOFFSETFROM:-0700
TZOFFSETTO:-0800
TZNAME:PST
DTSTART:20251102T090000
END:STANDARD
END:VTIMEZONE
BEGIN:VEVENT
DTSTART;VALUE=DATE:20241222
DTEND;VALUE=DATE:20241223
DTSTAMP:20260424T063358
CREATED:20241026T044731Z
LAST-MODIFIED:20241026T044731Z
UID:10765-1734825600-1734911999@dongchuacuuthe.us
SUMMARY:Chúa Nhật IV Mùa Vọng Năm C
DESCRIPTION:BÀI ĐỌC I: Mk 5\, 2-5a (Hr 1-4a) \n“Nơi ngươi sẽ xuất hiện Đấng thống trị Israel”.  \nBài trích sách Tiên tri Mikha. \nĐây lời Chúa phán: “Hỡi Bêlem Ephrata\, ngươi nhỏ nhất trong trăm ngàn phần đất Giuđa\, nhưng nơi ngươi sẽ xuất hiện một Đấng thống trị Israel\, và nguồn gốc Người có từ nguyên thuỷ\, từ muôn đời. Vì thế\, Người sẽ bỏ dân Người cho đến khi một người nữ phải sinh\, sẽ sinh con. Số còn lại trong anh em Người\, sẽ trở về với con cái Israel. Người sẽ đứng vững và chăn dắt trong sức mạnh của Chúa\, trong thánh danh cao cả của Chúa là Thiên Chúa của Người. Và họ sẽ trở về\, vì bấy giờ Người sẽ nên cao trọng cho đến tận cùng trái đất. Vì vậy\, Người sẽ là chính sự bình an”. Đó là lời Chúa.  \nĐÁP CA: Tv 79\, 2ac và 3b. 15-16. 18-19 \nĐáp: Lạy Chúa là Thiên Chúa chúng con\, xin cho chúng con được phục hồi\, xin tỏ thiên nhan hiền từ Chúa ra\, hầu cho chúng con được ơn cứu sống(c. 4). \nXướng: 1) Lạy Đấng chăn dắt Israel\, xin hãy lắng tai nghe! Chúa ngự trên Vệ Binh Thần\, xin hiện ra trong sáng láng. Xin thức tỉnh quyền năng của Chúa\, và ngự tới để cứu độ chúng con. – Đáp. \n2) Lạy Chúa thiên binh\, xin thương trở lại\, từ trời cao xin nhìn coi và thăm viếng vườn nho này. Xin bảo vệ vườn nho mà tay hữu Ngài đã cấy\, bảo vệ ngành mà Ngài đã củng cố cho mình. – Đáp. \n3) Xin Chúa ra tay bang trợ người ở bên tay hữu Chúa\, con người mà Chúa đã củng cố cho mình. Chúng con sẽ không còn rời xa Chúa nữa. Chúa cho chúng con được sống\, và chúng con ca tụng danh Người. – Đáp. \nBÀI ĐỌC II: Dt 10\, 5-10  \n“Này đây con đến để thi hành thánh ý Chúa”.  \nBài trích thơ gởi tín hữu Do-thái. \nAnh em thân mến\, khi đến trong thế gian\, Chúa Giêsu phán: “Chúa đã không muốn của hy tế và của lễ hiến dâng\, nhưng đã tạo nên cho tôi một thể xác. Chúa không nhận của lễ toàn thiêu và của lễ đền tội. Nên tôi nói: ‘Lạy Chúa\, này con đến để thi hành thánh ý Chúa\, như đã nói về con ở đoạn đầu cuốn sách'”.  \nSách ấy bắt đầu như thế này: “Của lễ hy tế\, của lễ hiến dâng\, của lễ toàn thiêu và của lễ đền tội\, Chúa không muốn cũng không nhận\, mặc dầu được hiến dâng theo lề luật. Đoạn Người nói tiếp: Lạy Chúa\, này đây con đến để thi hành thánh ý Chúa”. Như thế đã bãi bỏ điều trước để thiết lập điều sau. Chính bởi thánh ý đó mà chúng ta được thánh hoá nhờ việc hiến dâng Mình Chúa Giêsu Kitô một lần là đủ. Đó là lời Chúa.  \nALLELUIA: Lc 1\, 38 \nAlleluia\, alleluia! “Này tôi là tôi tớ Chúa\, tôi xin vâng như lời Thiên thần truyền”. – Alleluia.  \nPHÚC ÂM: Lc 1\, 39-45  \n“Bởi đâu tôi được Mẹ Thiên Chúa đến viếng thăm tôi”.  \nTin Mừng Chúa Giêsu Kitô theo Thánh Luca. \nNgày ấy\, Maria chỗi dậy\, vội vã ra đi tiến lên miền núi\, đến một thành xứ Giuđêa. Bà vào nhà ông Dacaria và chào bà Isave. Và khi bà Isave nghe lời chào của Maria\, thì hài nhi nhảy mừng trong lòng bà\, và bà Isave được đầy Chúa Thánh Thần\, bà kêu lớn tiếng rằng: “Bà được chúc phúc giữa các người phụ nữ\, và Con lòng Bà được chúc phúc! Bởi đâu tôi được Mẹ Chúa tôi đến viếng thăm tôi? Vì này\, tai tôi vừa nghe lời Bà chào\, hài nhi liền nhảy mừng trong lòng tôi. Phúc cho Bà là kẻ đã tin rằng lời Chúa phán cùng Bà sẽ được thực hiện”.  \nĐó là lời Chúa.
URL:https://dongchuacuuthe.us/calendar/chua-nhat-iv-mua-vong-nam-c/
END:VEVENT
END:VCALENDAR