BEGIN:VCALENDAR
VERSION:2.0
PRODID:-//Dòng Chúa Cứu Thế Hải Ngoại - ECPv6.15.20//NONSGML v1.0//EN
CALSCALE:GREGORIAN
METHOD:PUBLISH
X-WR-CALNAME:Dòng Chúa Cứu Thế Hải Ngoại
X-ORIGINAL-URL:https://dongchuacuuthe.us
X-WR-CALDESC:Events for Dòng Chúa Cứu Thế Hải Ngoại
REFRESH-INTERVAL;VALUE=DURATION:PT1H
X-Robots-Tag:noindex
X-PUBLISHED-TTL:PT1H
BEGIN:VTIMEZONE
TZID:America/Los_Angeles
BEGIN:DAYLIGHT
TZOFFSETFROM:-0800
TZOFFSETTO:-0700
TZNAME:PDT
DTSTART:20230312T100000
END:DAYLIGHT
BEGIN:STANDARD
TZOFFSETFROM:-0700
TZOFFSETTO:-0800
TZNAME:PST
DTSTART:20231105T090000
END:STANDARD
BEGIN:DAYLIGHT
TZOFFSETFROM:-0800
TZOFFSETTO:-0700
TZNAME:PDT
DTSTART:20240310T100000
END:DAYLIGHT
BEGIN:STANDARD
TZOFFSETFROM:-0700
TZOFFSETTO:-0800
TZNAME:PST
DTSTART:20241103T090000
END:STANDARD
BEGIN:DAYLIGHT
TZOFFSETFROM:-0800
TZOFFSETTO:-0700
TZNAME:PDT
DTSTART:20250309T100000
END:DAYLIGHT
BEGIN:STANDARD
TZOFFSETFROM:-0700
TZOFFSETTO:-0800
TZNAME:PST
DTSTART:20251102T090000
END:STANDARD
END:VTIMEZONE
BEGIN:VEVENT
DTSTART;VALUE=DATE:20241215
DTEND;VALUE=DATE:20241216
DTSTAMP:20260424T063359
CREATED:20241026T044703Z
LAST-MODIFIED:20241026T044703Z
UID:10763-1734220800-1734307199@dongchuacuuthe.us
SUMMARY:Chúa Nhật III Mùa Vọng Năm C
DESCRIPTION:BÀI ĐỌC I: Xp 3\, 14-18a  \n“Chúa sẽ hân hoan vì người”.  \nTrích sách Tiên tri Xôphônia. \nHỡi thiếu nữ Sion\, hãy cất tiếng ca! Hỡi Israel\, hãy hoan hỉ! Hỡi thiếu nữ Giêrusalem\, hãy hân hoan và nhảy mừng hết tâm hồn! Chúa đã rút lại lời kết án ngươi và đã đẩy lui quân thù của ngươi. Vua Israel là Chúa ở giữa ngươi\, ngươi không còn sợ khổ cực nữa. \nTrong ngày đó\, ở Giêrusalem thiên hạ sẽ nói rằng: Hỡi Sion\, đừng sợ\, tay ngươi sẽ hết rã rời! Chúa là Thiên Chúa ngươi\, là Đấng mạnh mẽ ở giữa ngươi\, chính Người cứu thoát ngươi. Người hân hoan vui mừng vì ngươi. Người cảm động yêu thương ngươi\, và vì ngươi\, Người sung sướng reo mừng. Những kẻ hư hỏng bỏ lề luật\, Ta sẽ quy tụ họ lại\, vì họ cũng là con cái ngươi. Đó là lời Chúa. \nĐÁP CA: Is 12\, 2-3. 4bcd. 5-6 \nĐáp: Hãy nhảy mừng và ca ngợi\, vì ở giữa ngươi có Đấng Thánh của Israel thật cao cả (c. 6). \nXướng: 1) Đây Thiên Chúa\, Đấng Cứu Chuộc tôi. Tôi sẽ tin tưởng mà hành động\, tôi không run sợ: vì Thiên Chúa là sức mạnh của tôi và là Đấng tôi ca ngợi. Người trở nên phần rỗi của tôi. – Đáp. \n2) Các ngươi sẽ hân hoan múc nước nơi suối Đấng cứu độ: Hãy tung hô Chúa\, hãy kêu cầu thánh danh Người\, hãy công bố cho các dân tộc biết các kỳ công của Người\, hãy nhớ rằng danh Người rất cao trọng. – Đáp. \n3) Hãy hát mừng Chúa\, vì Người đã làm những việc cả thể\, hãy công bố việc này trên khắp địa cầu. Hỡi dân Sion\, hãy nhảy mừng và ca ngợi\, vì ở giữa ngươi\, có Đấng Thánh của Israel thật cao cả. – Đáp. \nBÀI ĐỌC II: Pl 4\, 4-7  \n“Chúa gần đến”.  \nTrích thơ Thánh Phaolô Tông đồ gởi tín hữu Philipphê. \nAnh em thân mến\, anh em hãy vui luôn trong Chúa! Tôi nhắc lại một lần nữa: anh em hãy vui lên! Đức ôn hoà của anh em phải sáng tỏ trước mặt mọi người\, vì Chúa đã gần đến. Anh em đừng lo lắng gì hết\, nhưng trong khi cầu nguyện\, anh em hãy trình bày những ước vọng lên cùng Chúa\, bằng kinh nguyện và lời cầu xin đi đôi với lời cảm tạ. Và bình an của Thiên Chúa vượt mọi trí hiểu\, sẽ giữ gìn lòng trí anh em trong Chúa Giêsu Kitô. Đó là lời Chúa. \nALLELUIA: Is 61\, 1 (x. Lc 1\, 18) \nAlleluia\, alleluia! – Thánh Thần Chúa ngự trên tôi. Người đã sai tôi đem tin mừng cho người nghèo khó. – Alleluia. \nPHÚC ÂM: Lc 3\, 10-18  \n“Còn chúng tôi\, chúng tôi phải làm gì?” \nTin Mừng Chúa Giêsu Kitô theo Thánh Luca. \nKhi ấy\, dân chúng hỏi Gioan rằng: “Vậy chúng tôi phải làm gì?” Ông trả lời: “Ai có hai áo\, hãy cho người không có; ai có của ăn\, cũng hãy làm như vậy”. Cả những người thu thuế cũng đến xin chịu phép rửa và thưa rằng: “Thưa Thầy\, chúng tôi phải làm gì?” Gioan đáp: “Các ngươi đừng đòi gì quá mức đã ấn định cho các ngươi”. Các quân nhân cũng hỏi: “Còn chúng tôi\, chúng tôi phải làm gì?” Ông đáp: “Đừng ức hiếp ai\, đừng cáo gian ai; các ngươi hãy bằng lòng với số lương của mình”.  \nVì dân chúng đang mong đợi và mọi người tự hỏi trong lòng về Gioan rằng: “Có phải chính ông là Đức Kitô chăng?” Gioan trả lời cho mọi người rằng: “Tôi lấy nước mà rửa các ngươi\, nhưng Đấng quyền năng hơn tôi sẽ đến\, – tôi không xứng đáng cởi dây giày cho Người\, – chính Người sẽ rửa các ngươi trong Chúa Thánh Thần và lửa. Người cầm nia trong tay mà sảy sân lúa của Người\, rồi thu lúa vào kho\, còn rơm thì đốt đi trong lửa không hề tắt!” Ông còn khuyên họ nhiều điều nữa khi rao giảng tin mừng cho dân chúng. Đó là lời Chúa.
URL:https://dongchuacuuthe.us/calendar/chua-nhat-iii-mua-vong-nam-c/
END:VEVENT
END:VCALENDAR