BEGIN:VCALENDAR
VERSION:2.0
PRODID:-//Dòng Chúa Cứu Thế Hải Ngoại - ECPv6.15.20//NONSGML v1.0//EN
CALSCALE:GREGORIAN
METHOD:PUBLISH
X-ORIGINAL-URL:https://dongchuacuuthe.us
X-WR-CALDESC:Events for Dòng Chúa Cứu Thế Hải Ngoại
REFRESH-INTERVAL;VALUE=DURATION:PT1H
X-Robots-Tag:noindex
X-PUBLISHED-TTL:PT1H
BEGIN:VTIMEZONE
TZID:America/Los_Angeles
BEGIN:DAYLIGHT
TZOFFSETFROM:-0800
TZOFFSETTO:-0700
TZNAME:PDT
DTSTART:20230312T100000
END:DAYLIGHT
BEGIN:STANDARD
TZOFFSETFROM:-0700
TZOFFSETTO:-0800
TZNAME:PST
DTSTART:20231105T090000
END:STANDARD
BEGIN:DAYLIGHT
TZOFFSETFROM:-0800
TZOFFSETTO:-0700
TZNAME:PDT
DTSTART:20240310T100000
END:DAYLIGHT
BEGIN:STANDARD
TZOFFSETFROM:-0700
TZOFFSETTO:-0800
TZNAME:PST
DTSTART:20241103T090000
END:STANDARD
BEGIN:DAYLIGHT
TZOFFSETFROM:-0800
TZOFFSETTO:-0700
TZNAME:PDT
DTSTART:20250309T100000
END:DAYLIGHT
BEGIN:STANDARD
TZOFFSETFROM:-0700
TZOFFSETTO:-0800
TZNAME:PST
DTSTART:20251102T090000
END:STANDARD
END:VTIMEZONE
BEGIN:VEVENT
DTSTART;VALUE=DATE:20241201
DTEND;VALUE=DATE:20241202
DTSTAMP:20260424T063359
CREATED:20241026T044509Z
LAST-MODIFIED:20241026T044509Z
UID:10759-1733011200-1733097599@dongchuacuuthe.us
SUMMARY:Chúa Nhật I Mùa Vọng Năm C
DESCRIPTION:BÀI ĐỌC I: Gr 33\, 14-16  \n“Ta sẽ làm nảy sinh cho Đavít một chồi công chính”.  \nTrích sách Tiên tri Giêrêmia. \nĐây lời Chúa phán: Đã đến ngày Ta sẽ thực hiện tin mừng Ta loan báo về nhà Israel và nhà Giuđa. Trong những ngày đó và trong thời gian đó\, Ta sẽ làm nảy sinh cho Đavít một chồi công chính\, Ngài sẽ xét xử và thi hành công lý trong xứ sở. Trong những ngày đó\, Giuđa sẽ được cứu thoát\, Giêrusalem sẽ sống yên ổn. Và đây là tên người ta sẽ gọi Ngài: “Thiên Chúa\, Đấng Công Chính của chúng tôi”. Đó là lời Chúa.  \nĐÁP CA: Tv 24\, 4bc-5ab. 8-9. 10 và 14 \nĐáp: Lạy Chúa\, con vươn linh hồn lên tới Chúa (c. 1b). \nXướng: 1) Lạy Chúa\, xin chỉ cho con đường đi của Chúa; xin dạy bảo con về lối bước của Ngài. Xin hướng dẫn con trong chân lý và dạy bảo con\, vì Chúa là Thiên Chúa cứu độ con. – Đáp. \n2) Chúa nhân hậu và công minh\, vì thế Ngài sẽ dạy cho tội nhân hay đường lối. Ngài hướng dẫn kẻ khiêm cung trong đức công minh\, dạy bảo người khiêm cung đường lối của Ngài. – Đáp. \n3) Tất cả đường nẻo Chúa là ân sủng và trung thành\, dành cho những ai giữ minh ước và điều răn Chúa. Chúa thân mật với những ai tôn sợ Chúa\, và tỏ cho họ biết lời minh ước của Ngài. – Đáp. \nBÀI ĐỌC II: 1 Tx 3\, 12 – 4\, 2  \n“Xin Chúa làm cho lòng anh em nên dũng cảm khi Chúa Kitô đến”.  \nTrích thư thứ I của Thánh Phaolô Tông đồ gửi tín hữu Thêxa-lônica. \nAnh em thân mến\, xin Chúa gia tăng và ban cho anh em tràn đầy lòng thương yêu nhau\, và thương yêu mọi người như chúng tôi đối với anh em\, để lòng anh em được bền vững trên đường thánh thiện\, không có gì đáng trách trước mặt Thiên Chúa là Cha chúng ta\, trong ngày Đức Giêsu Kitô\, Chúa chúng ta\, ngự đến cùng với tất cả các Thánh. Amen. \nAnh em thân mến\, ngoài ra\, tôi còn van nài anh em trong Chúa Giêsu điều này\, là như anh em được chúng tôi bảo cho biết phải sống thế nào cho đẹp lòng Chúa\, anh em đang sống như vậy\, xin anh em cứ tiến thêm nữa. Vì anh em biết rõ huấn thị chúng tôi nhân danh Chúa Giêsu đã ban cho anh em. Đó là lời Chúa. \nALLELUIA: Tv 84\, 8 \nAlleluia\, alleluia! – Lạy Chúa\, xin tỏ lòng từ bi Chúa cho chúng con\, và ban ơn cứu rỗi cho chúng con. – Alleluia. \nPHÚC ÂM: Lc 21\, 25-28\, 34-36  \n“Giờ cứu rỗi các con đã gần đến”.  \nTin Mừng Chúa Giêsu Kitô theo Thánh Luca. \nKhi ấy\, Chúa Giêsu phán cùng các môn đệ rằng: “Sẽ có những điềm lạ trên mặt trời\, mặt trăng và các ngôi sao; dưới đất\, các dân tộc buồn sầu lo lắng\, vì biển gầm sóng vỗ. Người ta sợ hãi kinh hồn chờ đợi những gì sẽ xảy đến trong vũ trụ\, vì các tầng trời sẽ rung chuyển. Lúc đó\, người ta sẽ thấy trên đám mây\, Con Người hiện đến đầy quyền năng và uy nghi cao cả. Khi những điều đó bắt đầu xảy đến\, các con hãy đứng dậy và ngẩng đầu lên\, vì giờ cứu rỗi các con đã gần đến.  \nCác con hãy giữ mình\, kẻo lòng các con ra nặng nề\, vì chè chén say sưa và lo lắng việc đời\, mà ngày đó thình lình đến với các con\, như chiếc lưới chụp xuống mọi người sống trên mặt đất. Vậy các con hãy tỉnh thức và cầu nguyện luôn\, để có thể thoát khỏi những việc sắp xảy đến và đứng vững trước mặt Con Người!” Đó là lời Chúa.
URL:https://dongchuacuuthe.us/calendar/chua-nhat-i-mua-vong-nam-c/
END:VEVENT
END:VCALENDAR