BEGIN:VCALENDAR
VERSION:2.0
PRODID:-//Dòng Chúa Cứu Thế Hải Ngoại - ECPv6.15.20//NONSGML v1.0//EN
CALSCALE:GREGORIAN
METHOD:PUBLISH
X-WR-CALNAME:Dòng Chúa Cứu Thế Hải Ngoại
X-ORIGINAL-URL:https://dongchuacuuthe.us
X-WR-CALDESC:Events for Dòng Chúa Cứu Thế Hải Ngoại
REFRESH-INTERVAL;VALUE=DURATION:PT1H
X-Robots-Tag:noindex
X-PUBLISHED-TTL:PT1H
BEGIN:VTIMEZONE
TZID:America/Los_Angeles
BEGIN:DAYLIGHT
TZOFFSETFROM:-0800
TZOFFSETTO:-0700
TZNAME:PDT
DTSTART:20230312T100000
END:DAYLIGHT
BEGIN:STANDARD
TZOFFSETFROM:-0700
TZOFFSETTO:-0800
TZNAME:PST
DTSTART:20231105T090000
END:STANDARD
BEGIN:DAYLIGHT
TZOFFSETFROM:-0800
TZOFFSETTO:-0700
TZNAME:PDT
DTSTART:20240310T100000
END:DAYLIGHT
BEGIN:STANDARD
TZOFFSETFROM:-0700
TZOFFSETTO:-0800
TZNAME:PST
DTSTART:20241103T090000
END:STANDARD
BEGIN:DAYLIGHT
TZOFFSETFROM:-0800
TZOFFSETTO:-0700
TZNAME:PDT
DTSTART:20250309T100000
END:DAYLIGHT
BEGIN:STANDARD
TZOFFSETFROM:-0700
TZOFFSETTO:-0800
TZNAME:PST
DTSTART:20251102T090000
END:STANDARD
END:VTIMEZONE
BEGIN:VEVENT
DTSTART;VALUE=DATE:20241020
DTEND;VALUE=DATE:20241021
DTSTAMP:20260424T094807
CREATED:20241026T043615Z
LAST-MODIFIED:20241026T043615Z
UID:10738-1729382400-1729468799@dongchuacuuthe.us
SUMMARY:Chúa Nhật XXIX Thường Niên Năm B
DESCRIPTION:BÀI ĐỌC I: Is 53\, 10-11 \n“Nếu người hiến thân làm lễ vật đền tội\, người sẽ thấy một dòng dõi trường tồn”. \nTrích sách Tiên tri Isaia. \nChúa đã muốn hành hạ người trong đau khổ. Nếu người hiến thân làm lễ vật đền tội\, người sẽ thấy một dòng dõi trường tồn\, và nhờ người\, ý định của Chúa sẽ thành tựu. Nhờ nỗi khổ tâm của người\, người sẽ thấy và sẽ được thoả mãn. Nhờ sự thông biết\, tôi tớ công chính của Ta sẽ công chính hoá nhiều người\, sẽ gánh lấy những tội ác của họ. Đó là lời Chúa. \nĐÁP CA: Tv 32\, 4-5. 18-19. 20 và 22 \nĐáp: Lạy Chúa\, xin đổ lòng từ bi xuống trên chúng con\, theo như chúng con tin cậy ở nơi Ngài (c. 22). \nXướng: 1) Vì lời Chúa là lời chân chính\, bao việc Chúa làm đều đáng cậy tin. Chúa yêu chuộng điều công minh chính trực\, địa cầu đầy ân sủng của Chúa. – Đáp. \n2) Kìa Chúa để mắt coi những kẻ kính sợ Ngài\, nhìn xem những ai cậy trông ân sủng của Ngài\, để cứu gỡ họ khỏi tay thần chết\, và nuôi dưỡng họ trong cảnh cơ hàn. – Đáp. \n3) Linh hồn chúng con mong đợi Chúa\, chính Ngài là Đấng phù trợ và che chở chúng con. Lạy Chúa\, xin đổ lòng từ bi xuống trên chúng con\, theo như chúng con tin cậy ở nơi Ngài. – Đáp. \nBÀI ĐỌC II: Dt 4\, 14-16 \n“Chúng ta hãy cậy trông vững vàng mà tiến đến trước toà ân sủng”. \nTrích thư gửi tín hữu Do-thái. \nAnh em thân mến\, chúng ta có một Thượng tế cao cả đã đi qua các tầng trời\, là Đức Giêsu\, Con Thiên Chúa\, nên chúng ta hãy giữ vững việc tuyên xưng đức tin của chúng ta. Vì chưng\, không phải chúng ta có vị Thượng tế không thể cảm thông sự yếu đuối của chúng ta\, trái lại\, Người đã từng chịu thử thách bằng mọi cách như chúng ta\, ngoại trừ tội lỗi. Vậy chúng ta hãy cậy trông vững vàng mà tiến đến trước toà ân sủng\, ngõ hầu lãnh nhận lòng từ bi và tìm kiếm ân sủng để gặp được ơn phù trợ kịp thời. Đó là lời Chúa. \nALLELUIA: 1 Sm 3\, 9 \nAlleluia\, alleluia! – Lạy Chúa\, xin hãy phán\, vì tôi tớ Chúa đang lắng tai nghe; Chúa có lời ban sự sống đời đời. – Alleluia. \nPHÚC ÂM: Mc 10\, 35-45 (bài dài) \n“Con Người đến để ban mạng sống Mình làm giá cứu chuộc cho nhiều người”. \nTin Mừng Chúa Giêsu Kitô theo Thánh Marcô. \nKhi ấy\, Giacôbê và Gioan con ông Giêbêđê đến gần Chúa Giêsu và thưa Người rằng: “Lạy Thầy\, chúng con muốn Thầy ban cho chúng con điều chúng con sắp xin Thầy”. Người hỏi: “Các con muốn Thầy làm gì cho các con?” Các ông thưa: “Xin cho chúng con một người ngồi bên hữu\, một người ngồi bên tả Thầy trong vinh quang của Thầy”. Chúa Giêsu bảo: “Các con không biết các con xin gì. Các con có thể uống chén Thầy sắp uống và chịu cùng một phép rửa Thầy sắp chịu không?” Các ông đáp: “Thưa được”. Chúa Giêsu bảo: “Chén Thầy uống\, các con cũng sẽ uống\, và phép rửa Thầy sắp chịu\, các con cũng sẽ chịu. Còn việc ngồi bên hữu hay bên tả Thầy\, thì không thuộc quyền Thầy ban\, nhưng là dành cho những ai đã được chỉ định”.  \nMười môn đệ kia nghe chuyện đó liền bực tức với Giacôbê và Gioan. Chúa Giêsu gọi các ông lại gần mà bảo: “Các con biết rằng những người được coi là lãnh tụ các nước\, thì sai khiến dân chúng như ông chủ\, và những người làm lớn thì lấy uy quyền mà trị dân. Còn các con không như thế. Trái lại\, ai trong các con muốn làm lớn\, thì hãy tự làm đầy tớ anh em. Và ai muốn thành người cầm đầu trong các con\, thì hãy tự làm nô lệ cho mọi người. Vì chính Con Người cũng không đến để được phục vụ\, nhưng để phục vụ và ban mạng sống mình làm giá cứu chuộc cho nhiều người”. Đó là lời Chúa. \nHoặc bài vắn này: Mc 10\, 42-45 \n“Con Người đến để ban mạng sống Mình làm giá cứu chuộc cho nhiều người”. \nKhi ấy\, Chúa Giêsu gọi các ông lại gần mà bảo: “Các con biết rằng những người được coi là lãnh tụ các nước\, thì sai khiến dân chúng như ông chủ\, và những người làm lớn thì lấy uy quyền mà trị dân. Còn các con không như thế. Trái lại\, ai trong các con muốn làm lớn\, thì hãy tự làm đầy tớ anh em. Và ai muốn thành người cầm đầu trong các con\, thì hãy tự làm nô lệ cho mọi người. Vì chính Con Người cũng không đến để được phục vụ\, nhưng để phục vụ và ban mạng sống mình làm giá cứu chuộc cho nhiều người”. Đó là lời Chúa.
URL:https://dongchuacuuthe.us/calendar/chua-nhat-xxix-thuong-nien-nam-b/
END:VEVENT
END:VCALENDAR