BEGIN:VCALENDAR
VERSION:2.0
PRODID:-//Dòng Chúa Cứu Thế Hải Ngoại - ECPv6.15.20//NONSGML v1.0//EN
CALSCALE:GREGORIAN
METHOD:PUBLISH
X-WR-CALNAME:Dòng Chúa Cứu Thế Hải Ngoại
X-ORIGINAL-URL:https://dongchuacuuthe.us
X-WR-CALDESC:Events for Dòng Chúa Cứu Thế Hải Ngoại
REFRESH-INTERVAL;VALUE=DURATION:PT1H
X-Robots-Tag:noindex
X-PUBLISHED-TTL:PT1H
BEGIN:VTIMEZONE
TZID:America/Los_Angeles
BEGIN:DAYLIGHT
TZOFFSETFROM:-0800
TZOFFSETTO:-0700
TZNAME:PDT
DTSTART:20230312T100000
END:DAYLIGHT
BEGIN:STANDARD
TZOFFSETFROM:-0700
TZOFFSETTO:-0800
TZNAME:PST
DTSTART:20231105T090000
END:STANDARD
BEGIN:DAYLIGHT
TZOFFSETFROM:-0800
TZOFFSETTO:-0700
TZNAME:PDT
DTSTART:20240310T100000
END:DAYLIGHT
BEGIN:STANDARD
TZOFFSETFROM:-0700
TZOFFSETTO:-0800
TZNAME:PST
DTSTART:20241103T090000
END:STANDARD
BEGIN:DAYLIGHT
TZOFFSETFROM:-0800
TZOFFSETTO:-0700
TZNAME:PDT
DTSTART:20250309T100000
END:DAYLIGHT
BEGIN:STANDARD
TZOFFSETFROM:-0700
TZOFFSETTO:-0800
TZNAME:PST
DTSTART:20251102T090000
END:STANDARD
END:VTIMEZONE
BEGIN:VEVENT
DTSTART;VALUE=DATE:20240310
DTEND;VALUE=DATE:20240311
DTSTAMP:20260424T184224
CREATED:20240302T055209Z
LAST-MODIFIED:20240302T055209Z
UID:9629-1710028800-1710115199@dongchuacuuthe.us
SUMMARY:Chúa Nhật IV Mùa Chay Năm B
DESCRIPTION:BÀI ĐỌC I: 2 Sb 36\, 14-16. 19-23 \n“Cơn thịnh nộ và lòng từ bi của Chúa được tỏ bày qua sự lưu đày và giải phóng của dân tộc”. \nTrích sách Sử Biên Niên quyển thứ hai. \nTrong những ngày ấy\, tất cả những đầu mục tư tế và dân chúng đều bất trung\, bắt chước những sự ghê tởm của các dân ngoại. Họ làm dơ bẩn đền thờ Chúa đã được Chúa thánh hoá tại Giêrusalem.  \nChúa là Thiên Chúa tổ phụ họ\, đã luôn luôn đêm ngày sai sứ giả đến với họ\, vì Người thương xót dân Người và đền thờ của Người. Nhưng họ nhạo báng các sứ giả Chúa\, coi thường lời Chúa\, và nhạo báng các tiên tri\, đến nỗi\, sau hết\, cơn thịnh nộ của Chúa đã đổ lên dân Người\, và vô phương cứu chữa. Quân thù đã đốt đền thờ Chúa\, phá huỷ tường thành Giêrusalem\, phóng hoả tất cả các lâu đài và thiêu huỷ mọi đồ vật quý giá. Nếu có ai thoát khỏi lưỡi gươm\, thì bị dẫn về Babylon để làm nô lệ nhà vua và con cái vua\, cho đến thời vua nước Ba-tư thống trị; như thế ứng nghiệm lời Chúa dùng miệng tiên tri Giêrêmia mà phán\, cho đến khi đất nước được mừng ngày Sabbat; vì trong tất cả những ngày xáo trộn\, họ sẽ không giữ được ngày Sabbat trọn bảy mươi năm trường.  \nNăm thứ nhất triều đại Cyrô\, vua xứ Ba-tư\, để lời Chúa dùng miệng tiên tri Giêrêmia phán trước được thực hiện\, thì Chúa thúc đẩy tâm hồn hoàng đế Cyrô\, vua xứ Ba-tư\, nhà vua ra lệnh truyền rao khắp đất nước\, và ban chiếu chỉ rằng: “Đây hoàng đế Cyrô\, vua xứ Ba-tư tuyên bố: Chúa là Thiên Chúa trời đất đã ban cho trẫm mọi nước trên mặt đất\, và chính Người đã ra lệnh cho trẫm xây cất cho Người một đền thờ ở Giêrusalem trong xứ Giuđa. Ai trong các ngươi thuộc về dân Chúa? Thiên Chúa sẽ ở với nó\, và nó hãy tiến lên”. Đó là lời Chúa. \nĐÁP CA: Tv 136\, 1-2. 3. 4-5. 6 \nĐáp: Lưỡi tôi dính vào cuống họng\, nếu tôi không nhớ đến ngươi (c. 6a). \nXướng: 1) Trên bờ sông Babylon\, chúng tôi ngồi khóc nức nở\, khi tưởng nhớ đến núi Sion. Trên những cây dương liễu miền đó\, chúng tôi treo các cây lục huyền cầm của chúng tôi. – Đáp. \n2) Vì nơi này\, quân canh ngục đòi chúng tôi vui vẻ hát lên. Họ giục chúng tôi rằng: “Hãy vui mừng; hãy hát cho chúng ta nghe điệu ca Sion!”. – Đáp. \n3) Lẽ nào chúng tôi ca hát ngợi khen Thiên Chúa trên đất khách quê người? Hỡi Giêrusalem\, nếu tôi lại quên ngươi\, thì cánh tay tôi sẽ bị khô đét. – Đáp. \n4) Lưỡi tôi dính vào cuống họng\, nếu tôi không nhớ đến ngươi. Nếu tôi không đặt Giêrusalem trên tất cả mọi niềm vui thoả. – Đáp. \nBÀI ĐỌC II: Ep 2\, 4-10 \n“Anh em chết bởi tội và được cứu rỗi bởi ân sủng”. \nTrích thư Thánh Phaolô Tông đồ gửi tín hữu Êphêxô. \nAnh em thân mến\, Thiên Chúa là Đấng giàu lòng từ bi\, vì lòng yêu thương cao cả mà Người đã yêu thương chúng ta\, đến nỗi khi tội lỗi làm cho chúng ta phải chết\, thì Người làm cho chúng ta sống lại trong Đức Kitô\, nhờ ơn Ngài mà chúng ta được cứu rỗi; Người đã cho chúng ta được cùng chung sống lại và đồng ngự trị trên nước trời trong Đức Giêsu Kitô\, để tỏ cho hậu thế được thấy sự phong phú dồi dào của ơn Chúa mà lòng nhân lành Chúa đã ban cho chúng ta trong Đức Giêsu Kitô? Vì chưng\, bởi ơn Chúa\, anh em được cứu rỗi nhờ đức tin. Điều đó không phải do anh em\, vì đó là ân huệ của Chúa; cũng không phải do việc làm\, để không ai được tự phụ. Vì chúng ta là thụ tạo của Người\, đã được tạo thành trong Đức Giêsu Kitô\, để làm các việc lành mà Chúa đã dự liệu\, hầu chúng ta đem ra thực hành. Đó là lời Chúa. \nCÂU XƯỚNG TRƯỚC PHÚC ÂM: Ga 3\, 16 \nThiên Chúa đã yêu thế gian đến nỗi ban Con Một Mình\, để tất cả những ai tin Con Ngài\, sẽ được sống đời đời. \nPHÚC ÂM: Ga 3\, 14-21 \n“Thiên Chúa đã sai Con Ngài đến để thế gian nhờ Con Ngài mà được cứu độ”. \nTin Mừng Chúa Giêsu Kitô theo Thánh Gioan. \nKhi ấy\, Chúa Giêsu nói với Nicôđêmô rằng: “Như Môsê đã treo con rắn lên ở sa mạc thế nào\, thì Con Người cũng sẽ phải treo lên như vậy\, để tất cả những ai tin ở Người\, sẽ không bị huỷ diệt\, nhưng được sống đời đời. Vì Thiên Chúa đã yêu thế gian đến nỗi đã ban Con Một mình\, để tất cả những ai tin Con Ngài thì không phải hư mất\, nhưng được sống đời đời\, vì Thiên Chúa không sai Con của Ngài giáng trần để luận phạt thế gian\, nhưng để thế gian nhờ Con Ngài mà được cứu độ. Ai tin Người Con ấy thì không bị luận phạt. Ai không tin thì đã bị luận phạt rồi\, vì không tin vào danh Con Một Thiên Chúa; và đây án phạt là sự sáng đã đến thế gian\, và người đời đã yêu sự tối tăm hơn sự sáng\, vì hành động của họ xấu xa. Thật vậy\, ai hành động xấu xa thì ghét sự sáng\, và không đến cùng sự sáng\, sợ những việc làm của mình bị khiển trách; nhưng ai hành động trong sự thật thì đến cùng sự sáng\, để hành động của họ được sáng tỏ là họ đã làm trong Thiên Chúa”. Đó là lời Chúa.
URL:https://dongchuacuuthe.us/calendar/chua-nhat-iv-mua-chay-nam-b/
END:VEVENT
END:VCALENDAR