BEGIN:VCALENDAR
VERSION:2.0
PRODID:-//Dòng Chúa Cứu Thế Hải Ngoại - ECPv6.15.20//NONSGML v1.0//EN
CALSCALE:GREGORIAN
METHOD:PUBLISH
X-WR-CALNAME:Dòng Chúa Cứu Thế Hải Ngoại
X-ORIGINAL-URL:https://dongchuacuuthe.us
X-WR-CALDESC:Events for Dòng Chúa Cứu Thế Hải Ngoại
REFRESH-INTERVAL;VALUE=DURATION:PT1H
X-Robots-Tag:noindex
X-PUBLISHED-TTL:PT1H
BEGIN:VTIMEZONE
TZID:America/Los_Angeles
BEGIN:DAYLIGHT
TZOFFSETFROM:-0800
TZOFFSETTO:-0700
TZNAME:PDT
DTSTART:20230312T100000
END:DAYLIGHT
BEGIN:STANDARD
TZOFFSETFROM:-0700
TZOFFSETTO:-0800
TZNAME:PST
DTSTART:20231105T090000
END:STANDARD
BEGIN:DAYLIGHT
TZOFFSETFROM:-0800
TZOFFSETTO:-0700
TZNAME:PDT
DTSTART:20240310T100000
END:DAYLIGHT
BEGIN:STANDARD
TZOFFSETFROM:-0700
TZOFFSETTO:-0800
TZNAME:PST
DTSTART:20241103T090000
END:STANDARD
BEGIN:DAYLIGHT
TZOFFSETFROM:-0800
TZOFFSETTO:-0700
TZNAME:PDT
DTSTART:20250309T100000
END:DAYLIGHT
BEGIN:STANDARD
TZOFFSETFROM:-0700
TZOFFSETTO:-0800
TZNAME:PST
DTSTART:20251102T090000
END:STANDARD
END:VTIMEZONE
BEGIN:VEVENT
DTSTART;VALUE=DATE:20240212
DTEND;VALUE=DATE:20240213
DTSTAMP:20260424T200518
CREATED:20240203T064829Z
LAST-MODIFIED:20240203T064829Z
UID:9502-1707696000-1707782399@dongchuacuuthe.us
SUMMARY:Thánh hóa việc làm – Mùng 3 Tết
DESCRIPTION:Bài Ðọc I: St 2\, 4b-9. 15 \n“Thiên Chúa đem con người đặt vào vườn địa đàng\, để họ trồng tỉa”. \nBài trích sách Sáng Thế. \nTrong ngày Thiên Chúa tạo dựng trời đất\, thì chưa có bụi cây nào mọc ngoài đồng\, không có một cây rau cỏ nào nẩy mầm ngoài đồng ruộng\, vì Chúa là Thiên Chúa chưa cho mưa rơi xuống đất\, và chưa có người để trồng trọt\, nhưng lúc đó mạch nước từ đất vọt lên\, tưới khắp mặt đất. \nVậy Thiên Chúa lấy bùn đất nắn thành con người\, thổi sinh khí vào lỗ mũi và con người trở thành một vật sống. Thiên Chúa lập một vườn tại E-đen về phía đông và đặt vào đó con người mà Ngài đã dựng nên. Thiên Chúa cho từ đất mọc lên mọi thứ cây trông đẹp\, ăn ngon\, với cây sự sống ở giữa vườn\, và cây biết lành biết dữ. Vậy Thiên Chúa đem con người đặt vào vườn địa đàng\, để họ trồng tỉa và coi sóc vườn. \nÐó là lời Chúa. \nÐáp ca: Tv 103\, 1-2a\, 14-15\, 24\, 27-28 \nÐáp: Lạy Chúa\, địa cầu đầy dẫy loài thụ tạo của Ngài \nXướng: Linh hồn tôi ơi\, hãy chúc tụng Chúa\, lạy Chúa là Thiên Chúa của tôi\, Ngài rất ư vĩ đại! Ngài mặc lấy oai nghiêm huy hoàng\, ánh sáng choàng thân như mang áo khoác. \nXướng: Ngài khiến cỏ xanh mọc ra cho súc vật\, và cây cối để con người xử dụng\, để từ trong đất con người tạo ra cơm bánh\, và rượu làm hoan hỉ lòng người; khiến cho mặt người lấp lánh dầu thơm\, và bánh cơm tâm can người được bỗ dưỡng. \nXướng: Lạy Chúa\, thực nhiều thay công cuộc của Ngài! Ngài đã tạo thành vạn vật cách khôn ngoan\, địa cầu đầy dẫy loài thụ tạo của Ngài. \nXướng: Hết thảy mọi vật đều mong chờ ở Chúa\, để Ngài ban lương thực cho chúng đúng thời giờ. Khi Ngài ban cho thì chúng lãnh\, Ngài mở tay ra thì chúng no đầy thiện hảo. \nAlleluia và Câu Xướng Trước Phúc Âm: Tv 67\, 20 \n(Mùa Chay: bỏ Alleluia) \nAlleluia\, alleluia! – Chúc tụng Chúa ngày nọ qua ngày kia; Thiên Chúa là Ðấng cứu độ\, Người vác đỡ gánh nặng chúng tôi. – Alleluia. \nPhúc Âm: Ga 5\, 16-20 \n“Chúa Cha yêu Chúa Con\, và bày tỏ cho Chúa Con biết mọi việc mình làm”. \nTin Mừng Chúa Giêsu Kitô theo Thánh Gioan. \nKhi ấy\, các người Do thái gây sự với Chúa Giêsu\, vì Người đã chữa bệnh trong ngày sabbat. Chúa Giêsu trả lời họ rằng: “Cha Ta làm việc liên lỉ\, Ta cũng làm việc như vậy”. Bởi thế\, các người Do thái càng tìm cách giết Người\, vì không những Người đã phạm luật nghỉ ngày sabbat\, lại còn gọi Thiên Chúa là Cha mình\, coi mình ngang hàng với Thiên Chúa. \nVì thế\, Chúa Giêsu trả lời họ rằng: “Thật\, Ta bảo thật cho các ngươi biết: Chúa Con không thể tự mình làm gì\, nếu không thấy Chúa Cha làm. Ðiều gì Chúa Cha làm\, thì Chúa Con cũng làm y như vậy. Vì chưng\, Chúa Cha yêu thương Chúa Con\, và bày tỏ cho Chúa Con biết mọi việc mình làm\, và sẽ còn bày tỏ những việc lớn lao hơn thế nữa\, đến nỗi các ngươi sẽ phải thán thục”. \nÐó là lời Chúa. \n– – – – – – – – – – – – \nHoặc: Mt 6\, 31-34 \n“Các con chớ áy náy lo lắng về ngày mai“. \nTin Mừng Chúa Giêsu Kitô theo Thánh Matthêu. \nKhi ấy\, Chúa Giêsu phán cùng các môn đệ rằng: “Các con chớ áy náy lo lắng mà nói rằng: “Chúng ta sẽ ăn gì\, uống gì\, hoặc sẽ lấy gì mà mặc?” Vì chưng\, dân ngoại tìm kiếm những điều đó. Nhưng cha các con biết rõ các con cần đến những điều đó. Tiên vàn các con hãy tìm kiếm nước Thiên Chúa và sự công chính của Người\, còn các điều đó Người sẽ ban thêm cho các con. Vậy các con chớ áy náy lo lắng về ngày mai\, vì ngày mai sẽ lo cho ngày mai. Ngày nào có sự khốn khổ của ngày ấy”. \nÐó là lời Chúa. \n– – – – – – – – – – – – – \nHoặc: Mc 4\,26-29 \n“Người kia đã gieo hạt xuống đất\, rồi đi ngủ\, hạt giống mọc lên thế nào người đó cũng không hay biết”. \nTin Mừng Chúa Giêsu Kitô theo Thánh Marcô. \nKhi ấy\, Chúa Giêsu phán cùng dân chúng rằng: “Nước Thiên Chúa giống như người kia đã gieo hạt xuống đất\, người đó ngủ hay thức\, đêm hay ngày\, hạt giống cứ đâm mầm và mọc lên thế nào người đó cũng không hay biết nữa. Ðất tự nó làm cây lúa mọc lên: trước hết thành cây\, rồi đâm bông\, rồi kết hạt. Và khi lúa chín\, người ấy liền gặt vì đã đến mùa”. \nÐó là lời Chúa.
URL:https://dongchuacuuthe.us/calendar/thanh-hoa-viec-lam-mung-3-tet/
END:VEVENT
END:VCALENDAR