BEGIN:VCALENDAR
VERSION:2.0
PRODID:-//Dòng Chúa Cứu Thế Hải Ngoại - ECPv6.15.20//NONSGML v1.0//EN
CALSCALE:GREGORIAN
METHOD:PUBLISH
X-WR-CALNAME:Dòng Chúa Cứu Thế Hải Ngoại
X-ORIGINAL-URL:https://dongchuacuuthe.us
X-WR-CALDESC:Events for Dòng Chúa Cứu Thế Hải Ngoại
REFRESH-INTERVAL;VALUE=DURATION:PT1H
X-Robots-Tag:noindex
X-PUBLISHED-TTL:PT1H
BEGIN:VTIMEZONE
TZID:America/Los_Angeles
BEGIN:DAYLIGHT
TZOFFSETFROM:-0800
TZOFFSETTO:-0700
TZNAME:PDT
DTSTART:20230312T100000
END:DAYLIGHT
BEGIN:STANDARD
TZOFFSETFROM:-0700
TZOFFSETTO:-0800
TZNAME:PST
DTSTART:20231105T090000
END:STANDARD
BEGIN:DAYLIGHT
TZOFFSETFROM:-0800
TZOFFSETTO:-0700
TZNAME:PDT
DTSTART:20240310T100000
END:DAYLIGHT
BEGIN:STANDARD
TZOFFSETFROM:-0700
TZOFFSETTO:-0800
TZNAME:PST
DTSTART:20241103T090000
END:STANDARD
BEGIN:DAYLIGHT
TZOFFSETFROM:-0800
TZOFFSETTO:-0700
TZNAME:PDT
DTSTART:20250309T100000
END:DAYLIGHT
BEGIN:STANDARD
TZOFFSETFROM:-0700
TZOFFSETTO:-0800
TZNAME:PST
DTSTART:20251102T090000
END:STANDARD
END:VTIMEZONE
BEGIN:VEVENT
DTSTART;VALUE=DATE:20240204
DTEND;VALUE=DATE:20240205
DTSTAMP:20260424T200504
CREATED:20240203T063714Z
LAST-MODIFIED:20240203T063714Z
UID:9477-1707004800-1707091199@dongchuacuuthe.us
SUMMARY:Chúa Nhật V Thường Niên Năm B
DESCRIPTION:BÀI ĐỌC I: G 7\, 1-4. 6-7 \n“Tôi phải buồn sầu mãi cho đến tối”. \nTrích sách Gióp.  \nBấy giờ Gióp nói rằng: “Khổ dịch là đời sống của con người trên trái đất\, ngày của họ giống như ngày của người làm công. Cũng như người nô lệ khát khao bóng mát\, như người làm công ước mong lãnh tiền công thế nào\, thì tôi cũng có những tháng nhàn rỗi\, có những đêm người ta bắt tôi làm việc cực nhọc. Nếu tôi đi ngủ\, thì tôi lại nói: “Chừng nào tôi mới thức dậy\, và chừng nào là đến chiều? Tôi phải buồn sầu mãi cho đến tối”. Ngày của tôi qua nhanh hơn chiếc thoi đưa\, nó tàn lụn đi mà không mang lại tia hy vọng nào. Hãy nhớ rằng đời sống tôi chỉ là một hơi thở! Mắt tôi sẽ không nhìn thấy hạnh phúc”. Đó là lời Chúa. \nĐÁP CA: Tv 146\, 1-2. 3-4. 5-6 \nĐáp: Hãy chúc tụng Chúa\, Đấng cứu chữa những kẻ giập nát tâm can (c. 3a). \nHoặc đọc: Alleluia. \nXướng: 1) Hãy ngợi khen Chúa\, vì Người hảo tâm; hãy ca mừng Thiên Chúa chúng ta\, vì Người êm ái\, thực Người rất đáng ngợi khen. Chúa xây dựng lại Giêrusalem\, tập họp con cái Israel phân tán. – Đáp.  \n2) Chính Người chữa những kẻ giập nát tâm can\, và băng bó vết thương của lòng họ. Người ấn định con số các ngôi sao\, và gọi đích danh từng ngôi một. – Đáp.  \n3) Chúa chúng ta cao cả và mãnh liệt quyền năng\, sự khôn ngoan của Người thực là vô lượng. Chúa nâng cao những kẻ khiêm cung\, Người đè bẹp đứa ác nhân xuống tận đất. – Đáp.  \nBÀI ĐỌC II: 1 Cr 9\, 16-19. 22-23 \n“Vô phúc cho tôi nếu tôi không rao giảng Phúc Âm”. \nTrích thư thứ nhất của Thánh Phaolô Tông đồ gửi tín hữu Côrintô.  \nAnh em thân mến\, nếu tôi rao giảng Tin Mừng\, thì không phải để làm cho tôi vinh quang\, mà vì đó là một nhu cầu đối với tôi. Vô phúc cho tôi\, nếu tôi không rao giảng Tin Mừng. Giả như nếu tôi tự ý đảm nhận việc ấy\, thì tôi có công; nhưng nếu tôi bị ép buộc\, thì tôi phải làm trọn nghĩa vụ đã giao phó cho tôi. Vậy thì phần thưởng của tôi ở đâu? Khi rao giảng Tin Mừng\, tôi đem Tin Mừng biếu không\, tôi không dùng quyền mà Tin Mừng dành cho tôi. Mặc dầu tôi được tự do đối với tất cả mọi người\, tôi đã đành làm nô lệ cho mọi người\, hầu thu hút được nhiều người hơn. Tôi đã ăn ở như người yếu đau đối với những kẻ yếu đau\, để thu hút người yếu đau. Tôi đã nên mọi sự đối với tất cả mọi người\, để làm cho mọi người được cứu rỗi. Tất cả những việc đó\, tôi làm vì Tin Mừng để được thông phần vào lợi ích của Tin Mừng. Đó là lời Chúa. \nALLELUIA: Ga 10\, 27 \nAlleluia\, alleluia! – Chúa phán: “Chiên của Ta nghe biết tiếng Ta; Ta biết chúng và chúng theo Ta”. – Alleluia. \nPHÚC ÂM: Mc 1\, 29-39 \n“Người chữa nhiều người đau ốm những chứng bệnh khác nhau”. \nTin Mừng Chúa Giêsu Kitô theo Thánh Marcô.  \nKhi ấy\, Chúa Giêsu ra khỏi hội đường\, Người cùng với Giacôbê và Gioan đến nhà Simon và Anrê. Lúc ấy bà nhạc gia của Simon cảm sốt nằm trên giường\, lập tức người ta nói cho Người biết bệnh tình của bà. Tiến lại gần\, Người cầm tay bà\, và nâng đỡ dậy. Bà liền khỏi cảm sốt và đi tiếp đãi các ngài.  \nChiều đến\, lúc mặt trời đã lặn\, người ta dẫn đến Người tất cả những bệnh nhân\, tất cả những người bị quỷ ám: và cả thành tụ họp trước cửa nhà. Người chữa nhiều người đau ốm những chứng bệnh khác nhau\, xua trừ nhiều quỷ\, và không cho chúng nói\, vì chúng biết Người.  \nSáng sớm tinh sương\, Người chỗi dậy\, ra khỏi nhà\, đi đến một nơi thanh vắng và cầu nguyện tại đó. Simon và các bạn chạy đi tìm Người. Khi tìm thấy Người\, các ông nói cùng Người rằng: “Mọi người đều đi tìm Thầy”. Nhưng Người đáp: “Chúng ta hãy đi đến những làng\, những thành lân cận\, để Ta cũng rao giảng ở đó nữa”. Và Người đi rao giảng trong các hội đường\, trong khắp xứ Galilêa và xua trừ ma quỷ. Đó là lời Chúa.
URL:https://dongchuacuuthe.us/calendar/chua-nhat-v-thuong-nien-nam-b/
END:VEVENT
END:VCALENDAR