BEGIN:VCALENDAR
VERSION:2.0
PRODID:-//Dòng Chúa Cứu Thế Hải Ngoại - ECPv6.15.20//NONSGML v1.0//EN
CALSCALE:GREGORIAN
METHOD:PUBLISH
X-ORIGINAL-URL:https://dongchuacuuthe.us
X-WR-CALDESC:Events for Dòng Chúa Cứu Thế Hải Ngoại
REFRESH-INTERVAL;VALUE=DURATION:PT1H
X-Robots-Tag:noindex
X-PUBLISHED-TTL:PT1H
BEGIN:VTIMEZONE
TZID:America/Los_Angeles
BEGIN:DAYLIGHT
TZOFFSETFROM:-0800
TZOFFSETTO:-0700
TZNAME:PDT
DTSTART:20220313T100000
END:DAYLIGHT
BEGIN:STANDARD
TZOFFSETFROM:-0700
TZOFFSETTO:-0800
TZNAME:PST
DTSTART:20221106T090000
END:STANDARD
BEGIN:DAYLIGHT
TZOFFSETFROM:-0800
TZOFFSETTO:-0700
TZNAME:PDT
DTSTART:20230312T100000
END:DAYLIGHT
BEGIN:STANDARD
TZOFFSETFROM:-0700
TZOFFSETTO:-0800
TZNAME:PST
DTSTART:20231105T090000
END:STANDARD
BEGIN:DAYLIGHT
TZOFFSETFROM:-0800
TZOFFSETTO:-0700
TZNAME:PDT
DTSTART:20240310T100000
END:DAYLIGHT
BEGIN:STANDARD
TZOFFSETFROM:-0700
TZOFFSETTO:-0800
TZNAME:PST
DTSTART:20241103T090000
END:STANDARD
END:VTIMEZONE
BEGIN:VEVENT
DTSTART;VALUE=DATE:20230825
DTEND;VALUE=DATE:20230826
DTSTAMP:20260425T041430
CREATED:20230605T050810Z
LAST-MODIFIED:20230605T050810Z
UID:7875-1692921600-1693007999@dongchuacuuthe.us
SUMMARY:Thứ Sáu Tuần XX Thường Niên Năm I
DESCRIPTION:BÀI ĐỌC I: R 1\, 1. 3-6. 14b-16. 22 \n“Bà Nôêmi cùng nàng dâu người Moab là bà Ruth\, từ nơi di cư trở về thành Bêlem”. \nKhởi đầu sách truyện Bà Ruth. \nKhi các quan án cầm quyền\, thì dưới thời một quan án kia\, trong xứ xảy ra nạn đói kém. Có một người thành Bêlem\, thuộc chi tộc Giuđa\, đem vợ và hai con sang cư ngụ trong miền Môab.  \nVà Elimêlech\, chồng bà Nôêmi\, qua đời\, để bà lại với hai con. Hai con bà cưới hai thiếu nữ Môab làm vợ: một tên là Orpha\, còn người kia tên là Ruth. Họ chung sống ở đó được mười năm\, thì cả hai người chồng là Mahalon và Kêlion cũng qua đời\, còn lại mình bà Nôêmi không chồng con. Bấy giờ bà Nôêmi cùng với hai nàng dâu định bỏ đất Môab trở về quê hương\, vì nghe nói Chúa thương dân Người\, và ban cho họ lương thực.  \nBà Orpha hôn mẹ chồng và ở lại đó. Còn bà Ruth thì đi theo mẹ chồng. Bà Nôêmi bảo bà Ruth rằng: “Kìa\, chị dâu con đã ở lại với dân mình và các thần minh của họ\, con hãy ở lại với chị con”. Bà Ruth thưa lại rằng: “Xin mẹ đừng bắt con bỏ mẹ mà ở lại\, vì mẹ đi đâu thì con cũng đi theo đó. Dân tộc của mẹ là dân tộc của con\, và Thiên Chúa của mẹ là Thiên Chúa của con”.  \nVậy bà Nôêmi cùng nàng dâu người Môab là bà Ruth\, từ nơi di cư trở về thành Bêlem\, vào đầu mùa gặt lúa. Đó là lời Chúa. \nĐÁP CA: Tv 145\, 5-6. 7. 8-9a. 9bc-10 \nĐáp: Linh hồn tôi ơi\, hãy ngợi khen Chúa (c. 2a). \nHoặc đọc: Alleluia. \nXướng: 1) Phúc thay người được Thiên Chúa nhà Giacóp phù trợ\, người đặt hy vọng vào Chúa là Thiên Chúa của mình: Người là Đấng đã tạo thành trời đất\, biển khơi và muôn vật chúng đang chứa đựng. – Đáp. \n2) Người là Đấng trả lại quyền lợi cho người bị ức\, và ban cho những người đói được cơm ăn. Thiên Chúa cứu gỡ những người tù tội. – Đáp. \n3) Thiên Chúa mở mắt những kẻ đui mù. Thiên Chúa giải thoát những kẻ bị khòm lưng khuất phục\, Thiên Chúa yêu quý các bậc hiền nhân\, Thiên Chúa che chở những khách kiều cư. – Đáp. \n4) Thiên Chúa nâng đỡ những người mồ côi quả phụ\, và làm rối loạn đường lối đứa ác nhân. Thiên Chúa sẽ làm vua tới muôn đời. Sion hỡi\, Thiên Chúa của ngươi sẽ làm vua tự đời này sang đời khác. – Đáp. \nALLELUIA: Mt 11\, 25 \nAlleluia\, alleluia! – Lạy Cha là Chúa trời đất\, Con xưng tụng Cha\, vì Cha đã mạc khải những mầu nhiệm nước trời cho những kẻ bé mọn. – Alleluia. \nPHÚC ÂM: Mt 22\, 34-40 \n“Ngươi hãy yêu mến Chúa là Thiên Chúa ngươi\, và yêu thương kẻ khác như chính mình ngươi”. \nTin Mừng Chúa Giêsu Kitô theo Thánh Matthêu. \nKhi ấy\, những người biệt phái nghe tiếng Chúa Giêsu đã làm cho những người Sađốc câm miệng\, thì họp nhau lại. Đoạn một người thông luật trong nhóm họ hỏi thử Người rằng: “Thưa Thầy\, trong lề luật\, giới răn nào trọng nhất?” Chúa Giêsu phán cùng người ấy rằng: “Ngươi hãy yêu mến Chúa là Thiên Chúa ngươi hết lòng\, hết linh hồn và hết trí khôn ngươi. Đó là giới răn thứ nhất và trọng nhất. Nhưng giới răn thứ hai cũng giống giới răn ấy\, là: Ngươi hãy yêu thương kẻ khác như chính mình ngươi. Toàn thể lề luật và sách các tiên tri đều tóm lại trong hai giới răn đó”. Đó là lời Chúa. \n  5 phut suy niem  \nTHỨ SÁU TUẦN 20 TN \nMt 22\,34-40\nTHƯƠNG NGƯỜI NHƯ THỂ THƯƠNG THÂN \n“Ngươi phải yêu người thân cận như chính mình.” (Mt 22\,39) \nSuy niệm: Ca dao Việt Nam nhắc nhở ta về lòng thương người: “Thương người như thể thương thân\, nhường cơm xẻ áo mới là lòng nhân.” Cũng vậy\, để trả lời cho câu hỏi của người Pha-ri-sêu\, Chúa Giê-su bảo ta phải lấy bản thân mình làm điểm xuất phát cho hành vi yêu thương\, bởi không ai ghét thân mình bao giờ. Chắc chắn ai cũng muốn điều lành\, điều tốt cho bản thân mình. Ta cần tập nhìn người thân cận như một cái tôi khác của mình. Người thân cận ấy không chỉ bao gồm cha mẹ\, vợ con\, anh em… mà là tất cả mọi người vì có cùng một Cha trên trời. Yêu cũng không chỉ là sản phẩm của tình cảm\, mà còn là nỗ lực của ý chí trong cách hành xử cụ thể\, vượt lên trên bản năng tự nhiên hay thói đời. Thánh Phaolô cho biết điều này: “Yêu là chịu đựng tất cả\, tin tưởng tất cả\, hy vọng tất cả” (1 Cr 13\,7). \nMời Bạn: Khuynh hướng bảo thủ\, tự tôn cá nhân\, ý thức hệ cực đoan đã và đang bóp chết tình thương người thân cận. Nền văn hóa sự chết đã sản sinh những nhóm cực đoan\, những tổ chức khủng bố gây nên biết bao bất ổn cho xã hội\, gieo rắc nỗi sợ hãi kinh hoàng cho biết bao nhiêu người trong cuộc sống chung hiện tại. Lời Chúa hôm nay đòi mỗi Ki-tô hữu phải tự vấn lương tâm: người thân cận của tôi là ai\, tôi đã yêu thương họ như thế nào? \nSống Lời Chúa: Câu trả lời đã có trong Tin Mừng hôm nay: phải yêu mến Thiên Chúa để có khả năng yêu mến người thân cận. Một khi Thiên Chúa\, nguồn mạch tình yêu bị loại trừ thì cá nhân chủ nghĩa sẽ lên ngôi. Tôi xác tín sẽ yêu mến Chúa trên hết mọi sự. \nCầu nguyện:Đọc kinh Kính Mến.
URL:https://dongchuacuuthe.us/calendar/thu-sau-tuan-xx-thuong-nien-nam-i/
END:VEVENT
BEGIN:VEVENT
DTSTART;VALUE=DATE:20230825
DTEND;VALUE=DATE:20230826
DTSTAMP:20260425T041430
CREATED:20230711T054626Z
LAST-MODIFIED:20230711T054626Z
UID:8034-1692921600-1693007999@dongchuacuuthe.us
SUMMARY:Friday of the Twentieth Week in Ordinary Time
DESCRIPTION:Reading 1\nRu 1:1\, 3-6\, 14b-16\, 22\n\nOnce in the time of the judges there was a famine in the land;\nso a man from Bethlehem of Judah\ndeparted with his wife and two sons\nto reside on the plateau of Moab.\nElimelech\, the husband of Naomi\, died\,\nand she was left with her two sons\, who married Moabite women\,\none named Orpah\, the other Ruth.\nWhen they had lived there about ten years\,\nboth Mahlon and Chilion died also\,\nand the woman was left with neither her two sons nor her husband.\nShe then made ready to go back from the plateau of Moab\nbecause word reached her there\nthat the LORD had visited his people and given them food. \nOrpah kissed her mother-in-law good-bye\, but Ruth stayed with her. \nNaomi said\, “See now!\nYour sister-in-law has gone back to her people and her god.\nGo back after your sister-in-law!”\nBut Ruth said\, “Do not ask me to abandon or forsake you!\nFor wherever you go\, I will go\, wherever you lodge I will lodge\,\nyour people shall be my people\, and your God my God.” \nThus it was that Naomi returned\nwith the Moabite daughter-in-law\, Ruth\,\nwho accompanied her back from the plateau of Moab.\nThey arrived in Bethlehem at the beginning of the barley harvest. \n\n\n\n\n\n\n\n\n\n\n\nResponsorial Psalm\nPs 146:5-6ab\, 6c-7\, 8-9a\, 9bc-10\n\nR. (1b) Praise the Lord\, my soul!\nBlessed is he whose help is the God of Jacob\,\nwhose hope is in the LORD\, his God\,\nWho made heaven and earth\,\nthe sea and all that is in them.\nR. Praise the Lord\, my soul!\nThe LORD keeps faith forever\,\nsecures justice for the oppressed\,\ngives food to the hungry.\nThe LORD sets captives free.\nR. Praise the Lord\, my soul!\nThe LORD gives sight to the blind.\nThe LORD raises up those who were bowed down;\nThe LORD loves the just.\nThe LORD protects strangers.\nR. Praise the Lord\, my soul!\nThe fatherless and the widow he sustains\,\nbut the way of the wicked he thwarts.\nThe LORD shall reign forever;\nyour God\, O Zion\, through all generations. Alleluia.\nR. Praise the Lord\, my soul!\n\n\n\n\n\n\n\n\n\n\n\nAlleluia\nPs 25:4b\, 5a\n\nR. Alleluia\, alleluia.\nTeach me your paths\, my God\,\nguide me in your truth.\nR. Alleluia\, alleluia.\n\n\n\n\n\n\n\n\n\n\n\nGospel\nMt 22:34-40\n\nWhen the Pharisees heard that Jesus had silenced the Sadducees\,\nthey gathered together\, and one of them\,\na scholar of the law\, tested him by asking\,\n“Teacher\, which commandment in the law is the greatest?”\nHe said to him\,\n“You shall love the Lord\, your God\, with all your heart\,\nwith all your soul\, and with all your mind.\nThis is the greatest and the first commandment.\nThe second is like it:\nYou shall love your neighbor as yourself.\nThe whole law and the prophets depend on these two commandments.”
URL:https://dongchuacuuthe.us/calendar/friday-of-the-twentieth-week-in-ordinary-time/
END:VEVENT
END:VCALENDAR