BEGIN:VCALENDAR
VERSION:2.0
PRODID:-//Dòng Chúa Cứu Thế Hải Ngoại - ECPv6.15.20//NONSGML v1.0//EN
CALSCALE:GREGORIAN
METHOD:PUBLISH
X-ORIGINAL-URL:https://dongchuacuuthe.us
X-WR-CALDESC:Events for Dòng Chúa Cứu Thế Hải Ngoại
REFRESH-INTERVAL;VALUE=DURATION:PT1H
X-Robots-Tag:noindex
X-PUBLISHED-TTL:PT1H
BEGIN:VTIMEZONE
TZID:America/Los_Angeles
BEGIN:DAYLIGHT
TZOFFSETFROM:-0800
TZOFFSETTO:-0700
TZNAME:PDT
DTSTART:20220313T100000
END:DAYLIGHT
BEGIN:STANDARD
TZOFFSETFROM:-0700
TZOFFSETTO:-0800
TZNAME:PST
DTSTART:20221106T090000
END:STANDARD
BEGIN:DAYLIGHT
TZOFFSETFROM:-0800
TZOFFSETTO:-0700
TZNAME:PDT
DTSTART:20230312T100000
END:DAYLIGHT
BEGIN:STANDARD
TZOFFSETFROM:-0700
TZOFFSETTO:-0800
TZNAME:PST
DTSTART:20231105T090000
END:STANDARD
BEGIN:DAYLIGHT
TZOFFSETFROM:-0800
TZOFFSETTO:-0700
TZNAME:PDT
DTSTART:20240310T100000
END:DAYLIGHT
BEGIN:STANDARD
TZOFFSETFROM:-0700
TZOFFSETTO:-0800
TZNAME:PST
DTSTART:20241103T090000
END:STANDARD
END:VTIMEZONE
BEGIN:VEVENT
DTSTART;VALUE=DATE:20230823
DTEND;VALUE=DATE:20230824
DTSTAMP:20260425T041431
CREATED:20230605T050703Z
LAST-MODIFIED:20230605T050703Z
UID:7871-1692748800-1692835199@dongchuacuuthe.us
SUMMARY:Thứ Tư Tuần XX Thường Niên Năm I
DESCRIPTION:BÀI ĐỌC I: Tl 9\, 6-15 \n“Đang khi Chúa ngự trị giữa chúng tôi\, các ngươi đã nói:  ‘Xin cho một vua cai trị chúng tôi'”. \nTrích sách Thủ Lãnh. \nKhi ấy\, mọi người Sikem và tất cả các gia tộc thành Mêllô tụ họp lại\, rồi kéo nhau đến gần cây sồi ở Sikem\, và tôn Abimêlech lên làm vua.  \nKhi ông Giotham nghe tin ấy\, liền đi lên đứng trên đỉnh núi Garizim\, lớn tiếng kêu lên rằng: “Hỡi người Sikem\, hãy nghe ta\, để Thiên Chúa cũng nghe các ngươi. Các cây cối đều đến xức dầu phong một vị vua cai trị chúng\, và nói cùng cây ôliu rằng: ‘Hãy đi cai trị chúng tôi’. Cây ôliu đáp lại rằng: ‘Chớ thì ta có thể bỏ việc sản xuất dầu mà các thần minh và loài người quen dùng\, để được lên chức cai trị cây cối sao?’ Các cây cối nói cùng cây vả rằng: ‘Hãy đến cầm quyền cai trị chúng tôi’. Cây vả trả lời rằng: ‘Chớ thì ta có thể bỏ sự ngọt ngào của ta\, bỏ hoa trái ngon lành của ta\, để được lên chức cai trị các cây cối khác sao?’ Các cây cối nói với cây nho rằng: ‘Hãy đến cai trị chúng tôi’. Cây nho đáp rằng: ‘Chớ thì ta có thể bỏ việc cung cấp rượu\, là thứ làm cho Thiên Chúa và loài người được vui mừng\, để được lên chức cai trị các cây cối khác sao?’ Tất cả những cây cối nói với bụi gai rằng: ‘Hãy đến cai trị chúng tôi’. Bụi gai trả lời rằng: ‘Nếu các ngươi thật lòng đặt ta làm vua các ngươi\, thì các ngươi hãy đến nghỉ dưới bóng ta. Nhưng nếu các ngươi không muốn thì sẽ có lửa từ bụi gai phát ra thiêu huỷ các cây hương nam núi Liban'”. Đó là lời Chúa. \nĐÁP CA: Tv 20\, 2-3. 4-5. 6-7 \nĐáp: Lạy Chúa\, do quyền năng Chúa mà vua vui mừng (c. 2a). \nXướng: 1) Lạy Chúa\, do quyền năng Chúa mà vua vui mừng; do ơn Chúa phù trợ\, vua xiết bao hân hoan! Chúa đã ban cho sự lòng vua ao ước\, và điều môi miệng vua xin\, Chúa chẳng chối từ.- Đáp. \n2) Chúa đã tiên liệu cho vua được phước lộc may mắn\, đã đội triều thiên vàng ròng trên đầu vua. Nhờ Chúa giúp mà vua được vinh quang cao cả\, Chúa khoác lên người vua\, oai nghiêm với huy hoàng. – Đáp. \n3) Vua xin Chúa cho sống lâu\, thì Chúa đã ban cho một chuỗi ngày dài tới muôn muôn thuở. Chúa đã khiến vua nên mục tiêu chúc phúc tới muôn đời\, Chúa đã cho vua được hân hoan mừng rỡ trước thiên nhan. – Đáp. \nALLELUIA: Tv 118\, 135 \nAlleluia\, alleluia! – Xin Chúa tỏ cho tôi tớ Chúa thấy long nhan hiền hậu\, và dạy bảo con những thánh chỉ của Chúa. – Alleluia. \nPHÚC ÂM: Mt 20\, 1-16a \n“Hay mắt bạn ganh tị\, vì tôi nhân lành chăng”. \nTin Mừng Chúa Giêsu Kitô theo Thánh Matthêu. \nKhi ấy\, Chúa Giêsu phán cùng các môn đệ dụ ngôn này rằng: “Nước Trời giống như chủ nhà kia sáng sớm ra thuê người làm vườn nho mình. Khi đã thoả thuận với những người làm thuê về tiền công nhật là một đồng\, ông sai họ đến vườn của ông.  \n“Khoảng giờ thứ ba\, ông trở ra\, thấy có những người khác đứng không ngoài chợ\, ông bảo họ rằng: ‘Các ngươi cũng hãy đi làm vườn nho ta\, ta sẽ trả công cho các ngươi xứng đáng’. Họ liền đi. Khoảng giờ thứ sáu và thứ chín\, ông cũng trở ra và làm như vậy.  \n“Đến khoảng giờ thứ mười một ông lại trở ra\, và thấy có kẻ đứng đó\, thì bảo họ rằng: ‘Sao các ngươi đứng nhưng không ở đây suốt ngày như thế?’ Họ thưa rằng: ‘Vì không có ai thuê chúng tôi’. Ông bảo họ rằng: ‘Các ngươi cũng hãy đi làm vườn nho ta’.  \n“Đến chiều chủ vườn nho bảo người quản lý rằng: ‘Hãy gọi những kẻ làm thuê mà trả tiền công cho họ\, từ người đến sau hết tới người đến trước hết’. Vậy những người làm từ giờ thứ mười một đến\, lãnh mỗi người một đồng. Tới phiên những người đến làm trước\, họ tưởng sẽ lãnh được nhiều hơn; nhưng họ cũng chỉ lãnh mỗi người một đồng. Đang khi lãnh tiền\, họ lẩm bẩm trách chủ nhà rằng: ‘Những người đến sau hết chỉ làm có một giờ\, chúng tôi chịu nắng nôi khó nhọc suốt ngày mà ông kể họ bằng chúng tôi sao?’ Chủ nhà trả lời với một kẻ trong nhóm họ rằng: ‘Này bạn\, tôi không làm thiệt hại bạn đâu\, chớ thì bạn đã không thoả thuận với tôi một đồng sao? Bạn hãy lấy phần bạn mà đi về\, tôi muốn trả cho người đến sau hết bằng bạn\, nào tôi chẳng được phép làm như ý tôi muốn sao? Hay mắt bạn ganh tị\, vì tôi nhân lành chăng?’  \n“Như thế\, kẻ sau hết sẽ nên trước hết\, và kẻ trước hết sẽ nên sau hết”. Đó là lời Chúa.  \n5 phut suy niem \nTHỨ TƯ TUẦN 20 TN \nMt 20\,1-16a\nCÔNG BẰNG CỦA CON TIM \n“Hay vì thấy tôi tốt bụng\, mà bạn đâm ra ghen tức?” (Mt 20\,15b) \nSuy niệm: Qua dụ ngôn người chủ vườn nho này\, Chúa Giê-su đã khéo léo dẫn dắt chúng ta nhận ra hình ảnh của vị Thiên Chúa là Đấng rất nhân từ và rất công bằng với mọi người. Bắt đầu với việc trả tiền công đều nhau cho mọi người làm công\, dù giờ làm của mỗi người ít nhiều khác nhau\, khiến những người được thuê ngay từ giờ đầu khó chịu. Họ cho rằng ông chủ đã bất công với họ\, dẫu từ buổi sáng họ đã đồng ý thỏa thuận mức lương với ông chủ. Phải chăng ông chủ cũng “chơi khăm” nên trả tiền cho người đến sau trước\, để những người đến trước thấy mà ganh tỵ? Sự công bằng của con người tính theo sự sòng phẳng\, có làm thì có ăn. Còn sự công bằng của Thiên Chúa vượt cao hơn thế\, sự công bằng của tình yêu Thiên Chúa. Ngài không để một ai thiệt mất bao giờ. Ngài cần chúng ta có thiện chí. Ngài cần chúng ta có đôi tay cộng tác với Ngài\, thì phần thưởng Ngài dành cho chúng ta không dựa theo sự công bằng hẹp hòi của chúng ta mà là theo lòng nhân hậu vô biên của Ngài. \nMời Bạn: Nghiền ngẫm câu Kinh thánh được trích ở trên (Mt 20\,15b) để cảm nghiệm lòng từ tâm và sự công bằng của Thiên Chúa mỗi ngày. \nChia sẻ: Có bao giờ bạn được một người chủ đối đãi với bạn như ông chủ trong đoạn Kinh Thánh hôm nay chưa? Cảm nghiệm của bạn ra sao? \nSống Lời Chúa: Đối đãi cách từ tâm với người giúp việc cho bạn. \nCầu nguyện: Lạy Chúa\, Chúa dạy chúng con sống công bằng\, không ganh tỵ\, ghét ghen. Xin đừng để miệng lưỡi chúng con nói lời tổn thương nhau vì ghen tỵ. Xin Chúa thêm sức để chúng con sống quảng đại hơn. Amen.
URL:https://dongchuacuuthe.us/calendar/thu-tu-tuan-xx-thuong-nien-nam-i/
END:VEVENT
BEGIN:VEVENT
DTSTART;VALUE=DATE:20230823
DTEND;VALUE=DATE:20230824
DTSTAMP:20260425T041431
CREATED:20230711T054457Z
LAST-MODIFIED:20230711T054457Z
UID:8030-1692748800-1692835199@dongchuacuuthe.us
SUMMARY:Wednesday of the Twentieth Week in Ordinary Time
DESCRIPTION:Reading 1\nJgs 9:6-15\n\nAll the citizens of Shechem and all Beth-millo came together\nand proceeded to make Abimelech king\nby the terebinth at the memorial pillar in Shechem. \nWhen this was reported to him\,\nJotham went to the top of Mount Gerizim and\, standing there\,\ncried out to them in a loud voice:\n“Hear me\, citizens of Shechem\, that God may then hear you!\nOnce the trees went to anoint a king over themselves.\nSo they said to the olive tree\, ‘Reign over us.’\nBut the olive tree answered them\, ‘Must I give up my rich oil\,\nwhereby men and gods are honored\,\nand go to wave over the trees?’\nThen the trees said to the fig tree\, ‘Come; you reign over us!’\nBut the fig tree answered them\,\n‘Must I give up my sweetness and my good fruit\,\nand go to wave over the trees?’\nThen the trees said to the vine\, ‘Come you\, and reign over us.’\nBut the vine answered them\,\n‘Must I give up my wine that cheers gods and men\,\nand go to wave over the trees?’\nThen all the trees said to the buckthorn\, ‘Come; you reign over us!’\nBut the buckthorn replied to the trees\,\n‘If you wish to anoint me king over you in good faith\,\ncome and take refuge in my shadow.\nOtherwise\, let fire come from the buckthorn\nand devour the cedars of Lebanon.'” \n\n\n\n\n\n\n\n\n\n\n\nResponsorial Psalm\nPs 21:2-3\, 4-5\, 6-7\n\nR. (2a) Lord\, in your strength the king is glad.\nO LORD\, in your strength the king is glad;\nin your victory how greatly he rejoices!\nYou have granted him his heart’s desire;\nyou refused not the wish of his lips.\nR. Lord\, in your strength the king is glad.\nFor you welcomed him with goodly blessings\,\nyou placed on his head a crown of pure gold.\nHe asked life of you: you gave him\nlength of days forever and ever.\nR. Lord\, in your strength the king is glad.\nGreat is his glory in your victory;\nmajesty and splendor you conferred upon him.\nYou made him a blessing forever\,\nyou gladdened him with the joy of your face.\nR. Lord\, in your strength the king is glad.\n\n\n\n\n\n\n\n\n\n\n\nAlleluia\nHeb 4:12\n\nR. Alleluia\, alleluia.\nThe word of God is living and effective\,\nable to discern the reflections and thoughts of the heart.\nR. Alleluia\, alleluia.\n\n\n\n\n\n\n\n\n\n\n\nGospel\nMt 20:1-16\n\nJesus told his disciples this parable:\n“The Kingdom of heaven is like a landowner\nwho went out at dawn to hire laborers for his vineyard.\nAfter agreeing with them for the usual daily wage\,\nhe sent them into his vineyard.\nGoing out about nine o’clock\,\nhe saw others standing idle in the marketplace\,\nand he said to them\, ‘You too go into my vineyard\,\nand I will give you what is just.’\nSo they went off.\nAnd he went out again around noon\,\nand around three o’clock\, and did likewise.\nGoing out about five o’clock\,\nhe found others standing around\, and said to them\,\n‘Why do you stand here idle all day?’\nThey answered\, ‘Because no one has hired us.’\nHe said to them\, ‘You too go into my vineyard.’\nWhen it was evening the owner of the vineyard said to his foreman\,\n‘Summon the laborers and give them their pay\,\nbeginning with the last and ending with the first.’\nWhen those who had started about five o’clock came\,\neach received the usual daily wage.\nSo when the first came\, they thought that they would receive more\,\nbut each of them also got the usual wage.\nAnd on receiving it they grumbled against the landowner\, saying\,\n‘These last ones worked only one hour\,\nand you have made them equal to us\,\nwho bore the day’s burden and the heat.’\nHe said to one of them in reply\,\n‘My friend\, I am not cheating you.\nDid you not agree with me for the usual daily wage?\nTake what is yours and go.\nWhat if I wish to give this last one the same as you?\nOr am I not free to do as I wish with my own money?\nAre you envious because I am generous?’\nThus\, the last will be first\, and the first will be last.”
URL:https://dongchuacuuthe.us/calendar/wednesday-of-the-twentieth-week-in-ordinary-time/
END:VEVENT
END:VCALENDAR