BEGIN:VCALENDAR
VERSION:2.0
PRODID:-//Dòng Chúa Cứu Thế Hải Ngoại - ECPv6.15.20//NONSGML v1.0//EN
CALSCALE:GREGORIAN
METHOD:PUBLISH
X-ORIGINAL-URL:https://dongchuacuuthe.us
X-WR-CALDESC:Events for Dòng Chúa Cứu Thế Hải Ngoại
REFRESH-INTERVAL;VALUE=DURATION:PT1H
X-Robots-Tag:noindex
X-PUBLISHED-TTL:PT1H
BEGIN:VTIMEZONE
TZID:America/Los_Angeles
BEGIN:DAYLIGHT
TZOFFSETFROM:-0800
TZOFFSETTO:-0700
TZNAME:PDT
DTSTART:20220313T100000
END:DAYLIGHT
BEGIN:STANDARD
TZOFFSETFROM:-0700
TZOFFSETTO:-0800
TZNAME:PST
DTSTART:20221106T090000
END:STANDARD
BEGIN:DAYLIGHT
TZOFFSETFROM:-0800
TZOFFSETTO:-0700
TZNAME:PDT
DTSTART:20230312T100000
END:DAYLIGHT
BEGIN:STANDARD
TZOFFSETFROM:-0700
TZOFFSETTO:-0800
TZNAME:PST
DTSTART:20231105T090000
END:STANDARD
BEGIN:DAYLIGHT
TZOFFSETFROM:-0800
TZOFFSETTO:-0700
TZNAME:PDT
DTSTART:20240310T100000
END:DAYLIGHT
BEGIN:STANDARD
TZOFFSETFROM:-0700
TZOFFSETTO:-0800
TZNAME:PST
DTSTART:20241103T090000
END:STANDARD
END:VTIMEZONE
BEGIN:VEVENT
DTSTART;VALUE=DATE:20230821
DTEND;VALUE=DATE:20230822
DTSTAMP:20260425T041432
CREATED:20230605T050611Z
LAST-MODIFIED:20230605T050611Z
UID:7867-1692576000-1692662399@dongchuacuuthe.us
SUMMARY:Thứ Hai Tuần XX Thường Niên Năm I
DESCRIPTION:BÀI ĐỌC I: Tl 2\, 11-19 \n“Chúa khiến các quan án đứng ra\, nhưng chúng không muốn nghe các ông”. \nTrích sách Thủ Lãnh. \nTrong những ngày ấy\, con cái Israel làm điều gian ác trước mặt Chúa và phụng thờ các thần Baal. Chúng lìa bỏ Chúa là Thiên Chúa các tổ phụ chúng\, Đấng đã dẫn chúng ra khỏi đất Ai-cập\, mà theo các thần ngoại\, những thần các dân tộc cư ngụ chung quanh chúng\, và thờ lạy các thần ấy\, khiêu khích cơn nghĩa nộ Chúa\, chối bỏ Người\, và phụng thờ thần Baal và Astaroth. Chúa thịnh nộ Israel\, trao chúng vào tay bọn cướp. Bọn này bắt chúng mà bán cho quân thù ở chung quanh chúng\, chúng không sao chống lại được địch thù của chúng. Dù chúng muốn đi nơi nào\, tay Chúa vẫn đè trên chúng\, như Người đã phán và đã thề với chúng\, như thế chúng phải chịu khổ cực nặng nề.  \nChúa khiến các vị thủ lãnh đứng ra giải thoát chúng khỏi tay những người bóc lột\, nhưng chúng cũng chẳng muốn nghe theo các vị thủ lãnh. Chúng hướng lòng về các thần ngoại và thờ lạy các thần ấy. Chúng đã vội bỏ đường lối các tổ tiên chúng đã đi\, dù chúng có nghe biết các điều răn của Chúa\, nhưng chúng vẫn làm mọi điều trái nghịch. Khi Chúa khiến các vị thủ lãnh đứng ra\, Người tỏ lòng thương xót chúng\, nghe lời những kẻ khốn cực kêu van\, và giải thoát chúng khỏi tay những người bóc lột sát hại. Nhưng sau khi vị thủ lãnh chết\, chúng lại đổi lòng\, làm những điều xấu xa hơn cha ông chúng đã làm\, theo các thần ngoại\, phụng sự và thờ lạy các thần ấy. Chúng không từ bỏ những điều chúng bày đặt ra và đường lối quá ương ngạnh chúng quen đi. Đó là lời Chúa. \nĐÁP CA: Tv 105\, 34-35. 36-37. 39-40. 43ab và 44 \nĐáp: Lạy Chúa\, xin nhớ chúng con khi gia ân huệ cho dân Chúa (c. 4a). \nXướng: 1) Họ không chịu tiêu diệt những dân mà Chúa đã có lệnh truyền cho họ. Họ đã hoà mình với người chư dân\, và học theo công việc chúng làm. – Đáp. \n2) Họ sùng bái tà thần của chúng\, những tà thần đã hoá thành lưới dò hại họ. Họ đã giết những người con trai và con gái\, để làm lễ cúng tế quỷ thần. – Đáp. \n3) Bởi những việc đó\, họ tự làm ô uế bản thân\, và do hành động tội lỗi\, họ đã ngoại tình. Chúa đã bừng cơn thịnh nộ với dân tộc\, và tởm ghét phần gia nghiệp của Người. – Đáp. \n4) Nhiều lần Chúa đã thương giải phóng nhưng họ manh tâm chống lại Người. Nhưng Người đã nhìn đến cảnh gian truân của họ\, khi Người nghe lời họ kêu xin. – Đáp. \nALLELUIA: Tv 118\, 34 \nAlleluia\, alleluia! – Lạy Chúa\, xin giáo huấn con\, để con tuân cứ luật pháp của Chúa và để con hết lòng vâng theo luật đó. – Alleluia. \nPHÚC ÂM: Mt 19\, 16-22 \n“Nếu ngươi muốn nên trọn lành\, hãy về bán hết của cải ngươi có\, thì ngươi sẽ được kho tàng trên trời”. \nTin Mừng Chúa Giêsu Kitô theo Thánh Matthêu. \nKhi ấy\, có một người đến thưa cùng Chúa Giêsu rằng: “Lạy Thầy nhân lành\, tôi phải làm việc lành gì để được sống đời đời?” Người bảo kẻ ấy rằng: “Sao ngươi hỏi Ta về việc lành? Chỉ có một Đấng nhân lành là Thiên Chúa. Nếu ngươi muốn vào nơi hằng sống\, ngươi hãy tuân giữ các giới răn”. Người ấy hỏi rằng: “Những giới răn nào?” Chúa Giêsu đáp: “Ngươi chớ giết người\, chớ ngoại tình\, chớ trộm cắp\, chớ làm chứng dối. Hãy thảo kính cha mẹ\, và yêu thương kẻ khác như chính mình”. Người thanh niên thưa lại rằng: “Tất cả những điều đó tôi đã giữ từ khi còn niên thiếu\, vậy tôi còn thiếu sót gì nữa chăng? Chúa Giêsu bảo anh: “Nếu ngươi muốn nên trọn lành\, hãy về bán hết của cải ngươi có và bố thí cho người nghèo khó\, thì ngươi sẽ được kho tàng trên trời\, rồi đến mà theo Ta”. Khi người thanh niên nghe lời đó thì buồn rầu bỏ đi\, vì anh có nhiều sản nghiệp. Đó là lời Chúa.  \n5 phut suy niem \nTHỨ HAI TUẦN 20 TN \nMt 19\,16-22\nĐỨC KHÓ NGHÈO TRÊN HẾT \nChúa Giê-su nói: “Nếu anh muốn nên hoàn thiện\, thì hãy đi bán tài sản của anh và đem cho người nghèo\, anh sẽ được một kho tàng trên trời. Rồi hãy đến theo tôi.” (Mt 19\,21) \nSuy niệm: Đức khó nghèo là điều kiện tiên quyết và không thể thiếu để trở thành môn đệ Đức Ki-tô. Chính Thầy Giê-su đã đi con đường đó để cứu chuộc loài người: Ngài đã giáng sinh trong khó nghèo\, đã sống một cuộc sống lao động nghèo hèn. Ngài bôn ba rao giảng Tin Mừng như một người lữ khách “không có nơi gối đầu”. Ngài sai các môn đệ lên đường loan báo Tin Mừng trong tư thế một người nghèo “không mang bị gậy\, túi tiền\, hai áo…” Rồi Ngài đã chết như một người nghèo\, được chôn cất trong một ngôi mộ đi mượn. Môn đệ thì phải giống Thầy thôi\, phải sẵn sàng dứt bỏ những ràng buộc do của cải có thể làm vướng bận sứ mạng loan báo Tin Mừng : Sống nghèo với người nghèo để có thể “loan báo Tin Mừng cho người nghèo khó”. \nMời Bạn: Nhưng xin bạn nhớ cho rằng trong thế giới ngày nay xuất hiện nhiều hình thức nghèo mới\, và về phần bạn\, bạn cũng phải từ bỏ cả những thứ tài sản vô hình\, lắm khi còn khó hơn từ bỏ những của cải vật chất nữa. \nChia sẻ: Đâu là những hình thức nghèo mới của thời đại hiện nay? Và đâu là những tài sản vô hình mà bạn cần từ bỏ? \nSống Lời Chúa: Hôm nay bạn giảm bớt đi một cái gì đó “của” bạn để dành vào việc phục vụ người khác. \nCầu nguyện: Lạy Chúa\, Chúa “vốn giàu sang phú quý nhưng đã trở nên nghèo khó” để cứu độ chúng con. Xin cho con biết sống nghèo để theo chân Chúa loan báo Tin Mừng cho người nghèo khó. (2Cr 8\,9)
URL:https://dongchuacuuthe.us/calendar/thu-hai-tuan-xx-thuong-nien-nam-i/
END:VEVENT
BEGIN:VEVENT
DTSTART;VALUE=DATE:20230821
DTEND;VALUE=DATE:20230822
DTSTAMP:20260425T041432
CREATED:20230711T054345Z
LAST-MODIFIED:20230711T054345Z
UID:8026-1692576000-1692662399@dongchuacuuthe.us
SUMMARY:Memorial of Saint Pius X\, Pope
DESCRIPTION:Reading I\nJgs 2:11-19\n\n\nThe children of Israel offended the LORD by serving the Baals.\nAbandoning the LORD\, the God of their fathers\,\nwho led them out of the land of Egypt\,\nthey followed the other gods of the various nations around them\,\nand by their worship of these gods provoked the LORD. \nBecause they had thus abandoned him and served Baal and the Ashtaroth\,\nthe anger of the LORD flared up against Israel\,\nand he delivered them over to plunderers who despoiled them.\nHe allowed them to fall into the power of their enemies round about\nwhom they were no longer able to withstand.\nWhatever they undertook\, the LORD turned into disaster for them\,\nas in his warning he had sworn he would do\,\ntill they were in great distress.\nEven when the LORD raised up judges to deliver them\nfrom the power of their despoilers\,\nthey did not listen to their judges\,\nbut abandoned themselves to the worship of other gods.\nThey were quick to stray from the way their fathers had taken\,\nand did not follow their example of obedience\nto the commandments of the LORD.\nWhenever the LORD raised up judges for them\, he would be with the judge\nand save them from the power of their enemies\nas long as the judge lived;\nit was thus the LORD took pity on their distressful cries\nof affliction under their oppressors.\nBut when the judge died\,\nthey would relapse and do worse than their ancestors\,\nfollowing other gods in service and worship\,\nrelinquishing none of their evil practices or stubborn conduct. \n\n\n\n\n\n\n\n\n\n\n\n\nResponsorial Psalm\n106:34-35\, 36-37\, 39-40\, 43ab and 44\n\n\nR.    (4a)  Remember us\, O Lord\, as you favor your people.\nThey did not exterminate the peoples\,\nas the LORD had commanded them\,\nBut mingled with the nations\nand learned their works.\nR.    Remember us\, O Lord\, as you favor your people.\nThey served their idols\,\nwhich became a snare for them.\nThey sacrificed their sons\nand their daughters to demons.\nR.    Remember us\, O Lord\, as you favor your people.\nThey became defiled by their works\,\nand wanton in their crimes.\nAnd the LORD grew angry with his people\,\nand abhorred his inheritance.\nR.    Remember us\, O Lord\, as you favor your people.\nMany times did he rescue them\,\nbut they embittered him with their counsels.\nYet he had regard for their affliction\nwhen he heard their cry.\nR.    Remember us\, O Lord\, as you favor your people. \n\n\n\n\n\n\n\n\n\n\n\n\nAlleluia\nMt 5:3\n\n\nR. Alleluia\, alleluia.\nBlessed are the poor in spirit;\nfor theirs is the Kingdom of heaven.\nR. Alleluia\, alleluia. \n\n\n\n\n\n\n\n\n\n\n\n\nGospel\nMt 19:16-22\n\n\nA young man approached Jesus and said\,\n“Teacher\, what good must I do to gain eternal life?”\nHe answered him\, “Why do you ask me about the good?\nThere is only One who is good.\nIf you wish to enter into life\, keep the commandments.”\nHe asked him\, “Which ones?”\nAnd Jesus replied\, “You shall not kill;\nyou shall not commit adultery;\nyou shall not steal;\nyou shall not bear false witness;\nhonor your father and your mother;\nand you shall love your neighbor as yourself.”\nThe young man said to him\,\n“All of these I have observed. What do I still lack?”\nJesus said to him\, “If you wish to be perfect\, go\,\nsell what you have and give to the poor\,\nand you will have treasure in heaven.\nThen come\, follow me.”\nWhen the young man heard this statement\, he went away sad\,\nfor he had many possessions.
URL:https://dongchuacuuthe.us/calendar/memorial-of-saint-pius-x-pope/
END:VEVENT
END:VCALENDAR