BEGIN:VCALENDAR
VERSION:2.0
PRODID:-//Dòng Chúa Cứu Thế Hải Ngoại - ECPv6.15.20//NONSGML v1.0//EN
CALSCALE:GREGORIAN
METHOD:PUBLISH
X-ORIGINAL-URL:https://dongchuacuuthe.us
X-WR-CALDESC:Events for Dòng Chúa Cứu Thế Hải Ngoại
REFRESH-INTERVAL;VALUE=DURATION:PT1H
X-Robots-Tag:noindex
X-PUBLISHED-TTL:PT1H
BEGIN:VTIMEZONE
TZID:America/Los_Angeles
BEGIN:DAYLIGHT
TZOFFSETFROM:-0800
TZOFFSETTO:-0700
TZNAME:PDT
DTSTART:20220313T100000
END:DAYLIGHT
BEGIN:STANDARD
TZOFFSETFROM:-0700
TZOFFSETTO:-0800
TZNAME:PST
DTSTART:20221106T090000
END:STANDARD
BEGIN:DAYLIGHT
TZOFFSETFROM:-0800
TZOFFSETTO:-0700
TZNAME:PDT
DTSTART:20230312T100000
END:DAYLIGHT
BEGIN:STANDARD
TZOFFSETFROM:-0700
TZOFFSETTO:-0800
TZNAME:PST
DTSTART:20231105T090000
END:STANDARD
BEGIN:DAYLIGHT
TZOFFSETFROM:-0800
TZOFFSETTO:-0700
TZNAME:PDT
DTSTART:20240310T100000
END:DAYLIGHT
BEGIN:STANDARD
TZOFFSETFROM:-0700
TZOFFSETTO:-0800
TZNAME:PST
DTSTART:20241103T090000
END:STANDARD
END:VTIMEZONE
BEGIN:VEVENT
DTSTART;VALUE=DATE:20230820
DTEND;VALUE=DATE:20230821
DTSTAMP:20260425T041432
CREATED:20230605T045737Z
LAST-MODIFIED:20230605T045737Z
UID:7839-1692489600-1692575999@dongchuacuuthe.us
SUMMARY:Chúa Nhật XX Thường Niên Năm A
DESCRIPTION:BÀI ĐỌC I: Is 56\, 1. 6-7\n“Ta sẽ dẫn con cái Ta lên núi thánh”. \nTrích sách Tiên tri Isaia. \nĐây Thiên Chúa phán: “Hãy giữ luật và thực thi công bình\, vì ơn cứu độ của Ta đã gần tới\, và sự công chính của Ta sẽ tỏ hiện. \n“Người ngoại bang theo Chúa để phụng sự Chúa và mến yêu danh Người\, để trở nên tôi tớ Chúa\, tất cả những ai giữ ngày Sabbat\, không hề sai lỗi\, và trung thành với giao ước của Ta\, Ta sẽ dẫn chúng lên núi thánh\, và Ta sẽ cho chúng niềm vui trong nhà cầu nguyện. Ta sẽ nhận những lễ toàn thiêu và hiến tế của chúng trên bàn thờ\, vì nhà Ta là nhà cầu nguyện cho mọi dân tộc”. Đó là lời Chúa. \nĐÁP CA: Tv 66\, 2-3. 5. 6 và 8\nĐáp: Chư dân hãy ca tụng Ngài! Thân lạy Chúa\, hết thảy chư dân hãy ca tụng Ngài (c. 4). \nXướng: 1) Xin Thiên Chúa xót thương và chúc phúc lành cho chúng con\, xin tỏ ra cho chúng con thấy long nhan Ngài tươi sáng\, để trên địa cầu\, thiên hạ nhìn biết đường lối của Ngài\, cho chư dân người ta được rõ ơn Ngài cứu độ. – Đáp. \n2) Các dân tộc hãy mừng vui và khoái trá\, vì Ngài công bình cai trị chư dân\, và Ngài cai quản các nước địa cầu. – Đáp. \n3) Chư dân hãy ca tụng Ngài. Thân lạy Chúa\, hết thảy chư dân hãy ca tụng Ngài! Xin Thiên Chúa chúc phúc lành cho chúng con\, để cho khắp cùng bờ cõi trái đất kính sợ Ngài. – Đáp. \nBÀI ĐỌC II: Rm 11\, 13-15. 29-32\n“Thiên Chúa ban ơn và kêu gọi Israel\, thì Người không hề hối tiếc”. \nTrích thư Thánh Phaolô Tông đồ gửi tín hữu Rôma. \nAnh em thân mến\, tôi nói với anh em là những người gốc Dân Ngoại rằng: Bao lâu tôi là Tông đồ các Dân Ngoại\, tôi sẽ tôn trọng chức vụ của tôi\, nếu có cách nào làm cho đồng bào tôi phân bì\, mà tôi cứu rỗi được ít người trong họ. Vì nếu do việc họ bị loại ra\, mà thiên hạ được giao hoà\, thì sự họ được thâu nhận sẽ thế nào\, nếu không phải là một sự sống lại từ cõi chết? \nVì Thiên Chúa ban ơn và kêu gọi ai\, thì Người không hề hối tiếc. Như xưa anh em không tin Thiên Chúa\, nhưng nay vì họ cứng lòng tin\, nên anh em được thương xót; cũng thế\, nay họ không tin\, vì thấy Chúa thương xót anh em\, để họ cũng được thương xót. Thiên Chúa đã để mọi người phải giam hãm trong sự cứng lòng tin\, để Chúa thương xót hết mọi người. Đó là lời Chúa. \nALLELUIA: Ga 14\, 23\nAlleluia\, alleluia! – Chúa phán: “Nếu ai yêu mến Thầy\, thì sẽ giữ lời Thầy và Cha Thầy sẽ yêu mến người ấy\, và Chúng Ta sẽ đến và ở trong người ấy”. – Alleluia. \nPHÚC ÂM: Mt 15\, 21-28\n“Này bà\, bà có lòng mạnh tin”. \nTin Mừng Chúa Giêsu Kitô theo Thánh Matthêu. \nKhi ấy\, ra khỏi đó\, Chúa Giêsu lui về miền Tyrô và Siđon\, thì liền có một bà quê ở Canaan từ xứ ấy đến mà kêu cùng Người rằng: “Lạy Ngài là con Vua Đavít\, xin thương xót tôi: con gái tôi bị quỷ ám khốn cực lắm”. Nhưng Người không đáp lại một lời nào. Các môn đệ đến gần Người mà xin rằng: “Xin Thầy thương để bà ấy về đi\, vì bà cứ theo chúng ta mà kêu mãi”. Người trả lời: “Thầy chỉ được sai đến cùng chiên lạc nhà Israel”. Nhưng bà kia đến lạy Người mà nói: “Lạy Ngài\, xin cứu giúp tôi”. Người đáp: “Không nên lấy bánh của con cái mà vứt cho chó”. Bà ấy đáp lại: “Vâng\, lạy Ngài\, vì chó con cũng được ăn những mảnh vụn từ bàn của chủ rơi xuống”. Bấy giờ\, Chúa Giêsu trả lời cùng bà ấy rằng: “Này bà\, bà có lòng mạnh tin. Bà muốn sao thì được vậy”. Và ngay lúc đó\, con gái bà đã được lành. Đó là lời Chúa. \n5 phút suy niệm 2014 \nMỘT ĐỨC TIN “MẠNH THẬT” \n“Này bà\, lòng tin của bà mạnh thật. Bà muốn sao thì sẽ được vậy.”(Mt 15\,28) \nSuy niệm: Nếu muốn giới hạn sứ mạng của mình trong phạm vi dân Ít-ra-en\, Chúa Giê-su chỉ cần đơn giản từ chối lời cầu xin của người đàn bà dân ngoại. Đằng này\, chẳng những Ngài từ chối mà còn so sánh bà với lũ chó con: “Không nên lấy bánh dành cho con cái mà ném cho lũ chó con.” Thế nhưng lòng tin của bà thật tuyệt vời! Bà không tuyệt vọng cũng không cho rằng mình bị xúc phạm; trái lại bà còn tuyên xưng niềm tin vào tình thương vô biên của Chúa\, tình thương lớn đến nỗi cả “lũ chó con cũng được ăn những mảnh vụn trên bàn chủ rơi xuống”. Đức tin của bà khiêm hạ nhưng mạnh mẽ và kiên trì như thế\, nên Chúa Giêsu phải thốt lên: “Này bà\, lòng tin của bà mạnh thật”mạnh đến độ Chúa đã chấp nhận nhờ đó con bà đã được cứu sống. \nMời Bạn: Chúa Giê-su khen lòng tin của người đàn bà dân ngoại “mạnh thật” vì đó là một đức tin không chỉ có trên giấy mà là đức tin đã phát huy được tất cả sức mạnh vào trong hành động và cả cuộc sống. Nhiều người sau khi lãnh nhận bí tích Thánh Tẩy trở thành Ki-tô hữu\, lại dễ có rơi vào thói quen “có đạo\, giữ đạo mà không sống đạo.” Trái lại\, người có “đức tin mạnh thật” không chỉ “đọc kinh\, xem lễ” mà còn kiên trì cầu nguyện\, lắng nghe và sống Lời Chúa\, để chất Tin Mừng thấm sâu vào từng ý nghĩ hành vi trong cuộc sống của mình. \nSống Lời Chúa: Kiên trì cầu nguyện và suy niệm Lời Chúa để xin Ngài ban cho bạn “một đức tin mạnh thật”. \nCầu nguyện: Cảm tạ Chúa đã ban cho con ơn “Đức Tin”. Xin cho con luôn biết đào sâu đức tin trong mỗi ngày sống\, để con khám phá ra sự hiện diện đầy yêu thương của Chúa trong đời con.
URL:https://dongchuacuuthe.us/calendar/chua-nhat-xx-thuong-nien-nam-a/
END:VEVENT
BEGIN:VEVENT
DTSTART;VALUE=DATE:20230820
DTEND;VALUE=DATE:20230821
DTSTAMP:20260425T041432
CREATED:20230711T054304Z
LAST-MODIFIED:20230711T054304Z
UID:8024-1692489600-1692575999@dongchuacuuthe.us
SUMMARY:Twentieth Sunday in Ordinary Time
DESCRIPTION:Reading 1\nIs 56:1\, 6-7\n\nThus says the LORD:\nObserve what is right\, do what is just;\nfor my salvation is about to come\,\nmy justice\, about to be revealed. \nThe foreigners who join themselves to the LORD\,\nministering to him\,\nloving the name of the LORD\,\nand becoming his servants—\nall who keep the sabbath free from profanation\nand hold to my covenant\,\nthem I will bring to my holy mountain\nand make joyful in my house of prayer;\ntheir burnt offerings and sacrifices\nwill be acceptable on my altar\,\nfor my house shall be called\na house of prayer for all peoples. \n\n\n\n\n\n\n\n\n\n\n\nResponsorial Psalm\nPs 67:2-3\, 5\, 6\, 8\n\nR. (4) O God\, let all the nations praise you!\nMay God have pity on us and bless us;\nmay he let his face shine upon us.\nSo may your way be known upon earth;\namong all nations\, your salvation.\nR. O God\, let all the nations praise you!\nMay the nations be glad and exult\nbecause you rule the peoples in equity;\nthe nations on the earth you guide.\nR. O God\, let all the nations praise you!\nMay the peoples praise you\, O God;\nmay all the peoples praise you!\nMay God bless us\,\nand may all the ends of the earth fear him!\nR. O God\, let all the nations praise you!\n\n\n\n\n\n\n\n\n\n\n\nReading 2\nRom 11:13-15\, 29-32\n\nBrothers and sisters:\nI am speaking to you Gentiles.\nInasmuch as I am the apostle to the Gentiles\,\nI glory in my ministry in order to make my race jealous\nand thus save some of them.\nFor if their rejection is the reconciliation of the world\,\nwhat will their acceptance be but life from the dead? \nFor the gifts and the call of God are irrevocable.\nJust as you once disobeyed God\nbut have now received mercy because of their disobedience\,\nso they have now disobeyed in order that\,\nby virtue of the mercy shown to you\,\nthey too may now receive mercy.\nFor God delivered all to disobedience\,\nthat he might have mercy upon all. \n\n\n\n\n\n\n\n\n\n\n\nAlleluia\nCf. Mt 4:23\n\nR. Alleluia\, alleluia.\nJesus proclaimed the Gospel of the kingdom\nand cured every disease among the people.\nR. Alleluia\, alleluia.\n\n\n\n\n\n\n\n\n\n\n\nGospel\nMt 15:21-28\n\nAt that time\, Jesus withdrew to the region of Tyre and Sidon.\nAnd behold\, a Canaanite woman of that district came and called out\,\n“Have pity on me\, Lord\, Son of David!\nMy daughter is tormented by a demon.”\nBut Jesus did not say a word in answer to her.\nJesus’ disciples came and asked him\,\n“Send her away\, for she keeps calling out after us.”\nHe said in reply\,\n“I was sent only to the lost sheep of the house of Israel.”\nBut the woman came and did Jesus homage\, saying\, “Lord\, help me.”\nHe said in reply\,\n“It is not right to take the food of the children\nand throw it to the dogs.”\nShe said\, “Please\, Lord\, for even the dogs eat the scraps\nthat fall from the table of their masters.”\nThen Jesus said to her in reply\,\n“O woman\, great is your faith!\nLet it be done for you as you wish.”\nAnd the woman’s daughter was healed from that hour.
URL:https://dongchuacuuthe.us/calendar/twentieth-sunday-in-ordinary-time/
END:VEVENT
END:VCALENDAR