BEGIN:VCALENDAR
VERSION:2.0
PRODID:-//Dòng Chúa Cứu Thế Hải Ngoại - ECPv6.15.20//NONSGML v1.0//EN
CALSCALE:GREGORIAN
METHOD:PUBLISH
X-ORIGINAL-URL:https://dongchuacuuthe.us
X-WR-CALDESC:Events for Dòng Chúa Cứu Thế Hải Ngoại
REFRESH-INTERVAL;VALUE=DURATION:PT1H
X-Robots-Tag:noindex
X-PUBLISHED-TTL:PT1H
BEGIN:VTIMEZONE
TZID:America/Los_Angeles
BEGIN:DAYLIGHT
TZOFFSETFROM:-0800
TZOFFSETTO:-0700
TZNAME:PDT
DTSTART:20220313T100000
END:DAYLIGHT
BEGIN:STANDARD
TZOFFSETFROM:-0700
TZOFFSETTO:-0800
TZNAME:PST
DTSTART:20221106T090000
END:STANDARD
BEGIN:DAYLIGHT
TZOFFSETFROM:-0800
TZOFFSETTO:-0700
TZNAME:PDT
DTSTART:20230312T100000
END:DAYLIGHT
BEGIN:STANDARD
TZOFFSETFROM:-0700
TZOFFSETTO:-0800
TZNAME:PST
DTSTART:20231105T090000
END:STANDARD
BEGIN:DAYLIGHT
TZOFFSETFROM:-0800
TZOFFSETTO:-0700
TZNAME:PDT
DTSTART:20240310T100000
END:DAYLIGHT
BEGIN:STANDARD
TZOFFSETFROM:-0700
TZOFFSETTO:-0800
TZNAME:PST
DTSTART:20241103T090000
END:STANDARD
END:VTIMEZONE
BEGIN:VEVENT
DTSTART;VALUE=DATE:20230818
DTEND;VALUE=DATE:20230819
DTSTAMP:20260425T041430
CREATED:20230605T050518Z
LAST-MODIFIED:20230605T050518Z
UID:7865-1692316800-1692403199@dongchuacuuthe.us
SUMMARY:Thứ Sáu Tuần XIX Thường Niên Năm I
DESCRIPTION:BÀI ĐỌC I: Gs 24\, 1-13 \n“Ta đã đem tổ phụ các ngươi từ Mêsôpôtamia về\, đã dẫn các ngươi ra khỏi Ai-cập\, đã đem các ngươi vào đất nước”. \nTrích sách ông Giosuê. \nTrong những ngày ấy\, Giosuê triệu tập tất cả các chi tộc lại ở Sikem\, rồi gọi các kỳ lão\, các thủ lãnh gia tộc\, quan án\, sĩ quan đến\, và họ đứng trước mặt Thiên Chúa. Giosuê liền nói với toàn dân như thế này:  \nChúa là Thiên Chúa Israel phán rằng: Thuở xưa tổ tiên các ngươi là Tharê\, cha của Abraham và Nacor\, đã ở bên kia sông\, và đã thờ các thần ngoại. Bấy giờ Ta đã đem Abraham\, tổ phụ các ngươi\, từ bên kia sông và đã dẫn đưa ông vào đất Canaan. Ta lại làm cho con cháu ông trở nên đông đúc\, đã ban cho ông được Isaac. Ta lại ban cho Isaac được Giacóp và Êsau. Trong hai người này\, Ta đã ban cho Êsau miền núi Sêir làm sản nghiệp. Còn Giacóp và con cái thì xuống Ai-cập.  \nSau đó\, Ta đã sai Môsê và Aaron\, và trừng phạt Ai-cập bằng những phép lạ. Rồi Ta đã dẫn các ngươi và cha ông các ngươi ra khỏi Ai-cập\, và các ngươi đã đi tới Biển. Người Ai-cập đuổi theo cha ông các ngươi với chiến xa binh mã cho đến Biển Đỏ. Bấy giờ con cái Israel kêu cầu Chúa và Người đã khiến sự tối tăm ngăn giữa các ngươi và quân Ai-cập\, và làm cho biển tràn ra mà vùi lấp chúng. Chính mắt các ngươi đã thấy tất cả những gì Ta đã làm ở Ai-cập\, rồi các ngươi đã ở lâu trong hoang địa.  \nSau đó\, Ta đã đưa các ngươi vào xứ Amorê\, bên kia sông Giođan. Chúng đã giao chiến với các ngươi và Ta đã trao chúng trong tay các ngươi. Các ngươi đã chiếm được đất đai của chúng\, và Ta đã tiêu diệt chúng trước mặt các ngươi. Rồi Balac\, con Sêphor\, vua xứ Moab\, dấy lên giao chiến với Israel. Vua ấy đã cho mời Balaam\, con của Bêor\, đến để chúc dữ các ngươi. Ta không muốn nghe Balaam. Nhưng trái lại Ta đã dùng nó chúc phúc cho các ngươi và Ta đã cứu các ngươi thoát khỏi bàn tay nó.  \nSau đó\, các ngươi đã qua sông Giođan và đến Giêricô\, dân thành này\, cũng như các người Amorê\, Phêrêsê\, Canaan\, Hêthê\, Gergêsê\, Hêvê\, Giêbusê\, đã giao chiến với các ngươi. Nhưng Ta đã trao chúng trong tay các ngươi. Ta đã cho ong bò vẽ đi trước các ngươi\, và Ta đuổi hai vua xứ Amorê ra khỏi các địa hạt của họ mà không cần nhờ đến cung kiếm của các ngươi. Ta đã ban cho các ngươi một vùng đất mà các ngươi không mất công đánh chiếm. Ta đã cho các ngươi được ở những thành mà các ngươi không phải xây cất\, Ta đã cho các ngươi những vườn nho và vườn ôliu mà các ngươi không vun trồng. Đó là lời Chúa. \nĐÁP CA: Tv 135\, 1-3. 16-18. 21-22 và 24 \nĐáp: Bởi đức từ bi Người muôn thuở. \nHoặc đọc: Alleluia.  \nXướng: 1) Hãy ca ngợi Chúa\, vì Người hảo tâm\, bởi đức từ bi Người muôn thuở. Hãy ca ngợi Thiên Chúa của chư thần\, bởi đức từ bi Người muôn thuở. Chỉ mình Người làm những việc kỳ diệu vĩ đại\, bởi đức từ bi Người muôn thuở. – Đáp. \n2) Người đã dẫn đưa dân Người qua sa mạc\, bởi đức từ bi Người muôn thuở. Người đã đánh dẹp các đại vương đế\, bởi đức từ bi Người muôn thuở. Người đã giết các vua quyền thế\, bởi đức từ bi Người muôn thuở. – Đáp. \n3) Người đã ban đất chúng để làm gia sản\, bởi đức từ bi Người muôn thuở. Làm gia sản của Israel tôi tớ Người\, bởi đức từ bi Người muôn thuở. Người đã giải thoát chúng ta khỏi quân thù địch\, bởi đức từ bi Người muôn thuở. – Đáp. \nALLELUIA: 1 Ga 2\, 5 \nAlleluia\, alleluia! – Ai giữ lời Chúa Kitô\, thì quả thật\, tình yêu của Thiên Chúa đã tuyệt hảo nơi người ấy. – Alleluia. \nPHÚC ÂM: Mt 19\, 3-12 \n“Vì lòng chai đá của các ngươi mà Môsê đã cho phép các ngươi rẫy vợ; nhưng từ ban đầu thì không có như vậy”. \nTin Mừng Chúa Giêsu Kitô theo Thánh Matthêu. \nKhi ấy\, có những người biệt phái đến cùng Chúa Giêsu và hỏi thử Người rằng: “Có được phép rẫy vợ vì bất cứ lẽ gì không?” Người đáp: “Nào các ông đã chẳng đọc thấy rằng: Từ thuở ban đầu\, Tạo Hoá đã dựng loài người có nam có nữ\, và Người đã phán: Bởi thế nên người nam sẽ bỏ cha mẹ mà kết hợp với vợ mình\, và cả hai sẽ nên một thân xác? Cho nên họ không còn là hai\, nhưng là một thân xác. Vậy điều gì Thiên Chúa đã kết hợp\, thì loài người không được phân ly”. Họ hỏi lại: “Vậy tại sao Môsê đã truyền cấp tờ ly hôn mà cho rẫy vợ?” Người đáp: “Vì lòng chai đá của các ông mà Môsê đã cho phép các ông rẫy vợ; nhưng từ ban đầu thì không có như vậy. Tôi bảo các ông rằng: Ai rẫy vợ\, trừ nố gian dâm\, và đi cưới vợ khác\, thì phạm tội ngoại tình. Và ai cưới người đã bị rẫy\, cũng phạm tội ngoại tình”.  \nCác môn đệ thưa Người rằng: “Nếu sự thể việc vợ chồng là như thế\, thì tốt hơn đừng cưới vợ”. Người đáp: “Không phải mọi người hiểu được điều ấy\, nhưng chỉ những ai được ban cho hiểu mà thôi. Vì có những hoạn nhân từ lòng mẹ sinh ra\, có những hoạn nhân do người ta làm nên\, và có những người vì Nước Trời\, tự trở thành hoạn nhân. Ai có thể hiểu được thì hiểu”. Đó là lời Chúa.  \n\nTHỨ SÁU TUẦN 19 TN \nMt 19\,3-12 \nKHÔNG ĐƯỢC PHÂN LY \n“Sự gì Thiên Chúa đã phối hợp\, loài người không được phân ly.” (Mt 19\,6) \nSuy niệm: Bước vào đời sống hôn nhân\, ai cũng muốn được sống trăm năm chung thủy với người bạn đời của mình. Thế nhưng\, tình trạng ly dị hiện nay xảy ra như cơm bữa\, thậm chí được khích lệ một cách nào đó bởi một số quốc gia cho phép ly dị. Tại sao xảy ra thảm cảnh này trong đời hôn nhân? Chúa Giêsu đã giải thích rõ lý do như sau: “vì họ lòng chai dạ đá” (Mt 19\,8)\, chứ ban đầu không có thế đâu. Nói cách khác\, vì người ta “lòng chai dạ đá” trước thánh ý của Thiên Chúa\, nên người ta xem thường sự chung thủy trong hôn nhân. Chúa Giê-su nói\, từ ban đầu\, Thiên Chúa nối kết hai người nam nữ và hôn ước của họ có giá trị bất khả phân ly. Khi Chúa Giê-su đến\, Ngài đã nâng hôn nhân lên thành bí tích\, vừa tác thánh đôi vợ chồng\, vừa để đôi vợ chồng dùng tình yêu chung thủy của họ diễn tả sự chung thủy của Chúa Giê-su với Hội Thánh. Chúa Giê-su yêu Hội Thánh đến cùng\, vì thế\, đời sống hôn nhân đòi buộc hai người vợ chồng bước vào cuộc sống gắn bó với nhau cho đến chết. “Lòng chai dạ đá” đã làm nhiều người cố tình quên điều cốt lõi này của hôn nhân\, nên “vội đến\, vội đi”\, khi hợp khi tan. Vả lại\, hôn nhân là một sự chọn lựa\, chọn lựa người mình yêu\, chứ hôn nhân đâu phải vì thích hay không thích. Chúng ta có thể chọn yêu một người dẫu không thích. Chúa Giêsu chọn chúng ta và làm cho chúng ta đáng yêu đấy thôi! \nMời Bạn: Hội Thánh dạy\, “do hôn ước\, người nam và người nữ tạo nên một cộng đồng sống chung suốt đời ”. \nSống Lời Chúa: Cầu nguyện cho các đôi vợ chồng được chung thủy với nhau. \nCầu nguyện: Đọc kinh Gia Đình.
URL:https://dongchuacuuthe.us/calendar/thu-sau-tuan-xix-thuong-nien-nam-i/
END:VEVENT
BEGIN:VEVENT
DTSTART;VALUE=DATE:20230818
DTEND;VALUE=DATE:20230819
DTSTAMP:20260425T041430
CREATED:20230711T054124Z
LAST-MODIFIED:20230711T054124Z
UID:8020-1692316800-1692403199@dongchuacuuthe.us
SUMMARY:Friday of the Nineteenth Week in Ordinary Time
DESCRIPTION:Reading 1\nJos 24:1-13\n\nJoshua gathered together all the tribes of Israel at Shechem\,\nsummoning their elders\, their leaders\,\ntheir judges and their officers.\nWhen they stood in ranks before God\, Joshua addressed all the people:\n“Thus says the LORD\, the God of Israel:\nIn times past your fathers\, down to Terah\,\nfather of Abraham and Nahor\,\ndwelt beyond the River and served other gods.\nBut I brought your father Abraham from the region beyond the River\nand led him through the entire land of Canaan.\nI made his descendants numerous\, and gave him Isaac.\nTo Isaac I gave Jacob and Esau.\nTo Esau I assigned the mountain region of Seir in which to settle\,\nwhile Jacob and his children went down to Egypt. \n“Then I sent Moses and Aaron\, and smote Egypt with the prodigies\nwhich I wrought in her midst.\nAfterward I led you out of Egypt\, and when you reached the sea\,\nthe Egyptians pursued your fathers to the Red Sea\nwith chariots and horsemen.\nBecause they cried out to the LORD\,\nhe put darkness between your people and the Egyptians\,\nupon whom he brought the sea so that it engulfed them.\nAfter you witnessed what I did to Egypt\,\nand dwelt a long time in the desert\,\nI brought you into the land of the Amorites\nwho lived east of the Jordan.\nThey fought against you\, but I delivered them into your power.\nYou took possession of their land\, and I destroyed them\,\nthe two kings of the Amorites\, before you.\nThen Balak\, son of Zippor\, king of Moab\,\nprepared to war against Israel.\nHe summoned Balaam\, son of Beor\, to curse you;\nbut I would not listen to Balaam.\nOn the contrary\, he had to bless you\, and I saved you from him.\nOnce you crossed the Jordan and came to Jericho\,\nthe men of Jericho fought against you\,\nbut I delivered them also into your power.\nAnd I sent the hornets ahead of you that drove them\n(the Amorites\, Perizzites\, Canaanites\,\nHittites\, Girgashites\, Hivites and Jebusites)\nout of your way; it was not your sword or your bow. \n“I gave you a land that you had not tilled\nand cities that you had not built\, to dwell in;\nyou have eaten of vineyards and olive groves\nwhich you did not plant.” \n\n\n\n\n\n\n\n\n\n\n\nResponsorial Psalm\nPs 136:1-3\, 16-18\, 21-22 and 24\n\nR. His mercy endures forever.\nGive thanks to the LORD\, for he is good\,\nfor his mercy endures forever;\nGive thanks to the God of gods\,\nfor his mercy endures forever;\nGive thanks to the LORD of lords\,\nfor his mercy endures forever.\nR. His mercy endures forever.\nWho led his people through the wilderness\,\nfor his mercy endures forever;\nWho smote great kings\,\nfor his mercy endures forever;\nAnd slew powerful kings\,\nfor his mercy endures forever.\nR. His mercy endures forever.\nAnd made their land a heritage\,\nfor his mercy endures forever;\nThe heritage of Israel his servant\,\nfor his mercy endures forever;\nAnd freed us from our foes\,\nfor his mercy endures forever.\nR. His mercy endures forever.\n\n\n\n\n\n\n\n\n\n\n\nAlleluia\nSee 1 Thes 2:13\n\nR. Alleluia\, alleluia.\nReceive the word of God\, not as the word of men\,\nbut\, as it truly is\, the word of God.\nR. Alleluia\, alleluia.\n\n\n\n\n\n\n\n\n\n\n\nGospel\nMt 19:3-12\n\nSome Pharisees approached Jesus\, and tested him\, saying\,\n“Is it lawful for a man to divorce his wife for any cause whatever?”\nHe said in reply\, “Have you not read that from the beginning\nthe Creator made them male and female and said\,\nFor this reason a man shall leave his father and mother\nand be joined to his wife\, and the two shall become one flesh?\nSo they are no longer two\, but one flesh.\nTherefore\, what God has joined together\, man must not separate.”\nThey said to him\, “Then why did Moses command\nthat the man give the woman a bill of divorce and dismiss her?”\nHe said to them\, “Because of the hardness of your hearts\nMoses allowed you to divorce your wives\,\nbut from the beginning it was not so.\nI say to you\, whoever divorces his wife\n(unless the marriage is unlawful)\nand marries another commits adultery.”\nHis disciples said to him\,\n“If that is the case of a man with his wife\,\nit is better not to marry.”\nHe answered\, “Not all can accept this word\,\nbut only those to whom that is granted.\nSome are incapable of marriage because they were born so;\nsome\, because they were made so by others;\nsome\, because they have renounced marriage\nfor the sake of the Kingdom of heaven.\nWhoever can accept this ought to accept it.”
URL:https://dongchuacuuthe.us/calendar/friday-of-the-nineteenth-week-in-ordinary-time/
END:VEVENT
END:VCALENDAR