BEGIN:VCALENDAR
VERSION:2.0
PRODID:-//Dòng Chúa Cứu Thế Hải Ngoại - ECPv6.15.20//NONSGML v1.0//EN
CALSCALE:GREGORIAN
METHOD:PUBLISH
X-ORIGINAL-URL:https://dongchuacuuthe.us
X-WR-CALDESC:Events for Dòng Chúa Cứu Thế Hải Ngoại
REFRESH-INTERVAL;VALUE=DURATION:PT1H
X-Robots-Tag:noindex
X-PUBLISHED-TTL:PT1H
BEGIN:VTIMEZONE
TZID:America/Los_Angeles
BEGIN:DAYLIGHT
TZOFFSETFROM:-0800
TZOFFSETTO:-0700
TZNAME:PDT
DTSTART:20220313T100000
END:DAYLIGHT
BEGIN:STANDARD
TZOFFSETFROM:-0700
TZOFFSETTO:-0800
TZNAME:PST
DTSTART:20221106T090000
END:STANDARD
BEGIN:DAYLIGHT
TZOFFSETFROM:-0800
TZOFFSETTO:-0700
TZNAME:PDT
DTSTART:20230312T100000
END:DAYLIGHT
BEGIN:STANDARD
TZOFFSETFROM:-0700
TZOFFSETTO:-0800
TZNAME:PST
DTSTART:20231105T090000
END:STANDARD
BEGIN:DAYLIGHT
TZOFFSETFROM:-0800
TZOFFSETTO:-0700
TZNAME:PDT
DTSTART:20240310T100000
END:DAYLIGHT
BEGIN:STANDARD
TZOFFSETFROM:-0700
TZOFFSETTO:-0800
TZNAME:PST
DTSTART:20241103T090000
END:STANDARD
END:VTIMEZONE
BEGIN:VEVENT
DTSTART;VALUE=DATE:20230814
DTEND;VALUE=DATE:20230815
DTSTAMP:20260425T041431
CREATED:20230605T050147Z
LAST-MODIFIED:20230605T050147Z
UID:7855-1691971200-1692057599@dongchuacuuthe.us
SUMMARY:Thứ Hai Tuần XIX Thường Niên Năm I
DESCRIPTION:BÀI ĐỌC I: Đnl 10\, 12-22 \n“Các ngươi hãy cắt bì lòng dạ các ngươi. Hãy yêu thương khách trọ\, vì chính các ngươi cũng đã là khách trọ”. \nTrích sách Đệ Nhị Luật. \nMôsê nói với dân chúng rằng: “Giờ đây\, hỡi Israel\, Chúa là Thiên Chúa các ngươi\, đòi hỏi các ngươi điều gì\, nếu không phải là kính sợ Chúa là Thiên Chúa các ngươi\, đi theo mọi đường lối của Người\, yêu mến Người\, làm tôi Chúa là Thiên Chúa các ngươi hết lòng và hết linh hồn các ngươi\, tuân giữ các giới răn và nghi lễ của Thiên Chúa mà hôm nay tôi truyền cho các ngươi để các ngươi được hạnh phúc.  \n“Hãy xem trời và các tầng trời\, trái đất và mọi sự trên mặt đất đều thuộc về Chúa là Thiên Chúa các ngươi. Nhưng Chúa chỉ quyến luyến cha ông các ngươi\, đã yêu thương các ông ấy\, và sau đó\, trong mọi dân tộc\, Người đã chọn dòng dõi kế tiếp các ông ấy là chính các ngươi như ngày hôm nay.  \n“Vậy các ngươi hãy cắt bì lòng dạ các ngươi\, và đừng cứng cổ nữa\, vì Chúa là Thiên Chúa các ngươi\, là Thiên Chúa trên hết các chúa\, là Chủ Tể trên hết các chủ tể\, là Chúa cao cả\, quyền năng và đáng khiếp sợ\, là Đấng không vị nể ai\, và không để cho lễ vật hối lộ; Người giải oan cho cô nhi quả phụ\, Người yêu mến người khách trọ và cho họ cơm ăn áo mặc. Vậy các ngươi hãy yêu thương khách trọ\, vì các ngươi cũng đã là khách trọ trong đất Ai-cập.  \n“Các ngươi phải kính sợ Chúa là Thiên Chúa các ngươi\, và phụng sự một mình Người\, phải trìu mến Người và lấy danh Người mà thề. Chính Người là Đấng các ngươi phải ca tụng và là Chúa các ngươi. Người đã thực hiện cho các ngươi những điều trọng đại và khủng khiếp\, mà mắt các ngươi đã xem thấy. Cha ông các ngươi chỉ có bảy mươi khi xuống ở Ai-cập\, và nay Chúa\, là Thiên Chúa các ngươi\, đã làm cho các ngươi đông như sao trên trời”. Đó là lời Chúa. \nĐÁP CA: Tv 147\, 12-13. 14-15. 19-20 \nĐáp: Giêrusalem hỡi\, hãy ngợi khen Chúa! (c. 12a) \nXướng: 1) Giêrusalem hỡi\, hãy ngợi khen Chúa\, hãy ngợi khen Thiên Chúa của ngươi\, hỡi Sion\, vì Người giữ chặt các then cửa ngươi\, Người chúc phúc cho con cái ngươi trong thành nội. – Đáp. \n2) Người giữ cho bờ cõi ngươi được bình an\, Người dưỡng nuôi ngươi bằng tinh hoa của lúa mì. Người đã sai lời Người xuống cõi trần ai\, và lời Người lanh chai chạy rảo. – Đáp. \n3) Người đã loan truyền lời Người cho Giacóp\, những thánh chỉ và huấn lệnh Người cho Israel. Người đã không làm cho dân tộc nào như thế\, Người đã không công bố cho họ các huấn lệnh của Người. – Đáp. \nALLELUIA: Ga 14\, 23 \nAlleluia\, alleluia! – Nếu ai yêu mến Thầy\, thì sẽ giữ lời Thầy\, và Cha Thầy sẽ yêu mến người ấy\, và Chúng Ta sẽ đến và ở trong người ấy. – Alleluia. \nPHÚC ÂM: Mt 17\, 21-26 (Hl 22-27) \n“Họ sẽ giết Người\, nhưng Người sẽ sống lại. Con cái thì được miễn thuế”. \nTin Mừng Chúa Giêsu Kitô theo Thánh Matthêu. \nKhi ấy\, các môn đệ và Chúa Giêsu còn đang ở Galilêa\, thì Chúa Giêsu bảo các ông rằng: “Con Người sắp bị nộp vào tay người đời\, họ sẽ giết người\, nhưng ngày thứ ba\, Người sẽ sống lại”. Các môn đệ rất đỗi buồn phiền.  \nKhi các ngài đến Capharnaum\, thì những người thu thế đền thờ đến gặp Phêrô và hỏi rằng: “Thầy các ông không nộp thuế ‘đền thờ’ sao?” Ông nói: “Có chớ”.  \nKhi ông về đến nhà\, Chúa Giêsu hỏi đón trước rằng: “Simon\, con nghĩ sao? Vua chúa trần gian thu thuế má hạng người nào? Đòi con cái mình hay người ngoài?” Ông thưa rằng: “Đòi người ngoài”. Chúa Giêsu bảo ông rằng: “Vậy thì con cái được miễn. Nhưng để chúng ta không làm cho họ vấp phạm\, con hãy ra biển thả câu: con cá nào câu lên trước hết thì bắt lấy\, mở miệng nó ra\, sẽ thấy một đồng tiền\, con hãy lấy tiền đó mà nộp cho họ\, trả phần Thầy và phần con”. Đó là lời Chúa.
URL:https://dongchuacuuthe.us/calendar/thu-hai-tuan-xix-thuong-nien-nam-i/
END:VEVENT
BEGIN:VEVENT
DTSTART;VALUE=DATE:20230814
DTEND;VALUE=DATE:20230815
DTSTAMP:20260425T041431
CREATED:20230711T053712Z
LAST-MODIFIED:20230711T053712Z
UID:8010-1691971200-1692057599@dongchuacuuthe.us
SUMMARY:Memorial of Saint Maximilian Kolbe\, Priest and Martyr
DESCRIPTION:Reading 1\nDt 10:12-22\n\nMoses said to the people:\n“And now\, Israel\, what does the LORD\, your God\, ask of you\nbut to fear the LORD\, your God\, and follow his ways exactly\,\nto love and serve the LORD\, your God\,\nwith all your heart and all your soul\,\nto keep the commandments and statutes of the LORD\nwhich I enjoin on you today for your own good?\nThink! The heavens\, even the highest heavens\,\nbelong to the LORD\, your God\,\nas well as the earth and everything on it.\nYet in his love for your fathers the LORD was so attached to them\nas to choose you\, their descendants\,\nin preference to all other peoples\, as indeed he has now done.\nCircumcise your hearts\, therefore\, and be no longer stiff-necked.\nFor the LORD\, your God\, is the God of gods\,\nthe LORD of lords\, the great God\, mighty and awesome\,\nwho has no favorites\, accepts no bribes;\nwho executes justice for the orphan and the widow\,\nand befriends the alien\, feeding and clothing him.\nSo you too must befriend the alien\,\nfor you were once aliens yourselves in the land of Egypt.\nThe LORD\, your God\, shall you fear\, and him shall you serve;\nhold fast to him and swear by his name.\nHe is your glory\, he\, your God\,\nwho has done for you those great and terrible things\nwhich your own eyes have seen.\nYour ancestors went down to Egypt seventy strong\,\nand now the LORD\, your God\,\nhas made you as numerous as the stars of the sky.”\n\n\n\n\n\n\n\n\n\n\n\nResponsorial Psalm\nPs 147:12-13\, 14-15\, 19-20\n\nR. (12a) Praise the Lord\, Jerusalem.\nGlorify the LORD\, O Jerusalem;\npraise your God\, O Zion.\nFor he has strengthened the bars of your gates;\nhe has blessed your children within you.\nR. Praise the Lord\, Jerusalem.\nHe has granted peace in your borders;\nwith the best of wheat he fills you.\nHe sends forth his command to the earth;\nswiftly runs his word!\nR. Praise the Lord\, Jerusalem.\nHe has proclaimed his word to Jacob\,\nhis statutes and his ordinances to Israel.\nHe has not done thus for any other nation;\nhis ordinances he has not made known to them. Alleluia.\nR. Praise the Lord\, Jerusalem.\n\n\n\n\n\n\n\n\n\n\n\nAlleluia\nSee 2 Thes 2:14\n\nR. Alleluia\, alleluia.\nGod has called you through the Gospel\nto possess the glory of our Lord Jesus Christ.\nR. Alleluia\, alleluia.\n\n\n\n\n\n\n\n\n\n\n\nGospel\nMt 17:22-27\n\nAs Jesus and his disciples were gathering in Galilee\,\nJesus said to them\,\n“The Son of Man is to be handed over to men\,\nand they will kill him\, and he will be raised on the third day.”\nAnd they were overwhelmed with grief. \nWhen they came to Capernaum\,\nthe collectors of the temple tax approached Peter and said\,\n“Does not your teacher pay the temple tax?”\n“Yes\,” he said.\nWhen he came into the house\, before he had time to speak\,\nJesus asked him\, “What is your opinion\, Simon?\nFrom whom do the kings of the earth take tolls or census tax?\nFrom their subjects or from foreigners?”\nWhen he said\, “From foreigners\,” Jesus said to him\,\n“Then the subjects are exempt.\nBut that we may not offend them\, go to the sea\, drop in a hook\,\nand take the first fish that comes up.\nOpen its mouth and you will find a coin worth twice the temple tax.\nGive that to them for me and for you.”
URL:https://dongchuacuuthe.us/calendar/memorial-of-saint-maximilian-kolbe-priest-and-martyr/
END:VEVENT
END:VCALENDAR