BEGIN:VCALENDAR
VERSION:2.0
PRODID:-//Dòng Chúa Cứu Thế Hải Ngoại - ECPv6.15.20//NONSGML v1.0//EN
CALSCALE:GREGORIAN
METHOD:PUBLISH
X-WR-CALNAME:Dòng Chúa Cứu Thế Hải Ngoại
X-ORIGINAL-URL:https://dongchuacuuthe.us
X-WR-CALDESC:Events for Dòng Chúa Cứu Thế Hải Ngoại
REFRESH-INTERVAL;VALUE=DURATION:PT1H
X-Robots-Tag:noindex
X-PUBLISHED-TTL:PT1H
BEGIN:VTIMEZONE
TZID:America/Los_Angeles
BEGIN:DAYLIGHT
TZOFFSETFROM:-0800
TZOFFSETTO:-0700
TZNAME:PDT
DTSTART:20220313T100000
END:DAYLIGHT
BEGIN:STANDARD
TZOFFSETFROM:-0700
TZOFFSETTO:-0800
TZNAME:PST
DTSTART:20221106T090000
END:STANDARD
BEGIN:DAYLIGHT
TZOFFSETFROM:-0800
TZOFFSETTO:-0700
TZNAME:PDT
DTSTART:20230312T100000
END:DAYLIGHT
BEGIN:STANDARD
TZOFFSETFROM:-0700
TZOFFSETTO:-0800
TZNAME:PST
DTSTART:20231105T090000
END:STANDARD
BEGIN:DAYLIGHT
TZOFFSETFROM:-0800
TZOFFSETTO:-0700
TZNAME:PDT
DTSTART:20240310T100000
END:DAYLIGHT
BEGIN:STANDARD
TZOFFSETFROM:-0700
TZOFFSETTO:-0800
TZNAME:PST
DTSTART:20241103T090000
END:STANDARD
END:VTIMEZONE
BEGIN:VEVENT
DTSTART;VALUE=DATE:20230807
DTEND;VALUE=DATE:20230808
DTSTAMP:20260425T041435
CREATED:20230605T045846Z
LAST-MODIFIED:20230605T045846Z
UID:7843-1691366400-1691452799@dongchuacuuthe.us
SUMMARY:Thứ Hai Tuần XVIII Thường Niên Năm I
DESCRIPTION:BÀI ĐỌC I: Ds 11\, 4b-15 \n“Một mình tôi không mang nổi dân này”. \nTrích sách Dân Số.  \nTrong những ngày ấy\, con cái Israel nói rằng: “Ai sẽ cho chúng tôi thịt ăn? Chúng tôi nhớ lại hồi còn ở Ai-cập\, cá thì được ăn không\, rồi có dưa chuột\, dưa gang\, rau cải\, hành tỏi. Giờ thì chúng tôi suy nhược\, thiếu hết mọi thứ: quay đi ngó lại chỉ thấy manna”.  \nManna hình giống hạt ngò\, sắc giống hạt châu. Dân chúng đi rảo quanh mà hốt\, rồi cho vào cối mà say hoặc lấy chày mà giã; sau cùng\, bỏ vào nồi náu thành bánh. Mùi vị nó như bánh chiên dầu. Cứ thường đêm\, khi sương sa xuống trại thì manna cũng rơi xuống.  \nMôsê nghe dân chúng than khóc\, nhà nào cũng đứng ở cửa lều. Chúa bừng bừng nổi giận. Môsê rất đỗi bực mình. Ông thưa cùng Chúa rằng: “Sao Chúa làm khổ tôi tớ Chúa? Sao con không được nghĩa với Chúa? Sao Chúa bắt con phải mang cả dân này? Con đâu có cưu mang cả đám dân này\, con đâu có sinh ra nó\, mà Chúa bảo con: ‘Hãy ẵm nó vào lòng\, như vú nuôi ẵm trẻ thơ\, hãy mang nó vào đất Ta đã thề hứa ban cho tổ tiên nó?’ Con biết tìm đâu ra thịt để cho cả đám dân này? Họ kêu khóc với con rằng: “Hãy cho chúng tôi ăn thịt”. Một mình con không mang nổi dân này vì là gánh nặng nề đối với con. Nếu Chúa muốn xử với con như thế\, thì xin giết con đi\, và cho con được nghĩa với Chúa\, kẻo con phải khốn cực dường này”. Đó là lời Chúa. \nĐÁP CA: Tv 80\, 12-13. 14-15. 16-17 \nĐáp: Hãy reo mừng Thiên Chúa là Đấng phù trợ chúng ta (c. 2a). \nXướng: 1) Dân tộc của Ta chẳng có nghe Ta; Israel đã không vâng lời Ta răn bảo. Bởi thế nên Ta để mặc cho chúng cứng lòng\, để chúng sinh hoạt tuỳ theo sở thích. – Đáp. \n2) Phải chi dân tộc của Ta biết nghe lời Ta\, Israel biết theo đường lối của Ta mà ăn ở\, thì lập tức Ta sẽ triệt hạ kẻ thù của chúng\, và để đập tan quân địch của chúng\, Ta sẽ trở tay. – Đáp. \n3) Quân thù của chúng sẽ phải xưng tụng chúng\, và vận mạng của chúng sẽ bền vững muôn đời. Ta sẽ lấy tinh hoa lúa mì nuôi dưỡng chúng\, và cho chúng ăn no mật từ hốc đá chảy ra. – Đáp. \nALLELUIA: Mt 4\, 4b \nAlleluia\, alleluia! – Người ta sống không nguyên bởi bánh\, nhưng bởi mọi lời do miệng Thiên Chúa phán ra. – Alleluia. \nPHÚC ÂM: Mt 14\, 13-21 \n“Mọi người đều ăn no”. \nTin Mừng Chúa Giêsu Kitô theo Thánh Matthêu.  \nKhi ấy\, Chúa Giêsu nghe tin Gioan Tẩy Giả đã chết\, thì Người rời bỏ nơi đó xuống thuyền đi đến nơi hoang địa vắng vẻ. Dân chúng nghe biết\, thì từ các thành phố đi bộ theo Người. Ra khỏi thuyền\, Người thấy dân chúng đông đảo\, thì thương xót họ và chữa những người bệnh tật trong họ.  \nChiều tới\, các môn đệ đến gần thưa Người rằng: “Đây là nơi hoang địa\, mà giờ đã chiều rồi: xin Thầy giải tán dân chúng\, để họ vào các làng mạc mà mua thức ăn”.  \nNhưng Chúa Giêsu nói với các ông rằng: “Họ chẳng cần phải đi\, các con hãy cho họ ăn”. Các ông thưa lại rằng: “Ở đây chúng con chỉ có năm chiếc bánh và hai con cá”. Người bảo các ông rằng: “Hãy đem lại cho Thầy”.  \nKhi Người đã truyền cho dân chúng ngồi trên cỏ\, Người cầm lấy năm chiếc bánh và hai con cá\, ngước mắt lên trời\, đọc lời chúc tụng\, bẻ ra và trao cho các môn đệ\, các ông này phân phát cho dân chúng. Mọi người đều ăn no. Và người ta thu lượm được mười hai thúng đầy những miếng bánh vụn. Số người ăn là năm ngàn người đàn ông\, không kể đàn bà và con trẻ. Đó là lời Chúa. \nTrong năm A\, khi bài Tin Mừng trên được đọc trong lễ Chúa Nhật XVIII\, thì bài Tin Mừng sau đây sẽ được đọc trong thánh lễ hôm nay. \nPHÚC ÂM: Mt 14\, 22-36 \n“Xin truyền cho con đi trên mặt nước mà đến cùng Thầy”. \nTin Mừng Chúa Giêsu Kitô theo Thánh Matthêu.  \nKhi dân chúng đã ăn no\, lập tức Chúa Giêsu giục môn đệ trở xuống thuyền mà qua bờ bên kia trước\, trong lúc Người giải tán dân chúng. Giải tán họ xong\, Người lên núi cầu nguyện một mình. Đến chiều\, Người vẫn ở đó một mình. Còn thuyền thì đã ra giữa biển\, bị sóng đánh chập chờn vì ngược gió.  \nCanh tư đêm tối\, Người đi trên mặt biển mà đến với các ông. Thấy Người đi trên mặt biển\, các ông hoảng hồn mà nói rằng: “Ma kìa” và các ông sợ hãi kêu la lớn tiếng. Lập tức\, Chúa Giêsu nói với các ông rằng: “Hãy yên tâm. Thầy đây\, đừng sợ”. Phêrô thưa lại rằng: “Lạy Thầy\, nếu quả là Thầy\, thì xin truyền cho con đi trên mặt nước mà đến cùng Thầy”. Chúa phán: “Hãy đến”. Phêrô xuống khỏi thuyền bước đi trên mặt nước mà đến cùng Chúa Giêsu. Khi thấy gió mạnh\, ông sợ hãi và sắp chìm xuống nên la lên rằng: “Lạy Thầy\, xin cứu con”. Lập tức\, Chúa Giêsu giơ tay nắm lấy ông mà nói: “Người hèn tin\, tại sao lại nghi ngờ?” Khi cả hai đã lên thuyền thì gió liền yên lặng. Những người ở trong thuyền đến lạy Người mà rằng: “Thật\, Thầy là Con Thiên Chúa!” \nKhi đã sang qua biển hồ\, các ngài lên bộ và ghé vào Ghênêsarét. Nhận ra Ngài\, dân địa phương liền loan tin đi khắp cả vùng xung quanh\, và người ta đem đến cho Ngài hết mọi kẻ ốm đau. Họ nài xin Ngài cho họ rờ đến tua áo choàng của Ngài thôi\, và ai đã rờ đến thì đều được chữa lành. Đó là lời Chúa. \nTHỨ HAI TUẦN 18 TN\n Mt 14\,13-21\nMẶC LẤY TÂM TÌNH CỦA CHÚA \n“Họ không cần phải đi đâu cả\, chính anh em hãy cho họ ăn.” (Mt 14\,16) \n\nSuy niệm: Ta quan tâm nhiều đến cơn đói cơm bánh mỗi ngày\, hễ đến bữa\, phải ngồi vào bàn\, ăn uống chút gì đó. Xong bữa sáng rồi trưa lại đói\, ta lại phải dùng bữa ăn trưa\, rồi đến bữa tối. Ta chấp nhận cách tự nhiên\, không chút mặc cảm hay xấu hổ rằng ngày qua ngày cuộc đời mình xoay quanh cái bàn ăn. Ta lại ít khi nghĩ đến một cơn đói khác\, cơn đói của tâm hồn: ta đói\, ta khát\, ta cần Thiên Chúa cho cuộc đời mình tựa như cần cơm bánh cho cuộc sống thể lý. Chúa Giê-su dạy chúng ta: “Chính các con hãy cho họ ăn.” Ngài muốn ta cho con người hôm nay no nê không chỉ cơm bánh\, nhưng chính Ngài\, vì họ cũng cần Ngài như ta cần. Chúa muốn ta chạnh lòng trước bao người thân cận đang lìa xa\, quay lưng lại với Ngài\, đang đói ân sủng\, đang khát sự hiệp thông với Chúa mỗi ngày. \n\nMời Bạn: Thánh Thể là của ăn do lòng thương xót của Chúa dành cho bạn để nuôi sống tâm hồn bạn. Rước Chúa cách xứng đáng là trở nên giống Đấng bạn lãnh nhận\, cũng chạnh lòng như Ngài trước cơn đói Thiên Chúa của con người hôm nay. Bạn đã cảm nhận cơn đói thiêng liêng của người thân cận và sẵn sàng trở thành dụng cụ cho Chúa chưa? \n\nSống Lời Chúa: Tôi chú ý bồi dưỡng tâm hồn qua việc cầu nguyện với Chúa. Tôi cũng sẽ đem Chúa đến cho người khác\, để họ cũng có Chúa như mình. \n\nCầu nguyện:Lạy Chúa Giê-su\, cảm tạ Chúa đã cho con chén cơm mỗi ngày. Con cũng xin cảm tạ Chúa đã ban tặng chính Thịt Máu Chúa đáp ứng cơn đói khát Chúa nơi con. Xin thương biến đổi trái tim con nên giống trái tim Chúa\, biết chạnh lòng trước sự nguội lạnh nơi anh chị em con. Amen.
URL:https://dongchuacuuthe.us/calendar/thu-hai-tuan-xviii-thuong-nien-nam-i/
END:VEVENT
BEGIN:VEVENT
DTSTART;VALUE=DATE:20230807
DTEND;VALUE=DATE:20230808
DTSTAMP:20260425T041435
CREATED:20230711T053314Z
LAST-MODIFIED:20230711T053314Z
UID:7996-1691366400-1691452799@dongchuacuuthe.us
SUMMARY:Monday of the Eighteenth Week in Ordinary Time
DESCRIPTION:Reading 1\nNm 11:4b-15\n\nThe children of Israel lamented\,\n“Would that we had meat for food!\nWe remember the fish we used to eat without cost in Egypt\,\nand the cucumbers\, the melons\, the leeks\,\nthe onions\, and the garlic.\nBut now we are famished;\nwe see nothing before us but this manna.” \nManna was like coriander seed and had the color of resin.\nWhen they had gone about and gathered it up\,\nthe people would grind it between millstones or pound it in a mortar\,\nthen cook it in a pot and make it into loaves\,\nwhich tasted like cakes made with oil.\nAt night\, when the dew fell upon the camp\, the manna also fell. \nWhen Moses heard the people\, family after family\,\ncrying at the entrance of their tents\,\nso that the LORD became very angry\, he was grieved.\n“Why do you treat your servant so badly?” Moses asked the LORD.\n“Why are you so displeased with me\nthat you burden me with all this people?\nWas it I who conceived all this people?\nOr was it I who gave them birth\,\nthat you tell me to carry them at my bosom\,\nlike a foster father carrying an infant\,\nto the land you have promised under oath to their fathers?\nWhere can I get meat to give to all this people?\nFor they are crying to me\,\n‘Give us meat for our food.’\nI cannot carry all this people by myself\,\nfor they are too heavy for me.\nIf this is the way you will deal with me\,\nthen please do me the favor of killing me at once\,\nso that I need no longer face this distress.” \n\n\n\n\n\n\n\n\n\n\n\nResponsorial Psalm\nPs 81:12-13\, 14-15\, 16-17\n\nR. (2a) Sing with joy to God our help.\n“My people heard not my voice\,\nand Israel obeyed me not;\nSo I gave them up to the hardness of their hearts;\nthey walked according to their own counsels.”\nR. Sing with joy to God our help.\n“If only my people would hear me\,\nand Israel walk in my ways\,\nQuickly would I humble their enemies;\nagainst their foes I would turn my hand.”\nR. Sing with joy to God our help.\n“Those who hated the LORD would seek to flatter me\,\nbut their fate would endure forever\,\nWhile Israel I would feed with the best of wheat\,\nand with honey from the rock I would fill them.”\nR. Sing with joy to God our help.\n\n\n\n\n\n\n\n\n\n\n\nAlleluia\nMt 4:4\n\nR. Alleluia\, alleluia.\nOne does not live on bread alone\,\nbut on every word that comes forth from the mouth of God.\nR. Alleluia\, alleluia.\n\n\n\n\n\n\n\n\n\n\n\nGospel\nMt 14:13-21\n\nWhen Jesus heard of the death of John the Baptist\,\nhe withdrew in a boat to a deserted place by himself.\nThe crowds heard of this and followed him on foot from their towns.\nWhen he disembarked and saw the vast crowd\,\nhis heart was moved with pity for them\, and he cured their sick.\nWhen it was evening\, the disciples approached him and said\,\n“This is a deserted place and it is already late;\ndismiss the crowds so that they can go to the villages\nand buy food for themselves.”\nHe said to them\, “There is no need for them to go away;\ngive them some food yourselves.”\nBut they said to him\,\n“Five loaves and two fish are all we have here.”\nThen he said\, “Bring them here to me\,”\nand he ordered the crowds to sit down on the grass.\nTaking the five loaves and the two fish\, and looking up to heaven\,\nhe said the blessing\, broke the loaves\,\nand gave them to the disciples\,\nwho in turn gave them to the crowds.\nThey all ate and were satisfied\,\nand they picked up the fragments left over–\ntwelve wicker baskets full.\nThose who ate were about five thousand men\,\nnot counting women and children.
URL:https://dongchuacuuthe.us/calendar/monday-of-the-eighteenth-week-in-ordinary-time/
END:VEVENT
END:VCALENDAR