BEGIN:VCALENDAR
VERSION:2.0
PRODID:-//Dòng Chúa Cứu Thế Hải Ngoại - ECPv6.15.20//NONSGML v1.0//EN
CALSCALE:GREGORIAN
METHOD:PUBLISH
X-ORIGINAL-URL:https://dongchuacuuthe.us
X-WR-CALDESC:Events for Dòng Chúa Cứu Thế Hải Ngoại
REFRESH-INTERVAL;VALUE=DURATION:PT1H
X-Robots-Tag:noindex
X-PUBLISHED-TTL:PT1H
BEGIN:VTIMEZONE
TZID:America/Los_Angeles
BEGIN:DAYLIGHT
TZOFFSETFROM:-0800
TZOFFSETTO:-0700
TZNAME:PDT
DTSTART:20220313T100000
END:DAYLIGHT
BEGIN:STANDARD
TZOFFSETFROM:-0700
TZOFFSETTO:-0800
TZNAME:PST
DTSTART:20221106T090000
END:STANDARD
BEGIN:DAYLIGHT
TZOFFSETFROM:-0800
TZOFFSETTO:-0700
TZNAME:PDT
DTSTART:20230312T100000
END:DAYLIGHT
BEGIN:STANDARD
TZOFFSETFROM:-0700
TZOFFSETTO:-0800
TZNAME:PST
DTSTART:20231105T090000
END:STANDARD
BEGIN:DAYLIGHT
TZOFFSETFROM:-0800
TZOFFSETTO:-0700
TZNAME:PDT
DTSTART:20240310T100000
END:DAYLIGHT
BEGIN:STANDARD
TZOFFSETFROM:-0700
TZOFFSETTO:-0800
TZNAME:PST
DTSTART:20241103T090000
END:STANDARD
END:VTIMEZONE
BEGIN:VEVENT
DTSTART;VALUE=DATE:20230806
DTEND;VALUE=DATE:20230807
DTSTAMP:20260425T041432
CREATED:20230605T045637Z
LAST-MODIFIED:20230605T045637Z
UID:7835-1691280000-1691366399@dongchuacuuthe.us
SUMMARY:Lễ Chúa Giêsu Hiển Dung\, Năm A
DESCRIPTION:BÀI ĐỌC I: Đn 7\, 9-10. 13-14\n“Áo Người trắng như tuyết”. \nTrích sách Tiên tri Đaniel. \nTôi ngắm nhìn cho đến khi đặt ngai toà xong\, và một vị Bô Lão ngự trên ngai: áo Người trắng như tuyết\, tóc trên đầu Người như những ngọn lửa\, các bánh xe như lửa cháy. Một con sông lửa chảy lan tràn trước mặt Người. Hằng ngàn kẻ phụng sự Người\, và muôn vàn kẻ chầu chực Người. Người ngự toà xét xử\, và các quyển sách đều mở ra. \nTrong một thị kiến ban đêm\, tôi đã ngắm nhìn\, và đây tôi thấy như Con Người đến trong đám mây trên trời. Ngài tiến đến vị Bô Lão\, và người ta dẫn Ngài đến trước mặt vị Bô Lão. Vị này ban cho Ngài quyền năng\, vinh dự và vương quốc: Tất cả các dân tộc\, chi họ\, và tiếng nói đều phụng sự Ngài: quyền năng của Ngài là quyền năng vĩnh cửu\, không khi nào bị cất mất: vương quốc của Ngài không khi nào bị phá huỷ. Đó là lời Chúa. \nĐÁP CA: Tv 96\, 1-2. 5-6. 9\nĐáp: Chúa hiển trị\, Chúa là Đấng tối cao trên toàn cõi đất (c. 1a và 9a). \nXướng: 1) Chúa hiển trị\, địa cầu hãy hân hoan; hải đảo muôn ngàn\, hãy mừng vui. Mây khói và sương mù bao toả chung quanh; công minh chính trực là nền kê ngai báu. – Đáp. \n2) Núi non vỡ lở như mẩu sáp ong trước thiên nhan\, trước thiên nhan Chúa tể toàn cõi trái đất. Trời xanh loan truyền sự công minh Chúa\, và chư dân được thấy vinh hiển của Người. – Đáp. \n3) Lạy Chúa\, vì Ngài là Đấng tối cao trên toàn cõi đất\, Ngài rất đỗi siêu phàm giữa muôn chúa tể. – Đáp. \nBÀI ĐỌC II: 2 Pr 1\, 16-19\n“Chúng tôi đã nghe tiếng ấy từ trời phán xuống”. \nTrích thư thứ hai của Thánh Phêrô Tông đồ. \nAnh em thân mến\, chúng tôi không theo những truyện bày đặt khôn khéo\, để tỏ ra cho anh em biết quyền năng và sự hiện diện của Đức Giêsu Kitô\, Chúa chúng ta; nhưng chúng tôi đã được chứng kiến nhãn tiền sự uy nghi của Người. Người đã được Chúa Cha ban cho vinh dự và vinh quang\, khi có lời từ sự vinh quang cao cả xuống phán về Người rằng: “Này là Con Ta yêu dấu\, Người đẹp lòng Ta\, các ngươi hãy nghe lời Người”. Chúng tôi đã nghe tiếng ấy từ trời phán xuống\, lúc chúng tôi ở với Người trên núi thánh. Và chúng tôi có lời nói chắc chắn hơn nữa là lời nói tiên tri: anh em nên nghe theo lời đó\, nó như ngọn đèn sáng soi trong nơi u tối\, cho đến khi rạng đông và sao mai mọc lên trong lòng anh em. Đó là lời Chúa. \nALLELUIA: Mt 17\, 5c\nAlleluia\, alleluia! – Này là Con Ta yêu dấu rất đẹp lòng Ta\, các ngươi hãy nghe lời Người. – Alleluia. \nPHÚC ÂM: Mt 17\, 1-9\n“Mặt Người chiếu sáng như mặt trời”. \nTin Mừng Chúa Giêsu Kitô theo Thánh Matthêu. \nKhi ấy\, Chúa Giêsu gọi Phêrô\, Giacôbê và Gioan là em ông này\, và Người đưa các ông tới chỗ riêng biệt trên núi cao. Người biến hình trước mặt các ông: mặt Người chiếu sáng như mặt trời\, áo Người trở nên trắng như tuyết. Và đây ông Môsê và Êlia hiện ra và đàm đạo với Người. \nBấy giờ ông Phêrô lên tiếng thưa Chúa Giêsu rằng: “Lạy Thầy\, chúng con được ở đây thì tốt lắm; nếu Thầy ưng\, chúng con xin làm ba lều\, một cho Thầy\, một cho Môsê\, và một cho Êlia”. Lúc ông còn đang nói\, thì có một đám mây sáng bao phủ các Ngài\, và có tiếng từ trong đám mây phán rằng: “Đây là Con Ta yêu dấu rất đẹp lòng Ta\, các ngươi hãy nghe lời Người”. Nghe thấy vậy\, các môn đệ ngã sấp xuống và hết sức sợ hãi. Bấy giờ Chúa Giêsu đến gần\, động đến các ông và bảo: “Các con hãy đứng dậy\, đừng sợ”. Ngước mắt lên\, các ông thấy chẳng còn ai\, trừ ra một mình Chúa Giêsu. \nVà trong lúc từ trên núi đi xuống\, Chúa Giêsu đã ra lệnh cho các ông rằng: “Các con không được nói với ai về việc đã thấy\, cho tới khi Con Người từ cõi chết sống lại”. Đó là lời Chúa. \n5 phút suy niệm 2014 \nCHÂN DUNG ĐÍCH THỰC CỦA CHÚA \n“Các con không được nói với ai về việc đã thấy\, cho tới khi Con Người từ cõi chết sống lại.” (Mt 17\,9) \nSuy niệm: Thầy Giê-su không muốn ba môn đệ thân tín mô tả chân dung sáng chói của mình trong biến cố “hiển dung\,” vì sợ người ta hiểu sai về Đấng Cứu Thế. Ngài muốn các ông và cả chúng ta nữa diễn tả hình ảnh đúng về Ngài: một Đấng Cứu Thế chịu đóng đinh trên thập giá. Niềm tin vào Đức Ki-tô phục sinh vinh hiển luôn bao hàm rằng Đấng Ki-tô ấy chịu treo đau khổ trên thập giá. Thập giá là phương thế Thiên Chúa Cha đã hoạch định cho Đức Ki-tô cứu độ nhân loại\, và đó cũng là con đường dẫn đến Ngài đến phục sinh vinh quang. Khi nắm vững sự thật này\, ta sẽ vui mừng đón nhận thập giá của Đức Giê-su\, không còn trông mong một Đấng Thiên Sai trần tục theo kiểu quan niệm của người Do Thái xưa. \nMời Bạn: Bạn đang mang trong mình hình ảnh của Đấng Phục Sinh\, hình ảnh ấy phải được tỏ rạng trong cuộc sống hằng ngày của bạn qua thái độ tin tưởng\, phó thác vào Chúa trước những thử thách\, lạc quan trong mọi biến cố cuộc sống\, âm thầm làm chứng cho những giá trị Nước Trời… vì tin rằng sự sống đời đời của Đấng Phục Sinh đã nở hoa ngay trong cuộc sống hôm nay. \nSống Lời Chúa: Nhờ xác tín giá trị của thập giá Đức Ki-tô\, tôi sẽ vui lòng đón nhận những hy sinh\, thiệt thòi khi sống những đòi hỏi của người môn đệ Chúa mỗi ngày. \nCầu nguyện: Lạy Chúa Giê-su\, Chúa ban cho con sự sống mới\, con xin cảm tạ Chúa. Xin cho con biết kết hiệp với Chúa trong mọi sự\, để con trở nên hình ảnh sinh động của Đấng Phục Sinh trong con. Amen.
URL:https://dongchuacuuthe.us/calendar/le-chua-giesu-hien-dung-nam-a/
END:VEVENT
BEGIN:VEVENT
DTSTART;VALUE=DATE:20230806
DTEND;VALUE=DATE:20230807
DTSTAMP:20260425T041432
CREATED:20230711T053238Z
LAST-MODIFIED:20230711T053238Z
UID:7994-1691280000-1691366399@dongchuacuuthe.us
SUMMARY:Feast of the Transfiguration of the Lord
DESCRIPTION:Reading 1\nDn 7:9-10\, 13-14\n\nAs I watched: \nThrones were set up\nand the Ancient One took his throne.\nHis clothing was bright as snow\,\nand the hair on his head as white as wool;\nhis throne was flames of fire\,\nwith wheels of burning fire.\nA surging stream of fire\nflowed out from where he sat;\nThousands upon thousands were ministering to him\,\nand myriads upon myriads attended him.\nThe court was convened and the books were opened. \nAs the visions during the night continued\, I saw: \nOne like a Son of man coming\,\non the clouds of heaven;\nWhen he reached the Ancient One\nand was presented before him\,\nThe one like a Son of man received dominion\, glory\, and kingship;\nall peoples\, nations\, and languages serve him.\nHis dominion is an everlasting dominion\nthat shall not be taken away\,\nhis kingship shall not be destroyed. \n\n\n\n\n\n\n\n\n\n\n\nResponsorial Psalm\nPs 97:1-2\, 5-6\, 9\n\nR. (1a and 9a) The Lord is king\, the Most High over all the earth.\nThe LORD is king; let the earth rejoice;\nlet the many islands be glad.\nClouds and darkness are round about him\,\njustice and judgment are the foundation of his throne.\nR. The Lord is king\, the Most High over all the earth.\nThe mountains melt like wax before the LORD\,\nbefore the LORD of all the earth.\nThe heavens proclaim his justice\,\nand all peoples see his glory.\nR. The Lord is king\, the Most High over all the earth.\nBecause you\, O LORD\, are the Most High over all the earth\,\nexalted far above all gods.\nR. The Lord is king\, the Most High over all the earth.\n\n\n\n\n\n\n\n\n\n\n\nReading 2\n2 Pt 1:16-19\n\nBeloved:\nWe did not follow cleverly devised myths\nwhen we made known to you\nthe power and coming of our Lord Jesus Christ\,\nbut we had been eyewitnesses of his majesty.\nFor he received honor and glory from God the Father\nwhen that unique declaration came to him from the majestic glory\,\n“This is my Son\, my beloved\, with whom I am well pleased.”\nWe ourselves heard this voice come from heaven\nwhile we were with him on the holy mountain.\nMoreover\, we possess the prophetic message that is altogether reliable.\nYou will do well to be attentive to it\,\nas to a lamp shining in a dark place\,\nuntil day dawns and the morning star rises in your hearts.\n\n\n\n\n\n\n\n\n\n\n\nAlleluia\nMt 17:5c\n\nR. Alleluia\, alleluia.\nThis is my beloved Son\, with whom I am well pleased;\nlisten to him.\nR. Alleluia\, alleluia.\n\n\n\n\n\n\n\n\n\n\n\nGospel\nMt 17:1-9\n\nJesus took Peter\, James\, and his brother\, John\,\nand led them up a high mountain by themselves.\nAnd he was transfigured before them;\nhis face shone like the sun\nand his clothes became white as light.\nAnd behold\, Moses and Elijah appeared to them\,\nconversing with him.\nThen Peter said to Jesus in reply\,\n“Lord\, it is good that we are here.\nIf you wish\, I will make three tents here\,\none for you\, one for Moses\, and one for Elijah.”\nWhile he was still speaking\, behold\,\na bright cloud cast a shadow over them\,\nthen from the cloud came a voice that said\,\n“This is my beloved Son\, with whom I am well pleased;\nlisten to him.”\nWhen the disciples heard this\, they fell prostrate\nand were very much afraid.\nBut Jesus came and touched them\, saying\,\n“Rise\, and do not be afraid.”\nAnd when the disciples raised their eyes\,\nthey saw no one else but Jesus alone. \nAs they were coming down from the mountain\,\nJesus charged them\,\n“Do not tell the vision to anyone\nuntil the Son of Man has been raised from the dead.”
URL:https://dongchuacuuthe.us/calendar/feast-of-the-transfiguration-of-the-lord/
END:VEVENT
END:VCALENDAR