BEGIN:VCALENDAR
VERSION:2.0
PRODID:-//Dòng Chúa Cứu Thế Hải Ngoại - ECPv6.15.20//NONSGML v1.0//EN
CALSCALE:GREGORIAN
METHOD:PUBLISH
X-ORIGINAL-URL:https://dongchuacuuthe.us
X-WR-CALDESC:Events for Dòng Chúa Cứu Thế Hải Ngoại
REFRESH-INTERVAL;VALUE=DURATION:PT1H
X-Robots-Tag:noindex
X-PUBLISHED-TTL:PT1H
BEGIN:VTIMEZONE
TZID:America/Los_Angeles
BEGIN:DAYLIGHT
TZOFFSETFROM:-0800
TZOFFSETTO:-0700
TZNAME:PDT
DTSTART:20220313T100000
END:DAYLIGHT
BEGIN:STANDARD
TZOFFSETFROM:-0700
TZOFFSETTO:-0800
TZNAME:PST
DTSTART:20221106T090000
END:STANDARD
BEGIN:DAYLIGHT
TZOFFSETFROM:-0800
TZOFFSETTO:-0700
TZNAME:PDT
DTSTART:20230312T100000
END:DAYLIGHT
BEGIN:STANDARD
TZOFFSETFROM:-0700
TZOFFSETTO:-0800
TZNAME:PST
DTSTART:20231105T090000
END:STANDARD
BEGIN:DAYLIGHT
TZOFFSETFROM:-0800
TZOFFSETTO:-0700
TZNAME:PDT
DTSTART:20240310T100000
END:DAYLIGHT
BEGIN:STANDARD
TZOFFSETFROM:-0700
TZOFFSETTO:-0800
TZNAME:PST
DTSTART:20241103T090000
END:STANDARD
END:VTIMEZONE
BEGIN:VEVENT
DTSTART;VALUE=DATE:20230805
DTEND;VALUE=DATE:20230806
DTSTAMP:20260425T041431
CREATED:20230605T045603Z
LAST-MODIFIED:20230605T045603Z
UID:7833-1691193600-1691279999@dongchuacuuthe.us
SUMMARY:Thứ Bảy Tuần XVII Thường Niên Năm I
DESCRIPTION:BÀI ĐỌC I: Lv 25\, 1. 8-17 \n“Trong năm toàn xá\, người ta làm chủ lại cơ nghiệp mình”. \nTrích sách Lêvi. \nChúa phán cùng Môsê trên núi Sinai rằng: “Ngươi cũng phải tính bảy tuần năm\, tức là bảy lần bảy\, cộng chung là bốn mươi chín năm: Ngày mồng mười tháng bảy\, ngươi hãy thổi kèn trong thời gian đền tội trong toàn lãnh thổ ngươi. Ngươi hãy làm cho năm thứ năm mươi nên năm thánh và hãy kể là năm tha tội cho mọi người cư ngụ trong nước ngươi\, vì đó là năm toàn xá. Người ta sẽ làm chủ lại cơ nghiệp mình\, và ai nấy đều được trở về gia đình cũ của mình\, vì năm toàn xá là năm thứ năm mươi. Các ngươi đừng cày cấy\, đừng gặt hái hoa màu tự nhiên phát sinh trong đồng ruộng\, và đừng hái nho đầu mùa\, vì phải kể năm toàn xá là năm thánh\, và các ngươi được ăn hoa màu tự nhiên phát sinh.  \n“Trong năm toàn xá\, mọi người nhận lại cơ nghiệp của mình. Khi ngươi mua bán vật gì với người đồng hương\, ngươi chớ làm phiền lòng người anh em\, nhưng hãy mua theo số năm toàn xá\, và nó sẽ bán cho ngươi theo số hoa lợi của nó. Số các năm sau năm toàn xá càng nhiều thì giá càng cao\, và số năm càng ít\, thì giá mua càng hạ\, vì nó tính mùa hoa lợi mà bán cho ngươi. Các ngươi chớ hà hiếp những người cùng một chi tộc với các ngươi: nhưng mỗi người hãy kính sợ Thiên Chúa mình\, vì Ta là Thiên Chúa các ngươi”. Đó là lời Chúa. \nĐÁP CA: Tv 66\, 2-3. 5. 7-8 \nĐáp: Chư dân hãy ca tụng Ngài\, thân lạy Chúa\, hết thảy chư dân hãy ca tụng Ngài(c. 4). \nXướng: 1) Xin Thiên Chúa xót thương và ban phúc lành cho chúng con; xin tỏ ra cho chúng con thấy long nhan Ngài tươi sáng\, để trên địa cầu thiên hạ nhìn biết đường lối của Ngài\, cho chư dân người ta được rõ ơn Ngài cứu độ. – Đáp. \n2) Các dân tộc hãy mừng vui và khoái trá\, vì Ngài công bình cai trị chư dân\, và Ngài cai quản các nước địa cầu. – Đáp. \n3) Đất đã cho chúng tôi hoa trái. Đức Thiên Chúa\, Chúa chúng tôi\, đã chúc phúc lành cho chúng tôi. Xin Thiên Chúa chúc phúc lành cho chúng con\, để cho khắp cùng bờ cõi trái đất kính sợ Ngài. – Đáp. \nALLELUIA: Tv 94\, 8ab \nAlleluia\, alleluia! – Ước chi hôm nay các bạn nghe tiếng Chúa\, và đừng cứng lòng. – Alleluia. \nPHÚC ÂM: Mt 14\, 1-12 \n“Hêrôđê sai người đi chặt đầu Gioan\, và các môn đệ của Gioan đi báo tin\ncho Chúa Giêsu”. \nTin Mừng Chúa Giêsu Kitô theo Thánh Matthêu.  \nKhi ấy quận vương Hêrôđê nghe danh tiếng Chúa Giêsu\, thì nói với những kẻ hầu cận rằng: “Người này là Gioan Tẩy Giả\, ông từ cõi chết sống lại\, nên mới làm được các phép lạ như vậy”. Tại vì Hêrôđia vợ của anh mình mà vua Hêrôđê đã bắt trói Gioan tống ngục\, bởi Gioan đã nói với vua rằng: “Nhà vua không được lấy bà ấy làm vợ”. Vua muốn giết Gioan\, nhưng lại sợ dân chúng\, vì họ coi Gioan như một tiên tri. Nhân ngày sinh nhật của Hêrôđê\, con gái Hêrôđia nhảy múa trước mặt mọi người\, và đã làm cho Hêrôđê vui thích. Bởi đấy vua thề hứa sẽ ban cho nó bất cứ điều gì nó xin. Được mẹ nó dặn trước\, nên nó nói: “Xin vua đặt đầu Gioan Tẩy Giả trên đĩa này cho con”. Vua lo buồn\, nhưng vì đã trót thề rồi\, và vì các người đang dự tiệc\, nên đã truyền làm như vậy. Ông sai người đi chặt đầu Gioan trong ngục\, và để đầu Gioan trên đĩa đem trao cho cô gái\, và nó đem cho mẹ nó. Các môn đồ của Gioan đến lấy xác thầy và chôn cất\, rồi đi báo tin cho Chúa Giêsu. Đó là lời Chúa. \n\nTHỨ BẢY ĐẦU THÁNG TUẦN 17 TN \nTh. An-phong Ma-ri-a Li-gô-ri\, giám mục       Mt 14\,1-12\nVƯỢT QUA NỖI SỢ \nÔng Gio-an nói với vua: “Ngài không được phép lấy bà ấy.” (Mt 14\,5)\nSuy niệm: “Điều đáng sợ nhất chính là nỗi sợ của chúng ta” (Tổng thống Mỹ Roosevelt). Đường đường là một vị vua\, nhưng Hê-rô-đê rất yếu hèn: cuộc đời ông đầy những nỗi sợ. Đầu tiên là sợ Gio-an\, sợ lời phê bình thẳng thắn của ông này về việc loạn luân của mình. Ông muốn giết ông Gio-an\, nhưng lại sợ dân chúng\, vì dân tôn sùng Gio-an như ngôn sứ. Ông cũng sợ quan khách chê cười nên không đủ can đảm rút lại lời thề\, dù biết lời thề ấy rất dại dột. Ông sợ khuôn mặt hờn dỗi của bà Hê-rô-đi-a hơn là sợ tiếng lương tâm khiển trách. Ông sợ bị mất quyền lực\, sợ người khác nghĩ xấu về mình\, sợ người mình yêu giận dỗi đến nỗi biết là tội ác mà vẫn ra tay thi hành. Chính nỗi sợ đã đẩy Hê-rô-đê đi từ tội này đến tội khác.\nMời Bạn: “Sợ một điều gì là cho phép nó có quyền lực trên bạn” (Ngạn ngữ Moor). Nỗi sợ khiến bạn trở thành nô lệ\, mất đi tự do của người con cái Chúa. Sợ khổ\, sợ mệt\, sợ nhọc\, sợ mất đi sự an toàn của bản thân sẽ khiến bạn không dám vượt qua sự ích kỷ an nhàn của bản thân để dấn thân hơn cho hội đoàn\, hội dòng\, Giáo Hội… Hiện nay nỗi sợ lớn nhất của bạn là gì?\nSống Lời Chúa: Tôi dám vượt lên nỗi sợ mất tiện nghi\, an nhàn của bản thân để tích cực tham gia các sinh hoạt hội đoàn\, hay các việc thiện nguyện xã hội.\nCầu nguyện: Lạy Chúa Giê-su\, Chúa đã vượt qua những nỗi sợ cho bản thân để sống trọn thánh ý Chúa Cha. Xin cho chúng con biết noi gương Chúa\, cũng vượt lên trên những nỗi sợ vu vơ của dư luận chê cười\, của “ném đá” chê bai vì dám nói lên sự thật về Chúa và về con người. Xin cho chúng con không vì sợ mà đi xa đường lối Chúa. Amen.
URL:https://dongchuacuuthe.us/calendar/thu-bay-tuan-xvii-thuong-nien-nam-i/
END:VEVENT
BEGIN:VEVENT
DTSTART;VALUE=DATE:20230805
DTEND;VALUE=DATE:20230806
DTSTAMP:20260425T041431
CREATED:20230711T053205Z
LAST-MODIFIED:20230711T053205Z
UID:7992-1691193600-1691279999@dongchuacuuthe.us
SUMMARY:Saturday of the Seventeenth Week in Ordinary Time
DESCRIPTION:Reading 1\nLv 25:1\, 8-17\n\nThe LORD said to Moses on Mount Sinai\,\n“Seven weeks of years shall you count–seven times seven years–\nso that the seven cycles amount to forty-nine years.\nThen\, on the tenth day of the seventh month\, let the trumpet resound;\non this\, the Day of Atonement\, the trumpet blast shall re-echo\nthroughout your land.\nThis fiftieth year you shall make sacred\nby proclaiming liberty in the land for all its inhabitants.\nIt shall be a jubilee for you\,\nwhen every one of you shall return to his own property\,\nevery one to his own family estate.\nIn this fiftieth year\, your year of jubilee\,\nyou shall not sow\, nor shall you reap the aftergrowth\nor pick the grapes from the untrimmed vines.\nSince this is the jubilee\, which shall be sacred for you\,\nyou may not eat of its produce\,\nexcept as taken directly from the field. \n“In this year of jubilee\, then\,\nevery one of you shall return to his own property.\nTherefore\, when you sell any land to your neighbor\nor buy any from him\, do not deal unfairly.\nOn the basis of the number of years since the last jubilee\nshall you purchase the land from your neighbor;\nand so also\, on the basis of the number of years for crops\,\nshall he sell it to you.\nWhen the years are many\, the price shall be so much the more;\nwhen the years are few\, the price shall be so much the less.\nFor it is really the number of crops that he sells you.\nDo not deal unfairly\, then; but stand in fear of your God.\nI\, the LORD\, am your God.” \n\n\n\n\n\n\n\n\n\n\n\nResponsorial Psalm\nPs 67:2-3\, 5\, 7-8\n\nR. (4) O God\, let all the nations praise you!\nMay God have pity on us and bless us;\nmay he let his face shine upon us.\nSo may your way be known upon earth;\namong all nations\, your salvation.\nR. O God\, let all the nations praise you!\nMay the nations be glad and exult\nbecause you rule the peoples in equity;\nthe nations on the earth you guide.\nR. O God\, let all the nations praise you!\nThe earth has yielded its fruits;\nGod\, our God\, has blessed us.\nMay God bless us\,\nand may all the ends of the earth fear him!\nR. O God\, let all the nations praise you!\n\n\n\n\n\n\n\n\n\n\n\nAlleluia\nMt 5:10\n\nR. Alleluia\, alleluia.\nBlessed are they who are persecuted for the sake of righteousness\nfor theirs is the Kingdom of heaven.\nR. Alleluia\, alleluia.\n\n\n\n\n\n\n\n\n\n\n\nGospel\nMt 14:1-12\n\nHerod the tetrarch heard of the reputation of Jesus\nand said to his servants\, “This man is John the Baptist.\nHe has been raised from the dead;\nthat is why mighty powers are at work in him.” \nNow Herod had arrested John\, bound him\, and put him in prison\non account of Herodias\, the wife of his brother Philip\,\nfor John had said to him\,\n“It is not lawful for you to have her.”\nAlthough he wanted to kill him\, he feared the people\,\nfor they regarded him as a prophet.\nBut at a birthday celebration for Herod\,\nthe daughter of Herodias performed a dance before the guests\nand delighted Herod so much\nthat he swore to give her whatever she might ask for.\nPrompted by her mother\, she said\,\n“Give me here on a platter the head of John the Baptist.”\nThe king was distressed\,\nbut because of his oaths and the guests who were present\,\nhe ordered that it be given\, and he had John beheaded in the prison.\nHis head was brought in on a platter and given to the girl\,\nwho took it to her mother.\nHis disciples came and took away the corpse\nand buried him; and they went and told Jesus.
URL:https://dongchuacuuthe.us/calendar/saturday-of-the-seventeenth-week-in-ordinary-time/
END:VEVENT
END:VCALENDAR