BEGIN:VCALENDAR
VERSION:2.0
PRODID:-//Dòng Chúa Cứu Thế Hải Ngoại - ECPv6.15.20//NONSGML v1.0//EN
CALSCALE:GREGORIAN
METHOD:PUBLISH
X-WR-CALNAME:Dòng Chúa Cứu Thế Hải Ngoại
X-ORIGINAL-URL:https://dongchuacuuthe.us
X-WR-CALDESC:Events for Dòng Chúa Cứu Thế Hải Ngoại
REFRESH-INTERVAL;VALUE=DURATION:PT1H
X-Robots-Tag:noindex
X-PUBLISHED-TTL:PT1H
BEGIN:VTIMEZONE
TZID:America/Los_Angeles
BEGIN:DAYLIGHT
TZOFFSETFROM:-0800
TZOFFSETTO:-0700
TZNAME:PDT
DTSTART:20220313T100000
END:DAYLIGHT
BEGIN:STANDARD
TZOFFSETFROM:-0700
TZOFFSETTO:-0800
TZNAME:PST
DTSTART:20221106T090000
END:STANDARD
BEGIN:DAYLIGHT
TZOFFSETFROM:-0800
TZOFFSETTO:-0700
TZNAME:PDT
DTSTART:20230312T100000
END:DAYLIGHT
BEGIN:STANDARD
TZOFFSETFROM:-0700
TZOFFSETTO:-0800
TZNAME:PST
DTSTART:20231105T090000
END:STANDARD
BEGIN:DAYLIGHT
TZOFFSETFROM:-0800
TZOFFSETTO:-0700
TZNAME:PDT
DTSTART:20240310T100000
END:DAYLIGHT
BEGIN:STANDARD
TZOFFSETFROM:-0700
TZOFFSETTO:-0800
TZNAME:PST
DTSTART:20241103T090000
END:STANDARD
END:VTIMEZONE
BEGIN:VEVENT
DTSTART;VALUE=DATE:20230803
DTEND;VALUE=DATE:20230804
DTSTAMP:20260425T041434
CREATED:20230605T045400Z
LAST-MODIFIED:20230605T045525Z
UID:7828-1691020800-1691107199@dongchuacuuthe.us
SUMMARY:Thứ Năm Tuần XVII Thường Niên Năm I
DESCRIPTION:BÀI ĐỌC I: Xh 40\, 14-19. 32-36 (Hr 16-21. 34-38) \n“Một đám mây che phủ nhà xếp chứng từ\, và vinh quang của Chúa tràn ngập nhà xếp”. \nTrích sách Xuất Hành.  \nTrong những ngày ấy\, Môsê thi hành tất cả những điều Chúa đã truyền dạy. Vậy ngày mùng một tháng Giêng năm thứ hai\, đã dựng nhà xếp xong. Ông Môsê đã dựng nhà xếp\, lắp ván\, đặt trụ\, xà ngang và dựng cột\, rồi căng mái nhà xếp và màn che trên mái như Chúa đã truyền dạy. Ông đặt bia chứng từ vào hòm\, xỏ đòn khiêng vào hai bên\, và để toà phán dạy trên hòm. Khi đã rước hòm bia vào nhà xếp\, ông treo màn trước hòm để hoàn tất lời Chúa đã truyền dạy. Sau khi mọi việc đã hoàn tất\, thì có một đám mây bao phủ nhà xếp chứng từ\, và vinh quang của Chúa tràn ngập nhà xếp.  \nVì mây che phủ nhà xếp\, và uy linh Chúa sáng rực trong nhà\, nên ông Môsê không thể vào trong nhà giao ước\, vì có đám mây che phủ mọi sự. Hễ mây lên khỏi nhà xếp\, thì con cái Israel kéo nhau đi từng đám\, còn khi mây che phủ nhà xếp\, thì họ ở lại tại chỗ. Vì ban ngày\, đám mây của Chúa che phủ nhà xếp\, và ban đêm\, có lửa trong mây\, nên toàn dân Israel trông thấy suốt thời gian xuất hành của họ. Đó là lời Chúa. \nĐÁP CA: Tv 83\, 3. 4. 5-6a và 8a. 11 \nĐáp: Ôi Chúa thiên binh\, khả ái thay cung điện của Ngài (c. 2).  \nXướng: 1) Linh hồn con khát khao và mòn mỏi\, mong vào hành lang nhà Đức Thiên Chúa. Tâm thần và thể xác con hoan hỉ tìm đến cùng Thiên Chúa trường sinh. – Đáp. \n2) Đến như chim sẻ còn kiếm được nhà\, và chim nhạn tìm ra tổ ấm\, để làm nơi ấp ủ con mình\, cạnh bàn thờ Chúa\, ôi Chúa là Thiên Chúa thiên binh\, ôi Đại vương là Thiên Chúa của con. – Đáp. \n3) Ôi Thiên Chúa\, phúc đức ai ngụ nơi nhà Chúa: họ sẽ khen ngợi Chúa tới muôn đời. Phúc thay người Chúa con nâng đỡ\, họ tiến lên ngày càng thêm hăng hái. – Đáp. \n4) Thực một ngày sống trong hành lang nhà Chúa\, đáng quý hơn ngàn ngày ở nơi đâu khác. Con ưa đứng nơi ngưỡng cửa nhà Chúa\, hơn là cư ngụ trong lều bọn ác nhân. – Đáp. \nALLELUIA: Tv 24\, 4c và 5a \nAlleluia\, alleluia! – Lạy Chúa\, xin dạy bảo con về lối bước của Chúa và xin hướng dẫn con trong chân lý của Ngài. – Alleluia. \nPHÚC ÂM: Mt 13\, 47-53 \n“Người ta lựa cá tốt bỏ vào giỏ\, còn cá xấu thì ném ra ngoài”. \nTin Mừng Chúa Giêsu Kitô theo Thánh Matthêu.  \nKhi ấy\, Chúa Giêsu phán cùng dân chúng rằng: “Nước trời lại giống như lưới thả dưới biển\, bắt được mọi thứ cá. Lưới đầy\, người ta kéo lên bãi\, rồi ngồi đó mà lựa chọn: cá tốt thì bỏ vào giỏ\, còn cá xấu thì ném ra ngoài. Đến ngày tận thế cũng như vậy: các thiên thần sẽ đến mà tách biệt kẻ dữ ra khỏi người lành\, rồi ném những kẻ dữ vào lò lửa: ở đó sẽ phải khóc lóc nghiến răng. Các ngươi có hiểu những điều đó không?” Họ thưa: “Có”.  \nNgười liền bảo họ: “Bởi thế\, những thầy thông giáo am tường về Nước trời cũng giống như chủ nhà kia\, hay lợi dụng những cái cũ\, mới trong kho mình”. Khi Chúa Giêsu phán các dụ ngôn đó xong\, thì Người rời khỏi nơi ấy. Đó là lời Chúa. \nTHỨ NĂM TUẦN 17 TN\nMt 13\,47-53\nNƯỚC TRỜI NHƯ MẺ LƯỚI \n“Nước Trời giống như chiếc lưới… người ta kéo lên bãi\, rồi ngồi nhặt cá tốt cho vào giỏ\, còn cá xấu thì vứt ra ngoài.” (Mt 13\,47-48) \nSuy niệm: Để vào được đại học\, phải qua bao nhiêu năm tháng chuyền cần đèn sách\, bao nhiêu đêm thức trắng để có thể “chọi” được trong kỳ thi tuyển vã mồ hôi; để được đi làm cho một công ty\, ứng viên phải trải qua phỏng vấn\, phải thử thách trình độ\, tay nghề; để đi nước ngoài\, người ta cũng phải qua phỏng vấn\, thị thực visa. Nói chung\, cuộc sống đầy những sàng lọc\, những tiêu chí\, những điểm chuẩn khách quan đến mức lạnh lùng\, mà chiếu theo đó sẽ có kẻ đậu người rớt. Nước Trời cũng vậy\, giống như “một mẻ lưới gom đủ thứ cá”để rồi sẽ được phân loại: “cá tốt cho vào giỏ\, cá xấu vứt ra ngoài.” Nước Trời có tiêu chuẩn rõ ràng. Muốn vào đó\, tôi phải là “cá tốt.” \nMời Bạn: Hình dung cuộc sống đang diễn ra xung quanh mình – và chính mình trong đó – như một mẻ lưới. Nếu lúc này đây\, mẻ lưới được “kéo lên bãi\,” liệu tôi sẽ được xếp loại “cá tốt” hay “cá xấu”? Bạn nhớ tiêu chuẩn Nước Trời không có loại cá làng nhàng nửa tốt nửa xấu đâu nhé. \nChia sẻ: “Tốt” là một tính từ quá khái quát. Theo bạn\, trong cuộc sống hôm nay\, “tốt” theo tiêu chuẩn Nước Trời bao hàm những gì cụ thể? \nSống Lời Chúa: Sống theo các giá trị của Tin Mừng Đức Giê-su – chứ không theo bất cứ ai khác\, bất cứ chủ nghĩa hay trào lưu nào khác. \nCầu nguyện: Lạy Chúa Giê-su\, xin dạy chúng con biết đảm bảo chỗ cho mình trong Nước Trời chung cuộc\, bằng cách ngay từ bây giờ\, chúng con sống theo hiến chương Nước Trời\, là các Mối Phúc mà Chúa đã rao giảng. Amen.
URL:https://dongchuacuuthe.us/calendar/thu-nam-tuan-xvii-thuong-nien-nam-i/
END:VEVENT
BEGIN:VEVENT
DTSTART;VALUE=DATE:20230803
DTEND;VALUE=DATE:20230804
DTSTAMP:20260425T041434
CREATED:20230711T052942Z
LAST-MODIFIED:20230711T053111Z
UID:7984-1691020800-1691107199@dongchuacuuthe.us
SUMMARY:Thursday of the Seventeenth Week in Ordinary Time
DESCRIPTION:Reading 1\nEx 40:16-21\, 34-38\n\nMoses did exactly as the LORD had commanded him.\nOn the first day of the first month of the second year\nthe Dwelling was erected.\nIt was Moses who erected the Dwelling.\nHe placed its pedestals\, set up its boards\, put in its bars\,\nand set up its columns.\nHe spread the tent over the Dwelling\nand put the covering on top of the tent\,\nas the LORD had commanded him.\nHe took the commandments and put them in the ark;\nhe placed poles alongside the ark and set the propitiatory upon it.\nHe brought the ark into the Dwelling and hung the curtain veil\,\nthus screening off the ark of the commandments\,\nas the LORD had commanded him.Then the cloud covered the meeting tent\,\nand the glory of the LORD filled the Dwelling.\nMoses could not enter the meeting tent\,\nbecause the cloud settled down upon it\nand the glory of the LORD filled the Dwelling.\nWhenever the cloud rose from the Dwelling\,\nthe children of Israel would set out on their journey.\nBut if the cloud did not lift\, they would not go forward;\nonly when it lifted did they go forward.\nIn the daytime the cloud of the LORD was seen over the Dwelling;\nwhereas at night\, fire was seen in the cloud\nby the whole house of Israel\nin all the stages of their journey. \n\n\n\n\n\n\n\n\n\n\n\n\nResponsorial Psalm\nPs 84:3\, 4\, 5-6a and 8a\, 11\n\nR. (2) How lovely is your dwelling place\, O Lord\, mighty God!\nMy soul yearns and pines\nfor the courts of the LORD.\nMy heart and my flesh\ncry out for the living God.\nR. How lovely is your dwelling place\, O Lord\, mighty God!\nEven the sparrow finds a home\,\nand the swallow a nest\nin which she puts her young–\nYour altars\, O LORD of hosts\,\nmy king and my God!\nR. How lovely is your dwelling place\, O Lord\, mighty God!\nBlessed they who dwell in your house!\ncontinually they praise you.\nBlessed the men whose strength you are!\nThey go from strength to strength.\nR. How lovely is your dwelling place\, O Lord\, mighty God!\nI had rather one day in your courts\nthan a thousand elsewhere;\nI had rather lie at the threshold of the house of my God\nthan dwell in the tents of the wicked.\nR. How lovely is your dwelling place\, O Lord\, mighty God!\n\n\n\n\n\n\n\n\n\n\n\nAlleluia\nSee Acts 16:14b\n\nR. Alleluia\, alleluia.\nOpen our hearts\, O Lord\,\nto listen to the words of your Son.\nR. Alleluia\, alleluia.\n\n\n\n\n\n\n\n\n\n\n\nGospel\nMt 13:47-53\n\nJesus said to the disciples:\n“The Kingdom of heaven is like a net thrown into the sea\,\nwhich collects fish of every kind.\nWhen it is full they haul it ashore\nand sit down to put what is good into buckets.\nWhat is bad they throw away.\nThus it will be at the end of the age.\nThe angels will go out and separate the wicked from the righteous\nand throw them into the fiery furnace\,\nwhere there will be wailing and grinding of teeth.””Do you understand all these things?”\nThey answered\, “Yes.”\nAnd he replied\,\n“Then every scribe who has been instructed in the Kingdom of heaven\nis like the head of a household who brings from his storeroom\nboth the new and the old.”\nWhen Jesus finished these parables\, he went away from there.
URL:https://dongchuacuuthe.us/calendar/thursday-of-the-seventeenth-week-in-ordinary-time/
END:VEVENT
END:VCALENDAR