BEGIN:VCALENDAR
VERSION:2.0
PRODID:-//Dòng Chúa Cứu Thế Hải Ngoại - ECPv6.15.20//NONSGML v1.0//EN
CALSCALE:GREGORIAN
METHOD:PUBLISH
X-ORIGINAL-URL:https://dongchuacuuthe.us
X-WR-CALDESC:Events for Dòng Chúa Cứu Thế Hải Ngoại
REFRESH-INTERVAL;VALUE=DURATION:PT1H
X-Robots-Tag:noindex
X-PUBLISHED-TTL:PT1H
BEGIN:VTIMEZONE
TZID:America/Los_Angeles
BEGIN:DAYLIGHT
TZOFFSETFROM:-0800
TZOFFSETTO:-0700
TZNAME:PDT
DTSTART:20220313T100000
END:DAYLIGHT
BEGIN:STANDARD
TZOFFSETFROM:-0700
TZOFFSETTO:-0800
TZNAME:PST
DTSTART:20221106T090000
END:STANDARD
BEGIN:DAYLIGHT
TZOFFSETFROM:-0800
TZOFFSETTO:-0700
TZNAME:PDT
DTSTART:20230312T100000
END:DAYLIGHT
BEGIN:STANDARD
TZOFFSETFROM:-0700
TZOFFSETTO:-0800
TZNAME:PST
DTSTART:20231105T090000
END:STANDARD
BEGIN:DAYLIGHT
TZOFFSETFROM:-0800
TZOFFSETTO:-0700
TZNAME:PDT
DTSTART:20240310T100000
END:DAYLIGHT
BEGIN:STANDARD
TZOFFSETFROM:-0700
TZOFFSETTO:-0800
TZNAME:PST
DTSTART:20241103T090000
END:STANDARD
END:VTIMEZONE
BEGIN:VEVENT
DTSTART;VALUE=DATE:20230729
DTEND;VALUE=DATE:20230730
DTSTAMP:20260425T054947
CREATED:20230526T045435Z
LAST-MODIFIED:20230526T045435Z
UID:7693-1690588800-1690675199@dongchuacuuthe.us
SUMMARY:Lễ Thánh nữ Martha\, Lễ Nhớ
DESCRIPTION:BÀI ĐỌC I: Lv 23\, 1. 4-11. 15-16. 27. 34b-37\n“Các ngươi phải kể những ngày của Chúa là những ngày rất trọng thể và là ngày thánh”. \nTrích sách Lêvi. \nChúa phán cùng Môsê rằng: “Đây là những ngày lễ của Chúa mà các ngươi phải mừng lễ trong thời gian của nó. Chiều ngày mười bốn tháng Giêng là Lễ Vượt Qua của Chúa; và ngày mười lăm tháng Giêng\, là lễ trọng không men của Chúa: Các ngươi sẽ ăn bánh không men trong bảy ngày. Ngày thứ nhất\, các ngươi phải kể là ngày rất trọng thể\, và là ngày thánh\, các ngươi không nên làm mọi việc xác trong ngày ấy”. Trong bảy ngày\, các người phải thiêu hy lễ dâng lên Chúa. Ngày thứ bảy là ngày trọng thể và là ngày thánh hơn\, các ngươi không làm việc xác nào trong ngày ấy”. \nChúa lại phán cùng Môsê rằng: “Ngươi hãy nói cùng con cái Israel và bảo họ rằng: Khi các ngươi đã tiến vào đất Ta sẽ ban cho các ngươi\, và khi các ngươi gặt lúa\, thì phải mang bó lúa đầu mùa đến cho tư tế\, người sẽ giơ bó lúa lên trước mặt Chúa để hôm sau ngày sabbat\, người xin Chúa chấp nhận cho các ngươi\, và thánh hoá nó. Vậy các ngươi hãy tính từ hôm sau ngày sabbat\, là ngày các ngươi đã dâng bó lúa đầu mùa\, các ngươi tính đủ bảy tuần\, cho đến ngày hôm sau cuối tuần thứ bảy\, tức là năm mươi ngày\, thì các ngươi phải dâng của lễ mới cho Chúa. Ngày mùng mười tháng Bảy\, là ngày đền tội rất trọng thể\, gọi là ngày thánh: trong ngày đó\, các ngươi phải hãm dẹp tâm hồn\, và dâng của lễ toàn thiêu cho Chúa. Từ ngày mười lăm tháng Bảy sẽ mừng lễ Nhà Xếp kính Chúa trong bảy ngày. Ngày thứ nhất sẽ gọi là ngày rất trọng thể và rất thánh\, các ngươi không nên làm mọi việc xác trong ngày ấy. Và trong bảy ngày\, các ngươi phải dâng của lễ toàn thiêu cho Chúa\, ngày thứ tám cũng rất trọng thể và rất thánh\, các ngươi phải dâng của lễ toàn thiêu cho Chúa\, vì là ngày cộng đoàn tập họp\, các ngươi không nên làm mọi việc xác trong ngày ấy. \n“Đó là những ngày lễ của Chúa mà các ngươi phải kể là những ngày rất trọng thể và rất thánh\, trong những ngày ấy\, các ngươi phải dâng lên Chúa lễ vật\, của lễ toàn thiêu và lễ quán theo nghi lễ của mỗi ngày”. Đó là lời Chúa. \nĐÁP CA: Tv 80\, 3-4. 5-6ab. 10-11ab\nĐáp: Hãy reo mừng Thiên Chúa là Đấng phù trợ chúng ta (c. 2a). \nXướng: 1) Hãy hoà nhạc và đánh trống râm ran; dạo đàn cầm êm ái cùng với thất huyền. Hãy rúc tù và lên mừng ngày trăng mới\, trong buổi trăng rằm\, ngày đại lễ của chúng ta. – Đáp. \n2) Vì đó là điều đã thiết lập cho Israel; đó là huấn lệnh của Thiên Chúa nhà Giacóp. Người đã đặt ra luật này cho nhà Giuse\, khi họ cất gót lên đường lìa xa Ai-cập. – Đáp. \n3) Ở nơi ngươi đừng có một chúa tể nào khác; ngươi cũng đừng thờ tự một chúa tể ngoại lai: vì Ta là Chúa\, là Thiên Chúa của ngươi\, Ta đã đưa ngươi ra ngoài Ai-cập. – Đáp. \nALLELUIA: x. Lc 2\, 25c\nAlleluia\, alleluia! – Chúa phán: “Ta là ánh sáng thế gian; ai theo Ta\, sẽ có ánh sáng ban sự sống. – Alleluia. \nPHÚC ÂM: Ga 11\, 19-27\n“Con đã tin Thầy là Đấng Kitô\, Con Thiên Chúa hằng sống”. \nTin Mừng Chúa Giêsu Kitô theo Thánh Gioan. \nKhi ấy\, nhiều người Do-thái đến nhà Martha và Maria để an ủi hai bà vì người em đã chết. Khi hay tin Chúa Giêsu đến\, Martha đi đón Người\, còn Maria vẫn ngồi nhà. Martha thưa Chúa Giêsu: “Thưa Thầy\, nếu Thầy có mặt ở đây thì em con không chết. Tuy nhiên\, ngay cả bây giờ\, con biết Thầy xin gì cùng Thiên Chúa\, Thiên Chúa cũng sẽ ban cho Thầy”. Chúa Giêsu nói: “Em con sẽ sống lại”. Martha thưa: “Con biết ngày tận thế\, khi kẻ chết sống lại\, thì em con sẽ sống lại”. Chúa Giêsu nói: “Ta là sự sống lại và là sự sống\, ai tin Ta\, dầu có chết cũng sẽ được sống. Và kẻ nào sống mà tin Ta\, sẽ không chết bao giờ. Con có tin điều đó không?” Bà thưa: “Thưa Thầy: vâng\, con đã tin Thầy là Đấng Kitô\, Con Thiên Chúa hằng sống đã đến trong thế gian”. Đó là lời Chúa. \nHoặc đọc: Lc 10\, 38-42 \n“Martha đã đón Chúa vào nhà mình\, Maria đã chọn phần tốt nhất”. \nTin Mừng Chúa Giêsu Kitô theo Thánh Luca. \nKhi ấy\, Chúa Giêsu vào một làng kia\, và có một phụ nữ tên là Martha rước Người vào nhà mình. Bà có người em gái tên là Maria ngồi bên chân Chúa mà nghe lời Người. Martha bận rộn với việc thết đãi khách. Bà đứng lại thưa Người rằng: “Lạy Thầy\, em con để con hầu hạ một mình mà Thầy không quan tâm sao? Xin Thầy bảo em con giúp con với”. Nhưng Chúa đáp: “Martha\, Martha\, con lo lắng bối rối về nhiều chuyện. Chỉ có một sự cần mà thôi: Maria đã chọn phần tốt nhất\, và sẽ không bị ai lấy mất”. Đó là lời Chúa. \n5 phút suy niệm \nTh. Mác-ta   Ga 11\,19-27 \nTIN THẦY LÀ ĐỨC KI-TÔ\, CON THIÊN CHÚA \n“Con tin Thầy là Đức Ki-tô\, Con Thiên Chúa.” (Ga 11\,27) \nSuy niệm: Qua việc cho La-da-rô sống lại\, Chúa Giê-su dẫn đưa Mác-ta tiến sâu vào con đường đức tin\, giúp cho cô vững tin Ngài chính “là Đức Ki-tô\, Con Thiên Chúa\, Đấng phải đến thế gian” (c.27). Đối với Mác-ta\, niềm vui này còn lớn hơn niềm vui tìm lại được người em đã chết\, bởi vì niềm tin ấy đưa cô đến sự sống đời đời: “Ai tin vào Thầy\, sẽ không bao giờ phải chết” (c.26). Tin vào con người Đức Ki-tô thì cũng đồng thời là tin vào Lời của Ngài\, bởi vì Ngài chính là Ngôi Lời (Ga 1\,1)\, và Lời Ngài là Lời hằng sống\, Lời đem lại sự sống đời đời (Ga 6\,68). \nMời Bạn: Giữa cơn thử thách lớn lao\, Mác-ta đã gặp Đức Ki-tô\, và lời Ngài đã vực chị dậy để chị đứng vững trong niềm tin. Bạn đã làm gì khi gặp thử thách trong đời sống\, trong đức tin? Trong năm Sống Lời Chúa\, bạn được mời gọi năng đọc\, suy niệm và sống Lời Chúa. Việc này phải dẫn bạn đến chỗ tin tưởng vào Ngài mỗi ngày một hơn.\nChia sẻ: Khi gặp thử thách mới thấy niềm tin của mình như thế nào! Bạn hãy cùng bạn bè\, người thân chia sẻ kinh nghiệm cá nhân khi đối diện thử thách\, dựa vào  gương của Mác-ta trong câu truyện Tin Mừng hôm nay\, và hãy khích lệ nhau vững tin vào Chúa hơn. \nSống Lời Chúa: Bạn hãy tập thói quen khi gặp thử thách lớn nhỏ\, nhớ đến một câu Lời Chúa\, để tâm niệm\, và xin ơn kiên vững trong niềm tin. \nCầu nguyện:Lạy Chúa\, cảm tạ Chúa đã cho con bài học về đức tin của Mác-ta. Ước gì những thử thách con gặp phải\, không đẩy con xa Chúa\, nhưng giúp con thêm vững tin vào Chúa\, và dẫn con đến sự sống đời đời.
URL:https://dongchuacuuthe.us/calendar/le-thanh-nu-martha-le-nho/
END:VEVENT
BEGIN:VEVENT
DTSTART;VALUE=DATE:20230729
DTEND;VALUE=DATE:20230730
DTSTAMP:20260425T054947
CREATED:20230526T051459Z
LAST-MODIFIED:20230526T051459Z
UID:7760-1690588800-1690675199@dongchuacuuthe.us
SUMMARY:Memorial of Saints Martha\, Mary and Lazarus
DESCRIPTION:Reading 1\nEx 24:3-8\n\nWhen Moses came to the people\nand related all the words and ordinances of the LORD\,\nthey all answered with one voice\,\n“We will do everything that the LORD has told us.”\nMoses then wrote down all the words of the LORD and\,\nrising early the next day\,\nhe erected at the foot of the mountain an altar\nand twelve pillars for the twelve tribes of Israel.\nThen\, having sent certain young men of the children of Israel\nto offer burnt offerings and sacrifice young bulls\nas peace offerings to the LORD\,\nMoses took half of the blood and put it in large bowls;\nthe other half he splashed on the altar.\nTaking the book of the covenant\, he read it aloud to the people\,\nwho answered\, “All that the LORD has said\, we will heed and do.”\nThen he took the blood and sprinkled it on the people\, saying\,\n“This is the blood of the covenant\nthat the LORD has made with you\nin accordance with all these words of his.”\n\n\n\n\n\n\n\n\n\n\n\nResponsorial Psalm\nPs 50:1b-2\, 5-6\, 14-15\n\nR. (14a) Offer to God a sacrifice of praise.\nGod the LORD has spoken and summoned the earth\,\nfrom the rising of the sun to its setting.\nFrom Zion\, perfect in beauty\,\nGod shines forth.\nR. Offer to God a sacrifice of praise.\n“Gather my faithful ones before me\,\nthose who have made a covenant with me by sacrifice.”\nAnd the heavens proclaim his justice;\nfor God himself is the judge.\nR. Offer to God a sacrifice of praise.\n“Offer to God praise as your sacrifice\nand fulfill your vows to the Most High;\nThen call upon me in time of distress;\nI will rescue you\, and you shall glorify me.”\nR. Offer to God a sacrifice of praise.\n\n\n\n\n\n\n\n\n\n\n\nAlleluia\nJn 8:12\n\nR. Alleluia\, alleluia.\nI am the light of the world\, says the Lord;\nwhoever follows me will have the light of life.\nR. Alleluia\, alleluia.\n\n\n\n\n\n\n\n\n\n\n\nGospel\nJn 11:19-27\n\nMany of the Jews had come to Martha and Mary\nto comfort them about their brother [Lazarus\, who had died].\nWhen Martha heard that Jesus was coming\,\nshe went to meet him;\nbut Mary sat at home.\nMartha said to Jesus\,\n“Lord\, if you had been here\,\nmy brother would not have died.\nBut even now I know that whatever you ask of God\,\nGod will give you.”\nJesus said to her\,\n“Your brother will rise.”\nMartha said to him\,\n“I know he will rise\,\nin the resurrection on the last day.”\nJesus told her\,\n“I am the resurrection and the life;\nwhoever believes in me\, even if he dies\, will live\,\nand anyone who lives and believes in me will never die.\nDo you believe this?”\nShe said to him\, “Yes\, Lord.\nI have come to believe that you are the Christ\, the Son of God\,\nthe one who is coming into the world.”\n\n\n\n\n\n\n\n\n\n\n\nor\nLk 10:38-42\n\nJesus entered a village\nwhere a woman whose name was Martha welcomed him.\nShe had a sister named Mary\nwho sat beside the Lord at his feet listening to him speak.\nMartha\, burdened with much serving\, came to him and said\,\n“Lord\, do you not care\nthat my sister has left me by myself to do the serving?\nTell her to help me.”\nThe Lord said to her in reply\,\n“Martha\, Martha\, you are anxious and worried about many things.\nThere is need of only one thing.\nMary has chosen the better part\nand it will not be taken from her.”
URL:https://dongchuacuuthe.us/calendar/memorial-of-saints-martha-mary-and-lazarus/
END:VEVENT
END:VCALENDAR