BEGIN:VCALENDAR
VERSION:2.0
PRODID:-//Dòng Chúa Cứu Thế Hải Ngoại - ECPv6.15.20//NONSGML v1.0//EN
CALSCALE:GREGORIAN
METHOD:PUBLISH
X-ORIGINAL-URL:https://dongchuacuuthe.us
X-WR-CALDESC:Events for Dòng Chúa Cứu Thế Hải Ngoại
REFRESH-INTERVAL;VALUE=DURATION:PT1H
X-Robots-Tag:noindex
X-PUBLISHED-TTL:PT1H
BEGIN:VTIMEZONE
TZID:America/Los_Angeles
BEGIN:DAYLIGHT
TZOFFSETFROM:-0800
TZOFFSETTO:-0700
TZNAME:PDT
DTSTART:20220313T100000
END:DAYLIGHT
BEGIN:STANDARD
TZOFFSETFROM:-0700
TZOFFSETTO:-0800
TZNAME:PST
DTSTART:20221106T090000
END:STANDARD
BEGIN:DAYLIGHT
TZOFFSETFROM:-0800
TZOFFSETTO:-0700
TZNAME:PDT
DTSTART:20230312T100000
END:DAYLIGHT
BEGIN:STANDARD
TZOFFSETFROM:-0700
TZOFFSETTO:-0800
TZNAME:PST
DTSTART:20231105T090000
END:STANDARD
BEGIN:DAYLIGHT
TZOFFSETFROM:-0800
TZOFFSETTO:-0700
TZNAME:PDT
DTSTART:20240310T100000
END:DAYLIGHT
BEGIN:STANDARD
TZOFFSETFROM:-0700
TZOFFSETTO:-0800
TZNAME:PST
DTSTART:20241103T090000
END:STANDARD
END:VTIMEZONE
BEGIN:VEVENT
DTSTART;VALUE=DATE:20230725
DTEND;VALUE=DATE:20230726
DTSTAMP:20260425T054945
CREATED:20230526T045247Z
LAST-MODIFIED:20230526T045247Z
UID:7685-1690243200-1690329599@dongchuacuuthe.us
SUMMARY:Lễ Thánh Giacôbê\, Tông đồ\, Lễ Kính
DESCRIPTION:BÀI ĐỌC I: 2 Cr 4\, 7-15\n“Chúng ta luôn mang trên thân xác mình sự chết của Đức Giêsu”. \nTrích thư thứ hai của Thánh Phaolô Tông đồ gửi tín hữu Côrintô. \nAnh em thân mến\, Chúng ta chứa đựng kho tàng ấy trong những bình sành để biết rằng quyền lực vô song đó là của Thiên Chúa\, chớ không phải phát xuất tự chúng ta. Chúng ta chịu khổ cực tư bề\, nhưng không bị đè bẹp; chúng ta phải long đong\, nhưng không tuyệt vọng; chúng ta bị bắt bớ\, nhưng không bị bỏ rơi; bị quật ngã\, nhưng không bị tiêu diệt. Bởi vì chúng ta luôn mang trên thân xác mình sự chết của Đức Giêsu\, để sự sống của Đức Giêsu được tỏ hiện nơi thân xác chúng ta. Vì chưng\, mặc dầu chúng ta đang sống\, nhưng vì Đức Giêsu\, chúng ta luôn luôn nộp mình chịu chết\, để sự sống của Đức Giêsu được tỏ hiện trong thân xác hay chết của chúng ta. Vậy sự chết hoành hành nơi chúng tôi\, còn sự sống hoạt động nơi anh em. \nNhưng anh em hãy có một tinh thần đức tin như đã chép rằng: “Tôi đã tin\, nên tôi đã nói”\, và chúng tôi tin\, nên chúng tôi cũng nói\, bởi chúng tôi biết rằng Đấng đã làm cho Đức Giêsu sống lại\, cũng sẽ làm cho chúng tôi được sống lại với Đức Giêsu và sẽ đặt chúng tôi bên Người làm một với anh em. Mọi sự đều vì anh em\, để ân sủng càng tràn đầy\, bởi nhiều kẻ tạ ơn\, thì càng gia tăng vinh quang Thiên Chúa. Đó là lời Chúa. \nĐÁP CA: Tv 125\, 1-2ab. 2cd-3. 4-5. 6\nĐáp: Ai gieo trong lệ sầu\, sẽ gặt trong hân hoan (c. 5). \nXướng: 1) Khi Chúa đem những người Sion bị bắt trở về\, chúng tôi dường như người đang mơ; bấy giờ miệng chúng tôi vui cười\, lưỡi chúng tôi thốt lên những tiếng hân hoan. – Đáp. \n2) Bấy giờ dân thiên hạ nói với nhau rằng: “Chúa đã đối xử với họ cách đại lượng”. Chúa đã đối xử đại lượng với chúng tôi\, nên chúng tôi mừng rỡ hân hoan. – Đáp. \n3) Lạy Chúa\, xin hãy đổi số phận chúng con\, như những dòng suối ở miền nam. Ai gieo trong lệ sầu\, sẽ gặt trong hân hoan. – Đáp. \n4) Thiên hạ vừa đi vừa khóc\, tay mang thóc đi gieo; họ trở về trong hân hoan\, vai mang những bó lúa. – Đáp. \nALLELUIA: Ga 15\, 16\nAlleluia\, alleluia! – Chúa phán: “Thầy đã chọn các con ra khỏi thế gian\, để các con đi và mang lại hoa trái\, và để hoa trái các con tồn tại”. – Alleluia. \nPHÚC ÂM: Mt 20\, 20-28\n“Các con sẽ uống chén của Ta”. \nTin Mừng Chúa Giêsu Kitô theo Thánh Matthêu. \nKhi ấy\, bà mẹ các con ông Giêbêđê cùng với hai con đến gặp Chúa Giêsu. Bà sấp mình xuống lạy Người\, có ý xin Người điều chi đó. Người hỏi: “Bà muốn gì?” Bà ta thưa lại: “Xin Ngài hãy truyền cho hai con tôi đây được ngồi một đứa bên hữu\, một đứa bên tả Ngài\, trong Nước Ngài”. \nChúa Giêsu đáp lại: “Các ngươi không biết điều các ngươi xin. Các ngươi có thể uống chén mà ít nữa đây ta sắp uống chăng?” Họ nói với Người: “Thưa được”. Người bảo họ: “Vậy các ngươi sẽ uống chén của Ta\, còn việc ngồi bên hữu hay bên tả\, thì không thuộc quyền Ta ban\, nhưng Cha Ta đã chuẩn bị cho ai thì người ấy mới được”. Nghe vậy\, mười người kia tỏ ra bất bình với hai anh em. \nChúa Giêsu gọi họ lại mà bảo: “Các con biết thủ lãnh của các dân tộc thì thống trị họ và những người làm lớn thì hành quyền trên họ. Giữa các con thì không được thế. Trong các con\, ai muốn làm lớn\, thì hãy phục vụ các con\, và ai muốn cầm đầu các con\, thì hãy làm tôi tớ các con. Cũng như Con Người đến không phải để được người ta phục vụ\, nhưng để phục vụ và phó mạng sống làm giá chuộc cho nhiều người”. Đó là lời Chúa. \nTHỨ BẢY TUẦN 16 TN\nTh. Gia-cô-bê\, tông đồ-Mt 20\,20-28\nMUỐN GÌ VÀ XIN GÌ?  \nBấy giờ\, bà mẹ của các con ông Dê-bê-đê đến gặp Đức Giê-su…. Người hỏi bà: “Bà muốn gì?… Đức Giê-su bảo: “Các người không biết các người xin gì!” (Mt 20\,20-22) \nSuy niệm: Trong những dịp lễ hội tại các đền thánh\, chùa chiền\, miếu mạo\, một hiện tượng đã trở thành phổ biến là rất đông người chen chúc tuốn đến cầu xin. Dù tôn giáo hay tín ngưỡng khác nhau\, dù động cơ và mục đích không ai giống ai\, nhưng hầu như ai cũng chung một điệp khúc “cầu được ước thấy”\, “xin ơn như ý”\, v.v…. “Như ý” đây là như ý mình\, “cầu ước” cũng là cầu ước của riêng mình. Ba mẹ con gia đình ông Dê-bê-đê cũng mang nặng thái độ đó khi họ xin cho hai quý tử được ngồi “hai bên tả hữu” trong Nước của Chúa. Chính vì thế\, Chúa Giê-su lưu ý họ với giọng trách móc: “Các người không biết các người xin gì!” Điều Ngài mong muốn là thái độ sẵn sàng chung phần “chén đắng” với Ngài và để cho Thiên Chúa quyền an bài số phận của mỗi người. \nMời Bạn: Lắm khi chúng ta “lầm địa chỉ”\, coi Thiên Chúa như một thứ “Thần Tài”. Mời bạn xét mình xem bạn thường cầu nguyện thế nào: Lời cầu xin của bạn có nhằm để “ý Cha thể hiện dưới đất cũng như trên trời” không?Hay chúng đang phản ảnh những nhu cầu và ước muốn đậm màu thế tục của bạn? Ghi nhớ lời dạy của Chúa Giê-su: “Trước hết hãy tìm kiếm Nước Thiên Chúa và đức công chính của Người\, còn tất cả những thứ kia\, Người sẽ thêm cho” (Mt 6\,33). \nSống Lời Chúa: Trước mọi biến cố vui buồn bạn tạ ơn Chúa và cầu nguyện: “Xin cho ý Cha thể hiện.” \nCầu nguyện: Lạy Chúa Giê-su\, xin ban cho chúng con ơn Thánh Thần soi sáng\, để chúng con nhận biết việc phải làm và cầu xin điều Chúa muốn.
URL:https://dongchuacuuthe.us/calendar/le-thanh-giacobe-tong-do-le-kinh/
END:VEVENT
BEGIN:VEVENT
DTSTART;VALUE=DATE:20230725
DTEND;VALUE=DATE:20230726
DTSTAMP:20260425T054945
CREATED:20230526T051322Z
LAST-MODIFIED:20230526T051322Z
UID:7752-1690243200-1690329599@dongchuacuuthe.us
SUMMARY:Feast of Saint James\, Apostle
DESCRIPTION:Reading 1\n2 Cor 4:7-15\n\nBrothers and sisters:\nWe hold this treasure in earthen vessels\,\nthat the surpassing power may be of God and not from us.\nWe are afflicted in every way\, but not constrained;\nperplexed\, but not driven to despair;\npersecuted\, but not abandoned;\nstruck down\, but not destroyed;\nalways carrying about in the body the dying of Jesus\,\nso that the life of Jesus may also be manifested in our body.\nFor we who live are constantly being given up to death\nfor the sake of Jesus\,\nso that the life of Jesus may be manifested in our mortal flesh. \nSo death is at work in us\, but life in you.\nSince\, then\, we have the same spirit of faith\,\naccording to what is written\, I believed\, therefore I spoke\,\nwe too believe and therefore speak\,\nknowing that the one who raised the Lord Jesus\nwill raise us also with Jesus\nand place us with you in his presence.\nEverything indeed is for you\,\nso that the grace bestowed in abundance on more and more people\nmay cause the thanksgiving to overflow for the glory of God.\n\n\n\n\n\n\n\n\n\n\n\nResponsorial Psalm\nPs 126:1bc-2ab\, 2cd-3\, 4-5\, 6\n\nR. (5) Those who sow in tears shall reap rejoicing.\nWhen the LORD brought back the captives of Zion\,\nwe were like men dreaming.\nThen our mouth was filled with laughter\,\nand our tongue with rejoicing.\nR. Those who sow in tears shall reap rejoicing.\nThen they said among the nations\,\n“The LORD has done great things for them.”\nThe LORD has done great things for us;\nwe are glad indeed.\nR. Those who sow in tears shall reap rejoicing.\nRestore our fortunes\, O LORD\,\nlike the torrents in the southern desert.\nThose that sow in tears\nshall reap rejoicing.\nR. Those who sow in tears shall reap rejoicing.\nAlthough they go forth weeping\,\ncarrying the seed to be sown\,\nThey shall come back rejoicing\,\ncarrying their sheaves.\nR. Those who sow in tears shall reap rejoicing.\n\n\n\n\n\n\n\n\n\n\n\nAlleluia\nSee Jn 15:16\n\nR. Alleluia\, alleluia.\nI chose you from the world\,\nto go and bear fruit that will last\, says the Lord.\nR. Alleluia\, alleluia.\n\n\n\n\n\n\n\n\n\n\n\nGospel\nMt 20:20-28\n\nThe mother of the sons of Zebedee approached Jesus with her sons\nand did him homage\, wishing to ask him for something.\nHe said to her\,\n“What do you wish?”\nShe answered him\,\n“Command that these two sons of mine sit\,\none at your right and the other at your left\, in your Kingdom.”\nJesus said in reply\,\n“You do not know what you are asking.\nCan you drink the chalice that I am going to drink?”\nThey said to him\, “We can.”\nHe replied\,\n“My chalice you will indeed drink\,\nbut to sit at my right and at my left\, this is not mine to give\nbut is for those for whom it has been prepared by my Father.”\nWhen the ten heard this\,\nthey became indignant at the two brothers.\nBut Jesus summoned them and said\,\n“You know that the rulers of the Gentiles lord it over them\,\nand the great ones make their authority over them felt.\nBut it shall not be so among you.\nRather\, whoever wishes to be great among you shall be your servant;\nwhoever wishes to be first among you shall be your slave.\nJust so\, the Son of Man did not come to be served\nbut to serve and to give his life as a ransom for many.”
URL:https://dongchuacuuthe.us/calendar/feast-of-saint-james-apostle/
END:VEVENT
END:VCALENDAR