BEGIN:VCALENDAR
VERSION:2.0
PRODID:-//Dòng Chúa Cứu Thế Hải Ngoại - ECPv6.15.20//NONSGML v1.0//EN
CALSCALE:GREGORIAN
METHOD:PUBLISH
X-ORIGINAL-URL:https://dongchuacuuthe.us
X-WR-CALDESC:Events for Dòng Chúa Cứu Thế Hải Ngoại
REFRESH-INTERVAL;VALUE=DURATION:PT1H
X-Robots-Tag:noindex
X-PUBLISHED-TTL:PT1H
BEGIN:VTIMEZONE
TZID:America/Los_Angeles
BEGIN:DAYLIGHT
TZOFFSETFROM:-0800
TZOFFSETTO:-0700
TZNAME:PDT
DTSTART:20220313T100000
END:DAYLIGHT
BEGIN:STANDARD
TZOFFSETFROM:-0700
TZOFFSETTO:-0800
TZNAME:PST
DTSTART:20221106T090000
END:STANDARD
BEGIN:DAYLIGHT
TZOFFSETFROM:-0800
TZOFFSETTO:-0700
TZNAME:PDT
DTSTART:20230312T100000
END:DAYLIGHT
BEGIN:STANDARD
TZOFFSETFROM:-0700
TZOFFSETTO:-0800
TZNAME:PST
DTSTART:20231105T090000
END:STANDARD
BEGIN:DAYLIGHT
TZOFFSETFROM:-0800
TZOFFSETTO:-0700
TZNAME:PDT
DTSTART:20240310T100000
END:DAYLIGHT
BEGIN:STANDARD
TZOFFSETFROM:-0700
TZOFFSETTO:-0800
TZNAME:PST
DTSTART:20241103T090000
END:STANDARD
END:VTIMEZONE
BEGIN:VEVENT
DTSTART;VALUE=DATE:20230721
DTEND;VALUE=DATE:20230722
DTSTAMP:20260425T054947
CREATED:20230526T045100Z
LAST-MODIFIED:20230526T045100Z
UID:7677-1689897600-1689983999@dongchuacuuthe.us
SUMMARY:Thứ Sáu Tuần XV Thường Niên Năm I
DESCRIPTION:BÀI ĐỌC I: Xh 11\, 10 – 12\, 14 \n“Các ngươi hãy giết con chiên con vào chiều tối. Hễ nhìn thấy máu\, Ta sẽ vượt qua các ngươi”.  \nTrích sách Xuất Hành. \nTrong những ngày ấy\, Môsê và Aaron đã làm các phép lạ trước mặt Pharaon như đã chép. Nhưng Chúa để cho Pharaon vẫn cứng lòng\, không cho phép con cái Israel ra khỏi nước mình.  \nTại Ai-cập\, Chúa phán cùng Môsê và Aaron rằng: “Tháng này đối với các ngươi là tháng đầu\, tức là tháng đầu năm. Các ngươi hãy loan truyền cho toàn thể cộng đồng con cái Israel rằng: “Đến mồng mười tháng này\, mỗi gia đình phải lo cho có một con chiên con. Nếu nhà ít người\, liệu ăn không hết một con chiên con\, thì hãy hợp chung với những người lân cận\, tuỳ theo số người. Con chiên con phải không tì tích\, là chiên đực và được một tuổi. Các ngươi cũng có thể dùng một con dê đực theo quy luật đó. Các ngươi nuôi nó cho đến ngày mười bốn tháng này\, rồi toàn thể cộng đồng con cái Israel sẽ giết nó vào chiều tối. Tại mỗi nhà ăn thịt chiên\, người ta sẽ lấy máu chiên bôi lên hai khung cửa và trên thành cửa. Đêm đó\, người ta sẽ ăn thịt chiên nướng với bánh không men và rau diếp đắng. Các ngươi không được ăn thịt sống hay luộc\, mà chỉ được ăn thịt nướng. Phải ăn tất cả đầu\, chân và lòng. Đừng để thừa đến sáng hôm sau. Nếu ăn còn dư\, thì hãy thiêu huỷ đi.  \n“Các ngươi sẽ ăn như thế này: Hãy thắt lưng\, chân mang giày\, tay cầm gậy và ăn hối hả\, vì đây là lễ Vượt Qua của Chúa. Đêm đó\, Ta sẽ rảo qua khắp nước Ai-cập. Ta sẽ giết chết tất cả con đầu lòng trong xứ Ai-cập\, từ loài người cho đến loài vật. Ta là Chúa. Ta sẽ ra án phạt tất cả các bụt thần Ai-cập. Máu bôi lên thành cửa nhà các ngươi sẽ dùng làm dấu hiệu: Hễ nhìn thấy máu\, Ta sẽ vượt qua các ngươi\, các ngươi sẽ không bị huỷ diệt khi Ta trừng phạt nước Ai-cập.  \n“Các ngươi hãy ghi ngày đó làm ngày kỷ niệm\, và cử hành ngày đó như ngày đại lễ của Chúa\, qua các thế hệ cho đến muôn đời”. Đó là lời Chúa. \nĐÁP CA: Tv 115\, 12-13. 15-16bc. 17-18 \nĐáp: Con sẽ lãnh chén cứu độ\, và con sẽ kêu cầu danh Chúa (c. 13). \nXướng: 1) Con lấy gì dâng lại cho Chúa để đền đáp những điều Ngài ban tặng cho con? Con sẽ lãnh chén cứu độ\, và con sẽ kêu cầu danh Chúa. – Đáp. \n2) Trước mặt Chúa thật là quý hoá cái chết của những bậc thánh nhân Ngài. Con là tôi tớ Ngài\, con trai của nữ tì Ngài\, Ngài đã bẻ gãy xiềng xích cho con. – Đáp. \n3) Con sẽ hiến dâng Chúa lời ca ngợi làm sinh lễ\, và con sẽ kêu cầu danh Chúa. Con sẽ giữ trọn lời khấn xin cùng Chúa trước mặt toàn thể dân Ngài. – Đáp. \nALLELUIA: Tv 129\, 5 \nAlleluia\, alleluia! – Con hy vọng rất nhiều vào Chúa\, linh hồn con trông cậy ở lời Chúa. – Alleluia. \nPHÚC ÂM: Mt 12\, 1-8 \n“Con Người cũng là chủ ngày sabbat”. \nTin Mừng Chúa Giêsu Kitô theo Thánh Matthêu. \nKhi ấy\, vào ngày Sabbat\, Chúa Giêsu đi ngang cánh đồng lúa. Các môn đệ của Người đói\, liền bứt bông lúa mà ăn. Thấy vậy\, các người biệt phái thưa với Người rằng: “Kìa\, các môn đệ của Ngài làm điều không được phép làm trong ngày Sabbat”. Người nói với các ông rằng: “Các ông không đọc thấy Đavít và những người đi với ông đã làm gì khi đói lả sao? Các ông cũng không đọc thấy Đavít vào đền thờ Chúa ăn bánh trưng hiến\, bánh mà ông và các kẻ theo ông không được phép ăn\, chỉ trừ các tư tế được ăn mà thôi sao? Hay các ông không đọc thấy trong luật rằng: Ngày Sabbat\, các tư tế trong đền thờ vi phạm ngày Sabbat mà không mắc tội đó sao? Tôi bảo cho các ông biết\, đây có Đấng còn trọng hơn đền thờ nữa. Vì nếu các ông biết được điều này là\, ‘Ta muốn lòng nhân từ\, chứ không muốn hy lễ’\, chắc các ông không bao giờ lên án những người vô tội\, vì chưng Con Người cũng là chủ ngày Sabbat”.  \nĐó là lời Chúa. \nthứ sáu tuần 15 tn\nMt 12\,1-8\nlòng nhân trọng hơn lễ vật\n“Nếu các ông hiểu được ý nghĩa của câu này: Ta muốn lòng nhân chứ đâu cần lễ tế\, ắt các ông đã chẳng lên án kẻ vô tội.” (Mt 12\,7) \nSuy niệm: Ai cũng biết lòng nhân trọng hơn lễ vật nhưng lắm kẻ vẫn thích dùng lễ vật để “khuynh đảo” lòng nhân\, khiến lòng nhân phải nghiêng ngửa! Hằng ngày chúng ta nghe nói đến biết bao nhiêu vụ tham nhũng hối lộ động trời xảy ra trên mọi lĩnh vực. Tiếp theo đó là biết bao việc làm sai trái được nhắm mắt làm ngơ. Hậu quả là những người thấp cổ bé miệng phải gánh chịu những bất công. Ôi! Phải chi người ta biết trọng lòng nhân hơn lễ vật thì đâu có chuyện người vô tội bị áp bức bất công! Một khi lễ vật bị đặt sai chỗ\, bị dùng để mua chuộc\, lấy lòng nhau thì lòng nhân sẽ không còn là lòng nhân nữa mà chỉ còn bất nhân. \n\nMời Bạn: Để được việc bạn dễ bị cám dỗ dùng lễ vật để mua chuộc\, lấy lòng: có thưởng mới làm; có cho tiền mới đi học\, đi lễ; có quà cáp mới tiến cử\, tiến thân… Kết quả là lòng nhân ái\, giá trị cao quý của nhân loại vẫn tiếp tục bị xói mòn\, đục khoét. Thực ra lòng nhân tự nó là tốt\, nhưng lòng nhân nơi những người không biết sử dụng lại là điều đáng ngại. Như thế để làm người “biết thương người” bạn hãy cho mà không mong được báo đáp và khi đó việc làm của bạn đã trở nên chính lễ vật đẹp lòng Chúa và có sức cải thiện phong hóa thế gian. \n\nChia sẻ: Khi người ta tham nhũng hối lộ\, ai là người hưởng lợi\, ai là người bị hại? Cái lợi có bù đắp được cái hại không? Mời bạn chia sẻ! \n\nCầu nguyện: Lạy Chúa\, xin giúp mỗi người chúng con biết xây dựng lòng nhân ái một cách vô vị lợi như Chúa đã đối xử với chúng con.
URL:https://dongchuacuuthe.us/calendar/thu-sau-tuan-xv-thuong-nien-nam-i/
END:VEVENT
BEGIN:VEVENT
DTSTART;VALUE=DATE:20230721
DTEND;VALUE=DATE:20230722
DTSTAMP:20260425T054947
CREATED:20230526T051137Z
LAST-MODIFIED:20230526T051137Z
UID:7744-1689897600-1689983999@dongchuacuuthe.us
SUMMARY:Friday of the Fifteenth Week in Ordinary Time
DESCRIPTION:Reading 1\nEx 11:10—12:14\n\nAlthough Moses and Aaron performed various wonders\nin Pharaoh’s presence\,\nthe LORD made Pharaoh obstinate\,\nand he would not let the children of Israel leave his land. \nThe LORD said to Moses and Aaron in the land of Egypt\,\n“This month shall stand at the head of your calendar;\nyou shall reckon it the first month of the year.\nTell the whole community of Israel: On the tenth of this month\nevery one of your families must procure for itself a lamb\,\none apiece for each household.\nIf a family is too small for a whole lamb\,\nit shall join the nearest household in procuring one\nand shall share in the lamb\nin proportion to the number of persons who partake of it.\nThe lamb must be a year-old male and without blemish.\nYou may take it from either the sheep or the goats.\nYou shall keep it until the fourteenth day of this month\, and then\,\nwith the whole assembly of Israel present\,\nit shall be slaughtered during the evening twilight.\nThey shall take some of its blood\nand apply it to the two doorposts and the lintel\nof every house in which they partake of the lamb.\nThat same night they shall eat its roasted flesh\nwith unleavened bread and bitter herbs.\nIt shall not be eaten raw or boiled\, but roasted whole\,\nwith its head and shanks and inner organs.\nNone of it must be kept beyond the next morning;\nwhatever is left over in the morning shall be burned up. \n“This is how you are to eat it:\nwith your loins girt\, sandals on your feet and your staff in hand\,\nyou shall eat like those who are in flight.\nIt is the Passover of the LORD.\nFor on this same night I will go through Egypt\,\nstriking down every first born of the land\, both man and beast\,\nand executing judgment on all the gods of Egypt—I\, the LORD!\nBut the blood will mark the houses where you are.\nSeeing the blood\, I will pass over you;\nthus\, when I strike the land of Egypt\,\nno destructive blow will come upon you. \n“This day shall be a memorial feast for you\,\nwhich all your generations shall celebrate\nwith pilgrimage to the LORD\, as a perpetual institution.” \n\n\n\n\n\n\n\n\n\n\n\nResponsorial Psalm\nPs 116:12-13\, 15 and 16bc\, 17-18\n\nR. (13) I will take the cup of salvation\, and call on the name of the Lord.\nHow shall I make a return to the LORD\nfor all the good he has done for me?\nThe cup of salvation I will take up\,\nand I will call upon the name of the LORD.\nR. I will take the cup of salvation\, and call on the name of the Lord.\nPrecious in the eyes of the LORD\nis the death of his faithful ones.\nI am your servant\, the son of your handmaid;\nyou have loosed my bonds.\nR. I will take the cup of salvation\, and call on the name of the Lord.\nTo you will I offer sacrifice of thanksgiving\,\nand I will call upon the name of the LORD.\nMy vows to the LORD I will pay\nin the presence of all his people.\nR. I will take the cup of salvation\, and call on the name of the Lord.\n\n\n\n\n\n\n\n\n\n\n\nAlleluia\nJn 10:27\n\nR. Alleluia\, alleluia.\nMy sheep hear my voice\, says the Lord\,\nI know them\, and they follow me.\nR. Alleluia\, alleluia.\n\n\n\n\n\n\n\n\n\n\n\nGospel\nMt 12:1-8\n\nJesus was going through a field of grain on the sabbath.\nHis disciples were hungry\nand began to pick the heads of grain and eat them.\nWhen the Pharisees saw this\, they said to him\,\n“See\, your disciples are doing what is unlawful to do on the sabbath.”\nHe said to the them\, “Have you not read what David did\nwhen he and his companions were hungry\,\nhow he went into the house of God and ate the bread of offering\,\nwhich neither he nor his companions\nbut only the priests could lawfully eat?\nOr have you not read in the law that on the sabbath\nthe priests serving in the temple violate the sabbath\nand are innocent?\nI say to you\, something greater than the temple is here.\nIf you knew what this meant\, I desire mercy\, not sacrifice\,\nyou would not have condemned these innocent men.\nFor the Son of Man is Lord of the sabbath.”
URL:https://dongchuacuuthe.us/calendar/friday-of-the-fifteenth-week-in-ordinary-time/
END:VEVENT
END:VCALENDAR