BEGIN:VCALENDAR
VERSION:2.0
PRODID:-//Dòng Chúa Cứu Thế Hải Ngoại - ECPv6.15.20//NONSGML v1.0//EN
CALSCALE:GREGORIAN
METHOD:PUBLISH
X-ORIGINAL-URL:https://dongchuacuuthe.us
X-WR-CALDESC:Events for Dòng Chúa Cứu Thế Hải Ngoại
REFRESH-INTERVAL;VALUE=DURATION:PT1H
X-Robots-Tag:noindex
X-PUBLISHED-TTL:PT1H
BEGIN:VTIMEZONE
TZID:America/Los_Angeles
BEGIN:DAYLIGHT
TZOFFSETFROM:-0800
TZOFFSETTO:-0700
TZNAME:PDT
DTSTART:20220313T100000
END:DAYLIGHT
BEGIN:STANDARD
TZOFFSETFROM:-0700
TZOFFSETTO:-0800
TZNAME:PST
DTSTART:20221106T090000
END:STANDARD
BEGIN:DAYLIGHT
TZOFFSETFROM:-0800
TZOFFSETTO:-0700
TZNAME:PDT
DTSTART:20230312T100000
END:DAYLIGHT
BEGIN:STANDARD
TZOFFSETFROM:-0700
TZOFFSETTO:-0800
TZNAME:PST
DTSTART:20231105T090000
END:STANDARD
BEGIN:DAYLIGHT
TZOFFSETFROM:-0800
TZOFFSETTO:-0700
TZNAME:PDT
DTSTART:20240310T100000
END:DAYLIGHT
BEGIN:STANDARD
TZOFFSETFROM:-0700
TZOFFSETTO:-0800
TZNAME:PST
DTSTART:20241103T090000
END:STANDARD
END:VTIMEZONE
BEGIN:VEVENT
DTSTART;VALUE=DATE:20230719
DTEND;VALUE=DATE:20230720
DTSTAMP:20260425T054946
CREATED:20230526T044950Z
LAST-MODIFIED:20230526T044950Z
UID:7673-1689724800-1689811199@dongchuacuuthe.us
SUMMARY:Thứ Tư tuần 15 thường niên\, năm 1
DESCRIPTION:BÀI ĐỌC I: Xh 3\, 1-6. 9-12 \n“Chúa hiện ra trong ngọn lửa cháy từ giữa bụi gai”. \nTrích sách Xuất Hành. \nTrong những ngày ấy\, Môsê chăn chiên cho ông nhạc gia là Giêtrô\, tư tế xứ Mađian. Ông lùa đoàn chiên qua sa mạc\, đến núi Horeb là núi của Thiên Chúa. Thiên Chúa hiện ra với ông trong ngọn lửa cháy từ giữa bụi gai. Ông nhìn thấy bụi gai bốc lửa\, nhưng không bị thiêu rụi. Môsê nói: “Ta hãy lại xem cảnh tượng kỳ lạ này\, vì sao bụi gai không bị thiêu rụi?”  \nThiên Chúa thấy ông lại xem\, từ giữa bụi gai Người gọi ông: “Môsê\, Môsê!” Ông thưa: “Dạ con đây!” Chúa nói: “Ngươi đừng đến gần đây. Hãy cởi dép ở chân ra\, vì chỗ ngươi đang đứng là nơi thánh”. Chúa lại nói: “Ta là Thiên Chúa của Tổ phụ ngươi. Thiên Chúa của Abraham\, Thiên Chúa của Isaac\, Thiên Chúa của Giacóp”. Môsê che mặt\, vì không dám nhìn Thiên Chúa.  \nChúa phán với ông: “Tiếng kêu van của con cái Israel đã thấu đến Ta; Ta đã thấy họ bị người Ai-cập hà hiếp khổ cực. Bây giờ ngươi hãy lại đây\, và Ta sai ngươi đến Pharaon\, để ngươi dẫn đưa dân Ta là con cái Israel ra khỏi Ai-cập”.  \nMôsê thưa cùng Thiên Chúa rằng: “Con là ai mà dám ra trước mặt Pharaon và dẫn đưa con cái Israel ra khỏi Ai-cập?” Chúa bảo ông: “Ta sẽ ở cùng ngươi; và cứ dấu này mà biết Ta đã sai ngươi: Khi ngươi dẫn đưa dân Ta ra khỏi Ai-cập\, thì ngươi hãy tế lễ Thiên Chúa trên núi này”. Đó là lời Chúa. \nĐÁP CA: Tv 102\, 1-2. 3-4. 6-7 \nĐáp: Chúa là Đấng từ bi và hay thương xót (c. 8a). \nXướng: 1) Linh hồn tôi ơi\, hãy chúc tụng Chúa\, toàn thể con người tôi\, hãy chúc tụng thánh danh Người. Linh hồn tôi ơi\, hãy chúc tụng Chúa\, và chớ khá quên mọi ân huệ của Người. – Đáp. \n2) Người đã tha thứ cho mọi điều sai lỗi\, và chữa ngươi khỏi mọi tật nguyền. Người chuộc mạng ngươi khỏi chỗ vong thân\, Người đội đầu ngươi bằng mão từ bi\, ân sủng. – Đáp. \n3) Chúa thi hành những việc công minh\, và trả lại quyền lợi cho những người bị ức. Người tỏ cho Môsê được hay đường lối\, tỏ công cuộc Người cho con cái Israel. – Đáp. \nALLELUIA: Tv 94\, 8ab \nAlleluia\, alleluia! – Ước chi hôm nay các bạn nghe tiếng Chúa và đừng cứng lòng. – Alleluia. \nPHÚC ÂM: Mt 11\, 25-27 \n“Chúa đã giấu không cho những người khôn ngoan biết những điều ấy\, mà lại mạc khải cho những kẻ bé mọn”. \nTin Mừng Chúa Giêsu Kitô theo Thánh Matthêu. \nKhi ấy\, Chúa Giêsu thưa rằng: “Lạy Cha là Chúa trời đất\, Con xưng tụng Cha\, vì Cha đã giấu không cho những người hiền triết và khôn ngoan biết những điều ấy\, mà lại mạc khải cho những kẻ bé mọn. Vâng\, lạy Cha\, vì ý Cha muốn như vậy. Mọi sự đã được Cha Ta trao phó cho Ta. Và không ai biết Con trừ ra Cha; và cũng không ai biết Cha trừ ra Con và kẻ Con muốn mạc khải cho”. Đó là lời Chúa.
URL:https://dongchuacuuthe.us/calendar/thu-tu-tuan-15-thuong-nien-nam-1/
END:VEVENT
BEGIN:VEVENT
DTSTART;VALUE=DATE:20230719
DTEND;VALUE=DATE:20230720
DTSTAMP:20260425T054946
CREATED:20230526T051046Z
LAST-MODIFIED:20230526T051046Z
UID:7740-1689724800-1689811199@dongchuacuuthe.us
SUMMARY:Wednesday of the Fifteenth Week in Ordinary Time
DESCRIPTION:Reading 1\nEx 3:1-6\, 9-12\n\nMoses was tending the flock of his father-in-law Jethro\, the priest of Midian.\nLeading the flock across the desert\, he came to Horeb\,\nthe mountain of God.\nThere an angel of the LORD appeared to him in fire\nflaming out of a bush.\nAs he looked on\, he was surprised to see that the bush\,\nthough on fire\, was not consumed.\nSo Moses decided\,\n“I must go over to look at this remarkable sight\,\nand see why the bush is not burned.” \nWhen the LORD saw him coming over to look at it more closely\,\nGod called out to him from the bush\, “Moses! Moses!”\nHe answered\, “Here I am.”\nGod said\, “Come no nearer!\nRemove the sandals from your feet\,\nfor the place where you stand is holy ground.\nI am the God of your father\,” he continued\,\n“the God of Abraham\, the God of Isaac\, the God of Jacob.\nThe cry of the children of Israel has reached me\,\nand I have truly noted that the Egyptians are oppressing them.\nCome\, now! I will send you to Pharaoh to lead my people\,\nthe children of Israel\, out of Egypt.” \nBut Moses said to God\,\n“Who am I that I should go to Pharaoh\nand lead the children of Israel out of Egypt?”\nHe answered\, “I will be with you;\nand this shall be your proof that it is I who have sent you:\nwhen you bring my people out of Egypt\,\nyou will worship God on this very mountain.” \n\n\n\n\n\n\n\n\n\n\n\nResponsorial Psalm\nPs 103:1b-2\, 3-4\, 6-7\n\nR. (8a) The Lord is kind and merciful.\nBless the LORD\, O my soul;\nand all my being\, bless his holy name.\nBless the LORD\, O my soul\,\nand forget not all his benefits.\nR. The Lord is kind and merciful.\nHe pardons all your iniquities\,\nhe heals all your ills.\nHe redeems your life from destruction\,\nhe crowns you with kindness and compassion.\nR. The Lord is kind and merciful.\nThe LORD secures justice\nand the rights of all the oppressed.\nHe has made known his ways to Moses\,\nand his deeds to the children of Israel.\nR. The Lord is kind and merciful.\n\n\n\n\n\n\n\n\n\n\n\nAlleluia\nSee Mt 11:25\n\nR. Alleluia\, alleluia.\nBlessed are you\, Father\, Lord of heaven and earth;\nyou have revealed to little ones the mysteries of the Kingdom.\nR. Alleluia\, alleluia.\n\n\n\n\n\n\n\n\n\n\n\nGospel\nMt 11:25-27\n\nAt that time Jesus exclaimed:\n“I give praise to you\, Father\, Lord of heaven and earth\,\nfor although you have hidden these things\nfrom the wise and the learned\nyou have revealed them to the childlike.\nYes\, Father\, such has been your gracious will.\nAll things have been handed over to me by my Father.\nNo one knows the Son except the Father\,\nand no one knows the Father except the Son\nand anyone to whom the Son wishes to reveal him.”
URL:https://dongchuacuuthe.us/calendar/wednesday-of-the-fifteenth-week-in-ordinary-time/
END:VEVENT
END:VCALENDAR