BEGIN:VCALENDAR
VERSION:2.0
PRODID:-//Dòng Chúa Cứu Thế Hải Ngoại - ECPv6.15.20//NONSGML v1.0//EN
CALSCALE:GREGORIAN
METHOD:PUBLISH
X-WR-CALNAME:Dòng Chúa Cứu Thế Hải Ngoại
X-ORIGINAL-URL:https://dongchuacuuthe.us
X-WR-CALDESC:Events for Dòng Chúa Cứu Thế Hải Ngoại
REFRESH-INTERVAL;VALUE=DURATION:PT1H
X-Robots-Tag:noindex
X-PUBLISHED-TTL:PT1H
BEGIN:VTIMEZONE
TZID:America/Los_Angeles
BEGIN:DAYLIGHT
TZOFFSETFROM:-0800
TZOFFSETTO:-0700
TZNAME:PDT
DTSTART:20220313T100000
END:DAYLIGHT
BEGIN:STANDARD
TZOFFSETFROM:-0700
TZOFFSETTO:-0800
TZNAME:PST
DTSTART:20221106T090000
END:STANDARD
BEGIN:DAYLIGHT
TZOFFSETFROM:-0800
TZOFFSETTO:-0700
TZNAME:PDT
DTSTART:20230312T100000
END:DAYLIGHT
BEGIN:STANDARD
TZOFFSETFROM:-0700
TZOFFSETTO:-0800
TZNAME:PST
DTSTART:20231105T090000
END:STANDARD
BEGIN:DAYLIGHT
TZOFFSETFROM:-0800
TZOFFSETTO:-0700
TZNAME:PDT
DTSTART:20240310T100000
END:DAYLIGHT
BEGIN:STANDARD
TZOFFSETFROM:-0700
TZOFFSETTO:-0800
TZNAME:PST
DTSTART:20241103T090000
END:STANDARD
END:VTIMEZONE
BEGIN:VEVENT
DTSTART;VALUE=DATE:20230711
DTEND;VALUE=DATE:20230712
DTSTAMP:20260425T054949
CREATED:20230526T044603Z
LAST-MODIFIED:20230526T044603Z
UID:7657-1689033600-1689119999@dongchuacuuthe.us
SUMMARY:Thứ Ba tuần 14 thường niên\, năm 1
DESCRIPTION:BÀI ĐỌC I: St 32\, 22-32 (Hr 23-33) \n“Tên ông sẽ được gọi là Israel\, vì ông có sức mạnh chống lại Thiên Chúa”. \nTrích sách Sáng Thế. \nTrong những ngày ấy\, Giacóp chỗi dậy sớm\, đem hai vợ\, hai người đầy tớ gái\, và mười một người con đi sang qua khe suối Giabốc. Sau khi dẫn họ và đem tất cả của cải qua bên kia suối\, ông ở lại một mình\, và đây\, có một người vật lộn với ông cho đến sáng. Người ấy thấy mình không thể vật ngã Giacóp được\, nên đá vào gân đùi ông\, và lập tức gân ấy khô bại. Người ấy nói với ông rằng: “Hãy buông ta ra\, vì đã hừng đông rồi”. Ông trả lời: “Tôi chỉ buông ông ra khi nào ông chúc lành cho tôi”. Vậy người ấy hỏi: “Ông tên gì?” Ông trả lời: “Tôi tên là Giacóp”. Người ấy lại nói: “Tên ông sẽ không còn gọi là Giacóp nữa\, nhưng sẽ gọi là Israel\, vì nếu ông có sức mạnh chống lại Thiên Chúa\, ắt ông sẽ còn mạnh sức thắng được loài người”. Giacóp hỏi người ấy: “Xin ông cho tôi biết ông tên gì?” Người ấy đáp: “Tại sao ông lại hỏi tên ta?” Bấy giờ người ấy chúc lành cho Giacóp chính nơi ấy. Giacóp đặt tên cho nơi ấy là Phanuel\, và bảo rằng: “Tôi đã thấy Chúa nhãn tiền mà mạng sống tôi vẫn an toàn”.  \nKhi ông đã ra khỏi Phanuel\, thì mặt trời liền mọc lên\, nhưng ông đi khập khễnh một chân. Vì lẽ đó\, con cái Israel không ăn gân đùi cho đến ngày nay\, vì gân đùi Giacóp bị khô bại: bởi thiên thần đã đá vào gân đùi ông\, nên ông bị bại. Đó là lời Chúa. \n\nĐÁP CA: Tv 16\, 1. 2-3. 6-7. 8b và15 \nĐáp: Phần con\, nhờ công chính\, sẽ được thấy thiên nhan (c. 15a). \nXướng: 1) Lạy Chúa\, xin nghe điều chính nghĩa của con; xin để ý đến lời con kêu cứu\, lắng tai nghe con thốt ra từ cặp môi chân thành! – Đáp. \n2) Từ cái nhìn của Chúa hãy diễn ra sự phán quyết về con: vì mắt Ngài thấy rõ điều chân chính. Nếu Ngài lục soát lòng con\, nếu ban đêm Ngài thăm viếng\, nếu Ngài thử con trong lửa\, Ngài sẽ không gặp điều gian ác ở nơi con. – Đáp. \n3) Con kêu van Ngài\, bởi Ngài nhậm lời con; lạy Chúa\, xin lắng tai về bên con\, xin nghe rõ tiếng con. Xin tỏ ra đức từ bi lạ lùng của Chúa\, là Đấng giải thoát khỏi bọn đối phương những ai tìm nương tựa tay hữu của Ngài. – Đáp. \n4) Xin che chở con trong bóng cánh tay Ngài. Phần con\, nhờ công chính\, sẽ được thấy thiên nhan; khi thức giấc\, con no thoả nhìn chân dung Chúa. – Đáp. \n\nALLELUIA: Ga 10\, 27 \nAlleluia\, alleluia! – Chúa phán: “Con chiên Ta thì nghe tiếng Ta; Ta biết chúng và chúng biết Ta”. – Alleluia. \n\nPHÚC ÂM: Mt 9\, 32-38 \n“Lúa chín đầy đồng mà thợ gặt thì ít”. \nTin Mừng Chúa Giêsu Kitô theo Thánh Matthêu. \nKhi ấy\, người ta đem đến Chúa Giêsu một người câm bị quỷ ám. Khi đã trừ quỷ\, thì người câm nói được\, đám đông dân chúng kinh ngạc và nói rằng: “Chưa bao giờ thấy xảy ra như vậy trong dân Israel”. Nhưng các người biệt phái nói rằng: “Ông ta đã nhờ tướng quỷ mà trừ quỷ”.  \nVà Chúa Giêsu đi rảo khắp các thành phố làng mạc\, dạy dỗ trong các hội đường\, rao giảng Tin Mừng Nước Trời\, và chữa lành mọi bệnh hoạn tật nguyền. Thấy đoàn lũ dân chúng\, Người động lòng xót thương họ\, vì họ tất tưởi bơ vơ như những con chiên không có người chăn. Người liền bảo môn đệ rằng: “Lúa chín đầy đồng\, mà thợ gặt thì ít. Các con hãy xin chủ ruộng sai thợ đi gặt lúa”. \nĐó là lời Chúa.
URL:https://dongchuacuuthe.us/calendar/thu-ba-tuan-14-thuong-nien-nam-1/
END:VEVENT
BEGIN:VEVENT
DTSTART;VALUE=DATE:20230711
DTEND;VALUE=DATE:20230712
DTSTAMP:20260425T054949
CREATED:20230526T050644Z
LAST-MODIFIED:20230526T050644Z
UID:7724-1689033600-1689119999@dongchuacuuthe.us
SUMMARY:Memorial of Saint Benedict\, Abbot
DESCRIPTION:Reading 1\nGn 32:23-33\n\nIn the course of the night\, Jacob arose\, took his two wives\,\nwith the two maidservants and his eleven children\,\nand crossed the ford of the Jabbok.\nAfter he had taken them across the stream\nand had brought over all his possessions\,\nJacob was left there alone.\nThen some man wrestled with him until the break of dawn.\nWhen the man saw that he could not prevail over him\,\nhe struck Jacob’s hip at its socket\,\nso that the hip socket was wrenched as they wrestled.\nThe man then said\, “Let me go\, for it is daybreak.”\nBut Jacob said\, “I will not let you go until you bless me.”\nThe man asked\, “What is your name?”\nHe answered\, “Jacob.”\nThen the man said\,\n“You shall no longer be spoken of as Jacob\, but as Israel\,\nbecause you have contended with divine and human beings\nand have prevailed.”\nJacob then asked him\, “Do tell me your name\, please.”\nHe answered\, “Why should you want to know my name?”\nWith that\, he bade him farewell.\nJacob named the place Peniel\,\n“Because I have seen God face to face\,” he said\,\n“yet my life has been spared.” \nAt sunrise\, as he left Penuel\,\nJacob limped along because of his hip.\nThat is why\, to this day\, the children of Israel do not eat\nthe sciatic muscle that is on the hip socket\,\ninasmuch as Jacob’s hip socket was struck at the sciatic muscle. \n\n\n\n\n\n\n\n\n\n\n\nResponsorial Psalm\nPs 17:1b\, 2-3\, 6-7ab\, 8b and 15\n\nR. (15a) In justice\, I shall behold your face\, O Lord.\nHear\, O LORD\, a just suit;\nattend to my outcry;\nhearken to my prayer from lips without deceit.\nR. In justice\, I shall behold your face\, O Lord.\nFrom you let my judgment come;\nyour eyes behold what is right.\nThough you test my heart\, searching it in the night\,\nthough you try me with fire\, you shall find no malice in me.\nR. In justice\, I shall behold your face\, O Lord.\nI call upon you\, for you will answer me\, O God;\nincline your ear to me; hear my word.\nShow your wondrous mercies\,\nO savior of those who flee from their foes.\nR. In justice\, I shall behold your face\, O Lord.\nHide me in the shadow of your wings.\nI in justice shall behold your face;\non waking\, I shall be content in your presence.\nR. In justice\, I shall behold your face\, O Lord.\n\n\n\n\n\n\n\n\n\n\n\nAlleluia\nJn 10:14\n\nR. Alleluia\, alleluia.\nI am the good shepherd\, says the Lord;\nI know my sheep\, and mine know me.\nR. Alleluia\, alleluia.\n\n\n\n\n\n\n\n\n\n\n\nGospel\nMt 9:32-38\n\nA demoniac who could not speak was brought to Jesus\,\nand when the demon was driven out the mute man spoke.\nThe crowds were amazed and said\,\n“Nothing like this has ever been seen in Israel.”\nBut the Pharisees said\,\n“He drives out demons by the prince of demons.” \nJesus went around to all the towns and villages\,\nteaching in their synagogues\,\nproclaiming the Gospel of the Kingdom\,\nand curing every disease and illness.\nAt the sight of the crowds\, his heart was moved with pity for them\nbecause they were troubled and abandoned\,\nlike sheep without a shepherd.\nThen he said to his disciples\,\n“The harvest is abundant but the laborers are few;\nso ask the master of the harvest\nto send out laborers for his harvest.”
URL:https://dongchuacuuthe.us/calendar/memorial-of-saint-benedict-abbot/
END:VEVENT
END:VCALENDAR