BEGIN:VCALENDAR
VERSION:2.0
PRODID:-//Dòng Chúa Cứu Thế Hải Ngoại - ECPv6.15.20//NONSGML v1.0//EN
CALSCALE:GREGORIAN
METHOD:PUBLISH
X-ORIGINAL-URL:https://dongchuacuuthe.us
X-WR-CALDESC:Events for Dòng Chúa Cứu Thế Hải Ngoại
REFRESH-INTERVAL;VALUE=DURATION:PT1H
X-Robots-Tag:noindex
X-PUBLISHED-TTL:PT1H
BEGIN:VTIMEZONE
TZID:America/Los_Angeles
BEGIN:DAYLIGHT
TZOFFSETFROM:-0800
TZOFFSETTO:-0700
TZNAME:PDT
DTSTART:20220313T100000
END:DAYLIGHT
BEGIN:STANDARD
TZOFFSETFROM:-0700
TZOFFSETTO:-0800
TZNAME:PST
DTSTART:20221106T090000
END:STANDARD
BEGIN:DAYLIGHT
TZOFFSETFROM:-0800
TZOFFSETTO:-0700
TZNAME:PDT
DTSTART:20230312T100000
END:DAYLIGHT
BEGIN:STANDARD
TZOFFSETFROM:-0700
TZOFFSETTO:-0800
TZNAME:PST
DTSTART:20231105T090000
END:STANDARD
BEGIN:DAYLIGHT
TZOFFSETFROM:-0800
TZOFFSETTO:-0700
TZNAME:PDT
DTSTART:20240310T100000
END:DAYLIGHT
BEGIN:STANDARD
TZOFFSETFROM:-0700
TZOFFSETTO:-0800
TZNAME:PST
DTSTART:20241103T090000
END:STANDARD
END:VTIMEZONE
BEGIN:VEVENT
DTSTART;VALUE=DATE:20230703
DTEND;VALUE=DATE:20230704
DTSTAMP:20260425T054945
CREATED:20230526T043536Z
LAST-MODIFIED:20230526T043536Z
UID:7641-1688342400-1688428799@dongchuacuuthe.us
SUMMARY:Lễ Thánh Tôma\, Tông Đồ\, Lễ Kính
DESCRIPTION:BÀI ĐỌC I: Ep 2\, 19-22\n“Anh em được xây dựng trên nền tảng các tông đồ”. \nTrích thư Thánh Phaolô Tông đồ gửi tín hữu Êphêxô. \nAnh em thân mến\, anh em không còn là khách trọ và khách qua đường nữa\, nhưng là người đồng hương với các Thánh và là người nhà của Thiên Chúa: anh em đã được xây dựng trên nền tảng các Tông đồ và các Tiên tri\, có chính Đức Giêsu Kitô làm Đá góc tường. Trong Người\, tất cả toà nhà được xây dựng cao lên thành đền thánh trong Chúa\, trong Người\, cả anh em cũng được xây dựng làm một với nhau\, để trở thành nơi Thiên Chúa ngự trong Thánh Thần. Đó là lời Chúa. \nĐÁP CA: Tv 116\, 1. 2\nĐáp: Hãy đi rao giảng Tin Mừng khắp thế gian (Mc 16\, 15). \nXướng: 1) Hỡi muôn dân\, hãy ngợi khen Chúa! Hỡi ngàn dân\, hãy ca tụng Người. – Đáp. \n2) Vì lòng từ bi Người vững bền trên chúng ta\, và lòng trung kiên Người tồn tại đến muôn đời. – Đáp. \nALLELUIA: Ga 20\, 29\nAlleluia\, alleluia! – Tôma\, vì con đã xem thấy Thầy nên con đã tin. Phúc cho những ai đã không thấy mà tin. – Alleluia. \nPHÚC ÂM: Ga 20\, 24-29\n“Lạy Chúa con\, lạy Thiên Chúa của con!” \nTin Mừng Chúa Giêsu Kitô theo Thánh Gioan. \nBấy giờ trong Mười Hai Tông đồ\, có ông Tôma gọi là Điđy-mô\, không ở cùng với các ông\, khi Chúa Giêsu hiện đến. Các môn đệ khác đã nói với ông rằng: “Chúng tôi đã xem thấy Chúa”. Nhưng ông đã nói với các ông kia rằng: “Nếu tôi không nhìn thấy vết đinh ở tay Người\, nếu tôi không thọc ngón tay vào lỗ đinh\, nếu tôi không thọc bàn tay vào cạnh sườn Người thì tôi không tin”. Tám ngày sau\, các môn đệ lại họp nhau trong nhà\, và có Tôma ở với các ông. Trong khi các cửa vẫn đóng kín\, Chúa Giêsu hiện đến đứng giữa mà phán: “Bình an cho các con”. Đoạn Người nói với Tôma: “Hãy xỏ ngón tay vào đây và hãy xem tay Thầy; hãy đưa bàn tay con ra và xỏ vào cạnh sườn Thầy; chớ cứng lòng\, nhưng hãy tin”. Tôma thưa rằng: “Lạy Chúa con\, lạy Thiên Chúa của con!” Chúa Giêsu nói với ông: “Tôma\, vì con đã thấy Thầy nên con đã tin. Phúc cho những ai đã không thấy mà tin”. Đó là lời Chúa. \n  \nTh. Tô-ma\, tông đồ Ga 20\,24-29\nCẦN DẤU CHỨNG CHO NIỀM TIN  \n“Nếu tôi không thấy dấu đinh ở tay Người\, nếu tôi không xỏ ngón tay vào lỗ đinh\, không đặt bàn tay vào cạnh sườn Người\, tôi chẳng có tin.” (Ga 20\,25) \nSuy niệm: Cứ mỗi lần nghe bài Tin Mừng này là Tô-ma lại bị “ném đá\,” bị lên án là kẻ cứng lòng tin. Xem ra Tô-ma là người rất thực tế. Nghe các bạn kể lại\, hẳn Tô-ma không khỏi thắc mắc: ‘Các anh đã thấy Chúa sống lại rồi\, tại sao phải sợ hãi\, đóng cửa kỹ lưỡng? Tại sao không mở cửa\, bước ra ngoài để loan báo Tin Mừng Chúa sống lại cho mọi người nghe mà tin? Đâu là bằng chứng đức tin của các anh?’ Tô-ma không thấy sự thay đổi đáng kể nào nơi các tông đồ\, nên không tin. Con người ngày nay cũng thực tế như Tô-ma\, cần bằng chứng nơi đời sống của người Ki-tô hữu. Nếu đức tin nơi ta không biểu lộ cách rõ ràng\, thì làm sao con người thời đại hôm nay nhận biết Chúa được? \nMời Bạn: Dấu chứng cho thấy người Ki-tô hữu có Chúa là lòng sẵn sàng chia sẻ tiền bạc\, thời giờ\, công việc chung\, cùng với khuôn mặt rạng rỡ\, vui tươi\, lời nói hiền từ ngay cả trong nghịch cảnh. Bạn đã thực hiện dấu chứng này chưa? Nếu chưa\, bạn sẽ làm gì để có? \nSống Lời Chúa: Tôi sẽ bày tỏ niềm vui có Chúa\, được biết Tin Mừng Nước Trời của Ngài qua thái độ vui tươi trong mọi tình huống của cuộc sống\, cũng như qua lòng quảng đại với mọi người. \nCầu nguyện:Lạy Chúa Giê-su\, xin cho con thể hiện niềm tin vào Chúa nơi gương mặt tươi vui của con\, vì buồn phiền\, thất vọng là điều trái ngược với niềm tin.  Xin cho con biết mạnh dạn dấn thân nói về Chúa cho người khác\, vì không dấn thân\, đức tin của con là đức tin chết. Xin cho cuộc đời con mang nhiều dấu chứng niềm tin của con. Amen.
URL:https://dongchuacuuthe.us/calendar/le-thanh-toma-tong-do-le-kinh/
END:VEVENT
BEGIN:VEVENT
DTSTART;VALUE=DATE:20230703
DTEND;VALUE=DATE:20230704
DTSTAMP:20260425T054945
CREATED:20230526T045903Z
LAST-MODIFIED:20230526T045903Z
UID:7703-1688342400-1688428799@dongchuacuuthe.us
SUMMARY:Feast of Saint Thomas\, Apostle
DESCRIPTION:Reading 1\nEph 2:19-22\n\nBrothers and sisters:\nYou are no longer strangers and sojourners\,\nbut you are fellow citizens with the holy ones\nand members of the household of God\,\nbuilt upon the foundation of the Apostles and prophets\,\nwith Christ Jesus himself as the capstone.\nThrough him the whole structure is held together\nand grows into a temple sacred in the Lord;\nin him you also are being built together\ninto a dwelling place of God in the Spirit.\n\n\n\n\n\n\n\n\n\n\n\nResponsorial Psalm\nPs 117:1bc\, 2\n\nR. (Mark 16:15) Go out to all the world and tell the Good News.\nPraise the LORD\, all you nations;\nglorify him\, all you peoples!\nR. Go out to all the world and tell the Good News.\nFor steadfast is his kindness for us\,\nand the fidelity of the LORD endures forever.\nR. Go out to all the world and tell the Good News.\n\n\n\n\n\n\n\n\n\n\n\nAlleluia\nJn 20:29\n\nR. Alleluia\, alleluia.\nYou believe in me\, Thomas\, because you have seen me\, says the Lord;\nblessed are those who have not seen\, but still believe!\nR. Alleluia\, alleluia.\n\n\n\n\n\n\n\n\n\n\n\nGospel\nJn 20:24-29\n\nThomas\, called Didymus\, one of the Twelve\,\nwas not with them when Jesus came.\nSo the other disciples said to him\, “We have seen the Lord.”\nBut Thomas said to them\,\n“Unless I see the mark of the nails in his hands\nand put my finger into the nailmarks\nand put my hand into his side\, I will not believe.”\nNow a week later his disciples were again inside\nand Thomas was with them.\nJesus came\, although the doors were locked\,\nand stood in their midst and said\, “Peace be with you.”\nThen he said to Thomas\, “Put your finger here and see my hands\,\nand bring your hand and put it into my side\,\nand do not be unbelieving\, but believe.”\nThomas answered and said to him\, “My Lord and my God!”\nJesus said to him\, “Have you come to believe because you have seen me?\nBlessed are those who have not seen and have believed.”
URL:https://dongchuacuuthe.us/calendar/feast-of-saint-thomas-apostle/
END:VEVENT
END:VCALENDAR