BEGIN:VCALENDAR
VERSION:2.0
PRODID:-//Dòng Chúa Cứu Thế Hải Ngoại - ECPv6.15.20//NONSGML v1.0//EN
CALSCALE:GREGORIAN
METHOD:PUBLISH
X-ORIGINAL-URL:https://dongchuacuuthe.us
X-WR-CALDESC:Events for Dòng Chúa Cứu Thế Hải Ngoại
REFRESH-INTERVAL;VALUE=DURATION:PT1H
X-Robots-Tag:noindex
X-PUBLISHED-TTL:PT1H
BEGIN:VTIMEZONE
TZID:America/Los_Angeles
BEGIN:DAYLIGHT
TZOFFSETFROM:-0800
TZOFFSETTO:-0700
TZNAME:PDT
DTSTART:20220313T100000
END:DAYLIGHT
BEGIN:STANDARD
TZOFFSETFROM:-0700
TZOFFSETTO:-0800
TZNAME:PST
DTSTART:20221106T090000
END:STANDARD
BEGIN:DAYLIGHT
TZOFFSETFROM:-0800
TZOFFSETTO:-0700
TZNAME:PDT
DTSTART:20230312T100000
END:DAYLIGHT
BEGIN:STANDARD
TZOFFSETFROM:-0700
TZOFFSETTO:-0800
TZNAME:PST
DTSTART:20231105T090000
END:STANDARD
BEGIN:DAYLIGHT
TZOFFSETFROM:-0800
TZOFFSETTO:-0700
TZNAME:PDT
DTSTART:20240310T100000
END:DAYLIGHT
BEGIN:STANDARD
TZOFFSETFROM:-0700
TZOFFSETTO:-0800
TZNAME:PST
DTSTART:20241103T090000
END:STANDARD
END:VTIMEZONE
BEGIN:VEVENT
DTSTART;VALUE=DATE:20230630
DTEND;VALUE=DATE:20230701
DTSTAMP:20260425T054947
CREATED:20230522T051406Z
LAST-MODIFIED:20230522T051406Z
UID:7440-1688083200-1688169599@dongchuacuuthe.us
SUMMARY:Thứ Sáu Tuần XII Thường Niên Năm I
DESCRIPTION:BÀI ĐỌC I: St 17\, 1. 9-10. 15-22 \n“Mọi đứa con sẽ chịu cắt bì để làm dấu giao ước. Sara sẽ sinh cho ngươi đứa con trai”. \nTrích sách Sáng Thế. \nKhi Abram vừa được chín mươi chín tuổi\, Chúa hiện ra với ông và phán bảo ông rằng: “Ta là Chúa toàn năng\, hãy đi trước mặt Ta và hãy nên trọn lành”.  \nChúa lại phán bảo Abraham rằng: “Vậy ngươi và dòng dõi ngươi qua muôn thế hệ\, hãy giữ giao ước của Ta. Đây là giao ước phải giữ giữa Ta với ngươi\, nghĩa là dòng dõi ngươi sau này: Tất cả con trai của các ngươi sẽ chịu cắt bì”.  \nChúa lại bảo Abraham rằng: “Ngươi sẽ không còn gọi Sarai vợ ngươi là Sarai nữa\, nhưng gọi là Sara. Ta sẽ chúc phúc cho Sara; và Sara sẽ sinh một con trai; Ta sẽ chúc phúc đứa con đó\, nó sẽ làm đầu nhiều dân\, và do nó sẽ sinh ra nhiều vua nhiều nước”. Abraham cúi mặt cười\, nghĩ trong lòng rằng: “Già đã trăm tuổi mà còn có con được sao? Sara đã chín mươi tuổi sẽ sinh con ư?” Rồi ông thưa cùng Chúa: “Xin Chúa cho Ismael được sống trước mặt Chúa!” Chúa phán bảo Abraham rằng: “Sara vợ ngươi sẽ sinh cho ngươi một con trai\, ngươi đặt tên nó là Isaac. Ta sẽ lập giao ước muôn đời với nó và dòng dõi nó. Ta cũng nghe lời ngươi cầu cho Ismael: này Ta sẽ chúc phúc cho nó sinh sản nhiều. Nó sẽ sinh ra mười hai tướng quân\, và Ta sẽ làm cho nó nên một dân tộc lớn. Còn lời giao ước của Ta chỉ ký kết với Isaac\, do Sara sẽ sinh ra cho ngươi mùa này sang năm”. Sau khi nói hết lời cùng Abraham\, Thiên Chúa biến đi. Đó là lời Chúa. \nĐÁP CA: Tv 127\, 1-2. 3. 4-5 \nĐáp: Đó là phúc lộc dành để cho người biết tôn sợ Đức Thiên Chúa (c. 4). \nXướng: 1) Phúc thay những bạn nào tôn sợ Thiên Chúa\, bạn nào ăn ở theo đường lối của Người. Công quả tay bạn làm ra bạn an hưởng\, bạn được hạnh phúc và sẽ gặp may. – Đáp. \n2) Hiền thê bạn như cây nho đầy hoa trái\, trong gia thất nội cung nhà bạn; con cái bạn như những chồi non của khóm ô liu\, ở chung quanh bàn ăn của bạn. – Đáp. \n3) Đó là phúc lộc dành để cho người biết tôn sợ Đức Thiên Chúa. Nguyện xin Thiên Chúa từ Sion chúc phúc cho bạn\, để bạn nhìn thấy cảnh thịnh đạt của Giêrusalem hết mọi ngày trong đời sống của bạn. – Đáp. \nALLELUIA: Ga 8\, 12 \nAlleluia\, alleluia! – Chúa phán: “Ta là sự sáng thế gian\, ai theo Ta\, sẽ được ánh sáng ban sự sống”. – Alleluia. \nPHÚC ÂM: Mt 8\, 1-4 \n“Nếu Ngài muốn\, Ngài có thể chữa tôi được sạch”. \nTin Mừng Chúa Giêsu Kitô theo Thánh Matthêu. \nKhi Chúa Giêsu ở trên núi xuống\, đám đông dân chúng theo Người. Có một người cùi đến lạy Người mà thưa rằng: “Lạy Ngài\, nếu Ngài muốn\, Ngài có thể chữa tôi được sạch”. Chúa Giêsu giơ tay ra chạm đến anh ta và phán: “Ta muốn. Anh hãy lành bệnh”. Tức thì anh ta liền lành khỏi bệnh phong cùi. Chúa Giêsu phán bảo anh ta: “Hãy ý tứ\, đừng nói với ai. Hãy đi trình diện với tư tế và dâng của lễ theo luật Môsê để minh chứng cho họ biết”. Đó là lời Chúa. \nTHỨ SÁU TUẦN 12 TN\nMt 8\,1-4\nCHẠY ĐẾN VỚI CHÚA \nCó một người phong hủi tiến lại\, bái lạy Chúa Giêsu và nói: “Thưa Ngài\, nếu Ngài muốn\, Ngài có thể làm cho tôi được sạch.” Chúa Giêsu giơ tay đụng vào anh và bảo: “Tôi muốn” (Mt 8\, 2-3) \nSuy niệm: Thật ngạc nhiên\, người phong hủi lại chạy đến với Chúa! Theo luật Do Thái thời Chúa Giê-su\, người bị phung hủi phải ở riêng một nơi và không được có lều trại\, đồng thời không được tiếp xúc với ai\, thậm chí có người nào đến thì phải thét lớn tiếng để báo cho họ tránh xa. Vậy mà người phung hủi trong Tin Mừng hôm nay thật lạ lùng\, anh chạy đến với Chúa Giê-su\, chứ không lánh mặt Ngài. Tại sao vậy? – vì anh hết sức mong mỏi được chữa lành. Bị phung hủi\, anh mất hạnh phúc\, cuộc đời anh tàn lụi và bị cách ly khỏi thế giới con người. Sống giữa thế giới\, nhưng thực ra\, anh đang sống cô độc\, mà cơn bệnh phung hủi đã cách ly anh với thế giới. Do đó\, anh khát khao được chữa lành và đối với anh\, chỉ có Chúa Giê-su mới là niềm hy vọng của anh. – Anh chạy đến vì anh tin tưởng vào lời Chúa hứa ban Đấng Mê-si-a cho thế giới. Đấng Mê-si-a sẽ rao giảng Tin Mừng cho người nghèo khốn\, trả tự do cho kẻ bị giam cầm\, chữa lành những tâm hồn thương tích. Anh nghe biết Chúa Giê-su là Đấng Mê-si-a\, nên anh chạy đến với Ngài. – Anh chạy đến với Chúa Giê-su vì tin tưởng Chúa yêu thương và chữa lành cho anh\, dù rằng Chúa sẽ đòi buộc anh phải trở về và đừng phạm tội nữa hay yêu cầu anh hãy đi trình diện với các thầy tư tế. Anh chấp nhận thay đổi\, miễn sao được Chúa chữa lành\, tha thứ. \nSống Lời Chúa: Đến lãnh bí tích Giải tội với lòng khao khát được thứ tha. \nCầu nguyện: Lạy Thánh Tâm Chúa Giê-su\, xin thương xót con. \nThực hành – chạy đến Thánh Tâm Chúa trong bất cứ hoàn cảnh nào.
URL:https://dongchuacuuthe.us/calendar/thu-sau-tuan-xii-thuong-nien-nam-i/
END:VEVENT
BEGIN:VEVENT
DTSTART;VALUE=DATE:20230630
DTEND;VALUE=DATE:20230701
DTSTAMP:20260425T054947
CREATED:20230522T060437Z
LAST-MODIFIED:20230522T060437Z
UID:7529-1688083200-1688169599@dongchuacuuthe.us
SUMMARY:Friday of the Twelfth Week in Ordinary Time
DESCRIPTION:Reading I\nGn 17:1\, 9-10\, 15-22\n\n\nWhen Abram was ninety-nine years old\, the LORD appeared to him\nand said: “I am God the Almighty.\nWalk in my presence and be blameless.” \nGod also said to Abraham:\n“On your part\, you and your descendants after you\nmust keep my covenant throughout the ages.\nThis is my covenant with you and your descendants after you\nthat you must keep:\nevery male among you shall be circumcised.” \nGod further said to Abraham:\n“As for your wife Sarai\, do not call her Sarai;\nher name shall be Sarah.\nI will bless her\, and I will give you a son by her.\nHim also will I bless; he shall give rise to nations\,\nand rulers of peoples shall issue from him.”\nAbraham prostrated himself and laughed as he said to himself\,\n“Can a child be born to a man who is a hundred years old?\nOr can Sarah give birth at ninety?”\nThen Abraham said to God\,\n“Let but Ishmael live on by your favor!”\nGod replied: “Nevertheless\, your wife Sarah is to bear you a son\,\nand you shall call him Isaac.\nI will maintain my covenant with him as an everlasting pact\,\nto be his God and the God of his descendants after him.\nAs for Ishmael\, I am heeding you: I hereby bless him.\nI will make him fertile and will multiply him exceedingly.\nHe shall become the father of twelve chieftains\,\nand I will make of him a great nation.\nBut my covenant I will maintain with Isaac\,\nwhom Sarah shall bear to you by this time next year.”\nWhen he had finished speaking with him\, God departed from Abraham. \n\n\n\n\n\n\n\n\n\n\n\n\nResponsorial Psalm\n128:1-2\, 3\, 4-5\n\n\nR. (4) See how the Lord blesses those who fear him.\nBlessed are you who fear the LORD\,\nwho walk in his ways!\nFor you shall eat the fruit of your handiwork;\nblessed shall you be\, and favored.\nR. See how the Lord blesses those who fear him.\nYour wife shall be like a fruitful vine\nin the recesses of your home;\nYour children like olive plants\naround your table.\nR. See how the Lord blesses those who fear him.\nBehold\, thus is the man blessed\nwho fears the LORD.\nThe LORD bless you from Zion:\nmay you see the prosperity of Jerusalem\nall the days of your life.\nR. See how the Lord blesses those who fear him. \n\n\n\n\n\n\n\n\n\n\n\n\nAlleluia\nMt 8:17\n\n\nR. Alleluia\, alleluia.\nChrist took away our infirmities\nand bore our diseases.\nR. Alleluia\, alleluia. \n\n\n\n\n\n\n\n\n\n\n\n\nGospel\nMt 8:1-4\n\n\nWhen Jesus came down from the mountain\, great crowds followed him.\nAnd then a leper approached\, did him homage\, and said\,\n“Lord\, if you wish\, you can make me clean.”\nHe stretched out his hand\, touched him\, and said\,\n“I will do it. Be made clean.”\nHis leprosy was cleansed immediately.\nThen Jesus said to him\, “See that you tell no one\,\nbut go show yourself to the priest\,\nand offer the gift that Moses prescribed;\nthat will be proof for them.”
URL:https://dongchuacuuthe.us/calendar/friday-of-the-twelfth-week-in-ordinary-time/
END:VEVENT
END:VCALENDAR