BEGIN:VCALENDAR
VERSION:2.0
PRODID:-//Dòng Chúa Cứu Thế Hải Ngoại - ECPv6.15.20//NONSGML v1.0//EN
CALSCALE:GREGORIAN
METHOD:PUBLISH
X-ORIGINAL-URL:https://dongchuacuuthe.us
X-WR-CALDESC:Events for Dòng Chúa Cứu Thế Hải Ngoại
REFRESH-INTERVAL;VALUE=DURATION:PT1H
X-Robots-Tag:noindex
X-PUBLISHED-TTL:PT1H
BEGIN:VTIMEZONE
TZID:America/Los_Angeles
BEGIN:DAYLIGHT
TZOFFSETFROM:-0800
TZOFFSETTO:-0700
TZNAME:PDT
DTSTART:20220313T100000
END:DAYLIGHT
BEGIN:STANDARD
TZOFFSETFROM:-0700
TZOFFSETTO:-0800
TZNAME:PST
DTSTART:20221106T090000
END:STANDARD
BEGIN:DAYLIGHT
TZOFFSETFROM:-0800
TZOFFSETTO:-0700
TZNAME:PDT
DTSTART:20230312T100000
END:DAYLIGHT
BEGIN:STANDARD
TZOFFSETFROM:-0700
TZOFFSETTO:-0800
TZNAME:PST
DTSTART:20231105T090000
END:STANDARD
BEGIN:DAYLIGHT
TZOFFSETFROM:-0800
TZOFFSETTO:-0700
TZNAME:PDT
DTSTART:20240310T100000
END:DAYLIGHT
BEGIN:STANDARD
TZOFFSETFROM:-0700
TZOFFSETTO:-0800
TZNAME:PST
DTSTART:20241103T090000
END:STANDARD
END:VTIMEZONE
BEGIN:VEVENT
DTSTART;VALUE=DATE:20230629
DTEND;VALUE=DATE:20230630
DTSTAMP:20260425T054948
CREATED:20230522T051323Z
LAST-MODIFIED:20230522T051323Z
UID:7438-1687996800-1688083199@dongchuacuuthe.us
SUMMARY:Lễ Thánh Phêrô và Thánh Phaolô\, Tông đồ\, Lễ Trọng
DESCRIPTION:BÀI ĐỌC I: Cv 12\, 1-11 \n“Bây giờ tôi biết thật Chúa đã cứu tôi khỏi tay Hêrôđê”.  \nTrích sách Tông đồ Công vụ. \nTrong những ngày ấy\, vua Hêrôđê làm khổ mấy người trong Hội thánh. Ông đã dùng gươm giết Giacôbê anh của Gioan. Ông thấy việc ấy đẹp lòng người Do-thái\, nên lại cho bắt cả Phêrô. Bấy giờ là ngày lễ Bánh Không Men. Bắt được người\, vua cho tống ngục\, giao cho bốn đội binh\, mỗi đội bốn người canh giữ\, có ý đợi sau lễ Vượt Qua\, sẽ điệu người ra cho dân. Phêrô bị giam trong ngục\, nhưng Hội thánh vẫn luôn luôn cầu nguyện cùng Chúa cho người. Đến khi vua Hêrôđê sắp điệu người ra\, thì đêm ấy\, Phêrô phải mang xiềng xích\, nằm ngủ giữa hai tên lính\, và có quân canh giữ trước cửa ngục. Bỗng có thiên thần Chúa đứng kề bên\, một luồng ánh sáng chiếu giãi vào ngục; thiên thần đập vào cạnh sườn Phêrô\, đánh thức người dậy mà rằng: “Hãy chỗi dậy mau”. Xiềng xích liền rơi khỏi tay người. Thiên thần bảo người rằng: “Hãy thắt lưng và mang giày vào”. Người làm y như vậy. Thiên thần lại bảo rằng: “Hãy khoác áo vào mà theo ta”.  \nNgười liền đi ra theo thiên thần\, mà chẳng biết việc thiên thần làm có thật chăng\, người tưởng như trong giấc mộng. Qua khỏi chặng thứ nhất và chặng thứ hai\, thì đến cửa sắt thông ra thành. Cửa ấy tự nhiên mở ra. Thiên thần và Phêrô rảo qua một phố nọ\, rồi thiên thần biến đi. Phêrô hoàn hồn và nói rằng: “Bây giờ tôi biết thật Chúa đã sai thiên thần cứu tôi khỏi tay Hêrôđê và khỏi mọi âm mưu của dân Do-thái”. Đó là lời Chúa. \nĐÁP CA: Tv 33\, 2-3. 4-5. 6-7. 8-9 \nĐáp: Chúa đã cứu tôi khỏi điều lo sợ (c. 5b). \nXướng: 1) Tôi chúc tụng Chúa trong mọi lúc; miệng tôi hằng liên lỉ ngợi khen Người. Trong Chúa linh hồn tôi hãnh diện\, bạn nghèo hãy nghe và hãy mừng vui. – Đáp. \n2) Các bạn hãy cùng tôi ca ngợi Chúa\, cùng nhau ta hãy tán tạ danh Người. Tôi cầu khẩn Chúa\, Chúa đã nhậm lời\, và Người đã cứu tôi khỏi điều lo sợ. – Đáp. \n3) Hãy nhìn về Chúa để các bạn vui tươi\, và các bạn khỏi hổ ngươi bẽ mặt. Kìa người đau khổ cầu cứu và Chúa đã nghe\, và Người đã cứu họ khỏi mọi điều tai nạn. – Đáp. \n4) Thiên Thần Chúa hạ trại đồn binh chung quanh những người sợ Chúa và bênh chữa họ. Các bạn hãy nếm thử và hãy nhìn coi\, cho biết Chúa thiện hảo nhường bao; phúc đức ai tìm nương tựa ở nơi Người. – Đáp. \nBÀI ĐỌC II: 2 Tm 4\, 6-8. 17-18 \n“Từ đây triều thiên công chính đã dành cho cha”. \nTrích thư thứ hai của Thánh Phaolô Tông đồ gửi Timôthêu. \nCon thân mến\, phần cha\, cha đã già yếu\, giờ ra đi của cha đã gần rồi. Cha đã chiến đấu trong trận chiến chính nghĩa\, đã chạy đến cùng đường và đã giữ vững đức tin. Từ đây triều thiên công chính đã dành cho cha. Và trong ngày đó\, Chúa là Đấng phán xét chí công sẽ trao lại cho cha mũ triều thiên ấy\, nhưng không phải cho cha mà thôi\, mà còn cho những kẻ yêu mến trông đợi Người xuất hiện. Nhưng có Chúa phù hộ giúp sức cho cha\, để nhờ cha\, việc giảng đạo nên trọn\, và tất cả Dân Ngoại được nghe giảng dạy: và cha đã thoát được khỏi miệng sư tử. Nguyện cho Người được vinh quang muôn đời. Amen. Đó là lời Chúa. \nALLELUIA: Mt 16\, 18 \nAlleluia\, alleluia! – Con là Đá\, trên đá này Thầy sẽ xây Hội Thánh của Thầy\, và cửa địa ngục sẽ không thắng được. – Alleluia. \nPHÚC ÂM: Mt 16\, 13-19 \n“Con là Đá\, Thầy sẽ trao cho con chìa khoá nước trời”. \nTin Mừng Chúa Giêsu Kitô theo Thánh Matthêu. \nKhi ấy\, Chúa Giêsu đến địa hạt thành Cêsarêa Philipphê\, và hỏi các môn đệ rằng: “Người ta bảo Con Người là ai?” Các ông thưa: “Người thì bảo là Gioan Tẩy Giả\, kẻ thì bảo là Êlia\, kẻ khác lại bảo là Giêrêmia hay một tiên tri nào đó”. Chúa Giêsu nói với các ông: “Phần các con\, các con bảo Thầy là ai?” Simon Phêrô thưa rằng: “Thầy là Đức Kitô\, Con Thiên Chúa hằng sống”.  \nChúa Giêsu trả lời rằng: “Hỡi Simon con ông Giona\, con có phúc\, vì chẳng phải xác thịt hay máu huyết mạc khải cho con\, nhưng là Cha Thầy\, Đấng ngự trên trời. Vậy Thầy bảo cho con biết: Con là Đá\, trên đá này Thầy sẽ xây Hội Thánh của Thầy\, và cửa địa ngục sẽ không thắng được. Thầy sẽ trao cho con chìa khoá nước trời. Sự gì con cầm buộc dưới đất\, trên trời cũng cầm buộc; và sự gì con cởi mở dưới đất\, trên trời cũng cởi mở”. Đó là lời Chúa. \nTh. Phê-rô và Phao-lô\, tông đồ                                     \nMt 16\,13-19\nHAI TRỤ CỘT CỦA HỘI THÁNH \nÔng Si-mon Phê-rô thưa: “Thầy là Đấng Ki-tô\, Con Thiên Chúa hằng sống.” (Mt 16\,16) \nSuy niệm: Mừng lễ hai thánh Phêrô và Phaolô trong năm Lời Chúa\, chúng ta cùng suy nghĩ về vị trí của Lời Chúa trong đời sống hai vị thánh tông đồ trụ cột của Giáo Hội.\n– Thánh Phêrô không đích thân viết sách Tin Mừng. Tuy vậy\, những lời rao giảng của Ngài được Mác-cô viết lại thành cuốn Tin Mừng thứ nhất. Ngài lại còn để lại hai bức thư khuyên chúng ta “khao khát sữa tinh tuyền là Lời Chúa” (1Pr 2\,1). Điều đó chứng tỏ ngài ghi nhớ kỹ những lời giảng dạy và việc làm của Thầy.\n– Thánh Phaolô được ơn linh hứng để viết những bức thư\, được liệt kê vào qui điển Tân Ước\, đó chính là Lời Chúa vẫn được công bố trong các cử hành phụng vụ. Đọc sách Công vụ Tông đồ và các thư của ngài\, ta thấy ngài gắn bó và nhiệt tâm rao giảng Lời Chúa như thế nào. \nMời Bạn: Để có thể Tân Phúc Âm hoá này\, trước tiên chúng ta phải sống gắn bó với Lời Chúa qua việc đọc\, suy niệm và thực hành Lời Chúa. Mong sao bạn không để lời mời gọi này trở thành tiếng kêu trong hoang địa. Mời bạn nhìn vào tấm gương của hai thánh tông đồ Phêrô và Phaolô\, và cố gắng để cho Lời Chúa sinh hoa kết quả nơi bạn. Mỗi ngày thân xác ta cần tới ba bữa ăn để sống\, bạn đã làm gì để linh hồn bạn được nuôi dưỡng đúng mức bằng Lời Hằng Sống? \nSống Lời Chúa: Trung thành dành 5 phút mỗi ngày suy niệm Lời Chúa và sau đó thực hành điều bạn quyết tâm. \nCầu nguyện: Lạy Chúa\, cảm tạ Chúa đã ban cho chúng con Lời Hằng Sống. Xin cho chúng con biết ái mộ Lời Chúa\, để Lời Chúa trở thành nguồn sức sống và nguồn vui cho chúng con. Amen.
URL:https://dongchuacuuthe.us/calendar/le-thanh-phero-va-thanh-phaolo-tong-do-le-trong/
END:VEVENT
BEGIN:VEVENT
DTSTART;VALUE=DATE:20230629
DTEND;VALUE=DATE:20230630
DTSTAMP:20260425T054948
CREATED:20230522T060340Z
LAST-MODIFIED:20230522T060340Z
UID:7525-1687996800-1688083199@dongchuacuuthe.us
SUMMARY:Solemnity of Saints Peter and Paul\, Apostles  Vigil
DESCRIPTION:Reading I\nActs 3:1-10\n\n\nPeter and John were going up to the temple area\nfor the three o’clock hour of prayer.\nAnd a man crippled from birth was carried\nand placed at the gate of the temple called “the Beautiful Gate”\nevery day to beg for alms from the people who entered the temple.\nWhen he saw Peter and John about to go into the temple\,\nhe asked for alms.\nBut Peter looked intently at him\, as did John\,\nand said\, “Look at us.”\nHe paid attention to them\, expecting to receive something from them.\nPeter said\, “I have neither silver nor gold\,\nbut what I do have I give you:\nin the name of Jesus Christ the Nazorean\, rise and walk.”\nThen Peter took him by the right hand and raised him up\,\nand immediately his feet and ankles grew strong.\nHe leaped up\, stood\, and walked around\,\nand went into the temple with them\,\nwalking and jumping and praising God.\nWhen all the people saw the man walking and praising God\,\nthey recognized him as the one who used to sit begging\nat the Beautiful Gate of the temple\,\nand they were filled with amazement and astonishment\nat what had happened to him. \n\n\n\n\n\n\n\n\n\n\n\n\nResponsorial Psalm\n19:2-3\, 4-5\n\n\nR. (5) Their message goes out through all the earth.\nThe heavens declare the glory of God;\nand the firmament proclaims his handiwork.\nDay pours out the word to day;\nand night to night imparts knowledge.\nR. Their message goes out through all the earth.\nNot a word nor a discourse\nwhose voice is not heard;\nthrough all the earth their voice resounds\,\nand to the ends of the world\, their message.\nR. Their message goes out through all the earth. \n\n\n\n\n\n\n\n\n\n\n\n\nReading II\nGal 1:11-20\n\n\nI want you to know\, brothers and sisters\,\nthat the Gospel preached by me is not of human origin.\nFor I did not receive it from a human being\, nor was I taught it\,\nbut it came through a revelation of Jesus Christ. \nFor you heard of my former way of life in Judaism\,\nhow I persecuted the Church of God beyond measure\nand tried to destroy it\, and progressed in Judaism\nbeyond many of my contemporaries among my race\,\nsince I was even more a zealot for my ancestral traditions.\nBut when God\, who from my mother’s womb had set me apart\nand called me through his grace\,\nwas pleased to reveal his Son to me\,\nso that I might proclaim him to the Gentiles\,\nI did not immediately consult flesh and blood\,\nnor did I go up to Jerusalem\nto those who were Apostles before me;\nrather\, I went into Arabia and then returned to Damascus. \nThen after three years I went up to Jerusalem\nto confer with Cephas and remained with him for fifteen days.\nBut I did not see any other of the Apostles\,\nonly James the brother of the Lord.\n–As to what I am writing to you\, behold\,\nbefore God\, I am not lying. \n\n\n\n\n\n\n\n\n\n\n\n\nAlleluia\nJn 21:17\n\n\nR. Alleluia\, alleluia.\nLord\, you know everything:\nyou know that I love you.\nR. Alleluia\, alleluia. \n\n\n\n\n\n\n\n\n\n\n\n\nGospel\nJn 21:15-19\n\n\nJesus had revealed himself to his disciples\nand\, when they had finished breakfast\, said to Simon Peter\,\n“Simon\, son of John\, do you love me more than these?”\nSimon Peter answered him\, “Yes\, Lord\, you know that I love you.”\nJesus said to him\, “Feed my lambs.”\nHe then said to Simon Peter a second time\,\n“Simon\, son of John\, do you love me?”\nSimon Peter answered him\, “Yes\, Lord\, you know that I love you.”\nHe said to him\, “Tend my sheep.”\nHe said to him the third time\,\n“Simon\, son of John\, do you love me?”\nPeter was distressed that he had said to him a third time\,\n“Do you love me?” and he said to him\,\n“Lord\, you know everything; you know that I love you.”\nJesus said to him\, “Feed my sheep.\nAmen\, amen\, I say to you\, when you were younger\,\nyou used to dress yourself and go where you wanted;\nbut when you grow old\, you will stretch out your hands\,\nand someone else will dress you\nand lead you where you do not want to go.”\nHe said this signifying by what kind of death he would glorify God.\nAnd when he had said this\, he said to him\, “Follow me.”
URL:https://dongchuacuuthe.us/calendar/solemnity-of-saints-peter-and-paul-apostles-vigil/
END:VEVENT
BEGIN:VEVENT
DTSTART;VALUE=DATE:20230629
DTEND;VALUE=DATE:20230630
DTSTAMP:20260425T054948
CREATED:20230522T060406Z
LAST-MODIFIED:20230522T060406Z
UID:7527-1687996800-1688083199@dongchuacuuthe.us
SUMMARY:Solemnity of Saints Peter and Paul\, Apostles  Mass during the Day
DESCRIPTION:Reading I\nActs 12:1-11\n\n\nIn those days\, King Herod laid hands upon some members of the Church to harm them.\nHe had James\, the brother of John\, killed by the sword\,\nand when he saw that this was pleasing to the Jews\nhe proceeded to arrest Peter also.\n–It was the feast of Unleavened Bread.–\nHe had him taken into custody and put in prison\nunder the guard of four squads of four soldiers each.\nHe intended to bring him before the people after Passover.\nPeter thus was being kept in prison\,\nbut prayer by the Church was fervently being made\nto God on his behalf. \nOn the very night before Herod was to bring him to trial\,\nPeter\, secured by double chains\,\nwas sleeping between two soldiers\,\nwhile outside the door guards kept watch on the prison.\nSuddenly the angel of the Lord stood by him\nand a light shone in the cell.\nHe tapped Peter on the side and awakened him\, saying\,\n“Get up quickly.”\nThe chains fell from his wrists.\nThe angel said to him\, “Put on your belt and your sandals.”\nHe did so.\nThen he said to him\, “Put on your cloak and follow me.”\nSo he followed him out\,\nnot realizing that what was happening through the angel was real;\nhe thought he was seeing a vision.\nThey passed the first guard\, then the second\,\nand came to the iron gate leading out to the city\,\nwhich opened for them by itself.\nThey emerged and made their way down an alley\,\nand suddenly the angel left him.\nThen Peter recovered his senses and said\,\n“Now I know for certain\nthat the Lord sent his angel\nand rescued me from the hand of Herod\nand from all that the Jewish people had been expecting.” \n\n\n\n\n\n\n\n\n\n\n\n\nResponsorial Psalm\n34:2-3\, 4-5\, 6-7\, 8-9\n\n\nR.        (5) The angel of the Lord will rescue those who fear him.\nI will bless the LORD at all times;\nhis praise shall be ever in my mouth.\nLet my soul glory in the LORD;\nthe lowly will hear me and be glad.\nR.        The angel of the Lord will rescue those who fear him.\nGlorify the LORD with me\,\nlet us together extol his name.\nI sought the LORD\, and he answered me\nand delivered me from all my fears.\nR.        The angel of the Lord will rescue those who fear him.\nLook to him that you may be radiant with joy\,\nand your faces may not blush with shame.\nWhen the poor one called out\, the LORD heard\,\nand from all his distress he saved him.\nR.        The angel of the Lord will rescue those who fear him.\nThe angel of the LORD encamps\naround those who fear him\, and delivers them.\nTaste and see how good the LORD is;\nblessed the man who takes refuge in him.\nR.        The angel of the Lord will rescue those who fear him. \n\n\n\n\n\n\n\n\n\n\n\n\nReading II\n2 Tm 4:6-8\, 17-18\n\n\nI\, Paul\, am already being poured out like a libation\,\nand the time of my departure is at hand.\nI have competed well; I have finished the race;\nI have kept the faith.\nFrom now on the crown of righteousness awaits me\,\nwhich the Lord\, the just judge\,\nwill award to me on that day\, and not only to me\,\nbut to all who have longed for his appearance. \nThe Lord stood by me and gave me strength\,\nso that through me the proclamation might be completed\nand all the Gentiles might hear it.\nAnd I was rescued from the lion’s mouth.\nThe Lord will rescue me from every evil threat\nand will bring me safe to his heavenly Kingdom.\nTo him be glory forever and ever.  Amen. \n\n\n\n\n\n\n\n\n\n\n\n\nAlleluia\nMt 16:18\n\n\nR. Alleluia\, alleluia.\nYou are Peter and upon this rock I will build my Church\,\nand the gates of the netherworld shall not prevail against it.\nR. Alleluia\, alleluia. \n\n\n\n\n\n\n\n\n\n\n\n\nGospel\nMt 16:13-19\n\n\nWhen Jesus went into the region of Caesarea Philippi\nhe asked his disciples\,\n“Who do people say that the Son of Man is?”\nThey replied\, “Some say John the Baptist\, others Elijah\,\nstill others Jeremiah or one of the prophets.”\nHe said to them\, “But who do you say that I am?”\nSimon Peter said in reply\,\n“You are the Christ\, the Son of the living God.”\nJesus said to him in reply\, “Blessed are you\, Simon son of Jonah.\nFor flesh and blood has not revealed this to you\, but my heavenly Father.\nAnd so I say to you\, you are Peter\,\nand upon this rock I will build my Church\,\nand the gates of the netherworld shall not prevail against it.\nI will give you the keys to the Kingdom of heaven.\nWhatever you bind on earth shall be bound in heaven;\nand whatever you loose on earth shall be loosed in heaven.”
URL:https://dongchuacuuthe.us/calendar/solemnity-of-saints-peter-and-paul-apostles-mass-during-the-day/
END:VEVENT
END:VCALENDAR