BEGIN:VCALENDAR
VERSION:2.0
PRODID:-//Dòng Chúa Cứu Thế Hải Ngoại - ECPv6.15.20//NONSGML v1.0//EN
CALSCALE:GREGORIAN
METHOD:PUBLISH
X-WR-CALNAME:Dòng Chúa Cứu Thế Hải Ngoại
X-ORIGINAL-URL:https://dongchuacuuthe.us
X-WR-CALDESC:Events for Dòng Chúa Cứu Thế Hải Ngoại
REFRESH-INTERVAL;VALUE=DURATION:PT1H
X-Robots-Tag:noindex
X-PUBLISHED-TTL:PT1H
BEGIN:VTIMEZONE
TZID:America/Los_Angeles
BEGIN:DAYLIGHT
TZOFFSETFROM:-0800
TZOFFSETTO:-0700
TZNAME:PDT
DTSTART:20220313T100000
END:DAYLIGHT
BEGIN:STANDARD
TZOFFSETFROM:-0700
TZOFFSETTO:-0800
TZNAME:PST
DTSTART:20221106T090000
END:STANDARD
BEGIN:DAYLIGHT
TZOFFSETFROM:-0800
TZOFFSETTO:-0700
TZNAME:PDT
DTSTART:20230312T100000
END:DAYLIGHT
BEGIN:STANDARD
TZOFFSETFROM:-0700
TZOFFSETTO:-0800
TZNAME:PST
DTSTART:20231105T090000
END:STANDARD
BEGIN:DAYLIGHT
TZOFFSETFROM:-0800
TZOFFSETTO:-0700
TZNAME:PDT
DTSTART:20240310T100000
END:DAYLIGHT
BEGIN:STANDARD
TZOFFSETFROM:-0700
TZOFFSETTO:-0800
TZNAME:PST
DTSTART:20241103T090000
END:STANDARD
END:VTIMEZONE
BEGIN:VEVENT
DTSTART;VALUE=DATE:20230628
DTEND;VALUE=DATE:20230629
DTSTAMP:20260425T054950
CREATED:20230522T051253Z
LAST-MODIFIED:20230522T051253Z
UID:7436-1687910400-1687996799@dongchuacuuthe.us
SUMMARY:Thứ Tư Tuần XII Thường Niên Năm I
DESCRIPTION:BÀI ĐỌC I: St 15\, 1-12. 17-18 \n“Abram tin vào Thiên Chúa và vì đó\, ông được công chính”. \nTrích sách Sáng Thế. \nTrong những ngày ấy\, có lời Chúa phán cùng Abram trong thị kiến rằng: “Hỡi Abram\, ngươi chớ sợ\, Ta là Đấng phù trợ và là phần thưởng rất bội hậu cho ngươi”. Abram thưa rằng: “Lạy Chúa là Thiên Chúa\, Ngài sẽ ban cho con điều gì? Con sẽ qua đi mà không có con; chỉ có Eliêzer này\, người Đamas\, con của người giúp việc gia đình con”. Abram nói tiếp rằng: “Chúa không cho con sinh con; đây con của người giúp việc sẽ là kẻ nối nghiệp con”. Tức thì có lời Chúa phán cùng ông rằng: “Chẳng phải người này sẽ là kẻ nối nghiệp ngươi\, nhưng là chính người con ngươi sinh ra\, sẽ là kẻ nối nghiệp ngươi”. Thiên Chúa dẫn Abram ra ngoài và nói với ông: “Ngươi hãy ngước mắt lên trời\, và nếu có thể được\, hãy đếm các ngôi sao”. Rồi Chúa nói tiếp: “Miêu duệ của ngươi sẽ đông đảo như thế”. Abram tin vào Thiên Chúa và vì đó\, ông được công chính.  \nVà Chúa lại nói: “Ta là Chúa\, Đấng dẫn dắt ngươi ra khỏi thành Ur của dân Calđê\, để ban cho ngươi xứ này làm gia nghiệp”. Abram thưa rằng: “Lạy Chúa là Thiên Chúa\, làm sao con có thể biết con sẽ được xứ đó làm gia nghiệp?” Chúa đáp: “Ngươi hãy bắt một con bò cái ba tuổi\, một con dê cái ba tuổi\, một con cừu đực ba tuổi\, một con chim gáy mái và một con bồ câu non”. Abram bắt tất cả những con vật ấy\, chặt ra làm đôi\, đặt phân nửa này đối diện với phân nửa kia: nhưng ông không chặt đôi các con chim. Các mãnh cầm lao xuống trên những con vật vừa bị giết\, song ông Abram đuổi chúng đi.  \nLúc mặt trời lặn\, Abram ngủ mê; một cơn sợ hãi khủng khiếp và u tối bao trùm lấy ông. Khi mặt trời đã lặn rồi\, bóng tối mù mịt phủ xuống\, có một chiếc lò bốc khói và một khối lửa băng qua giữa những phần con vật chia đôi. Trong ngày đó\, Chúa đã thiết lập giao ước với Abram mà nói rằng: “Ta ban xứ này cho miêu duệ ngươi\, từ sông Ai-cập cho đến sông Euphrát”. Đó là lời Chúa. \nĐÁP CA: Tv 104\, 1-2. 3-4. 6-7. 8-9 \nĐáp: Tới muôn đời Chúa vẫn nhớ lời minh ước (c. 8a). \nHoặc đọc: Alleluia. \nXướng: 1) Hãy ca tụng Chúa\, hãy hoan hô danh Ngài\, hãy kể ra sự nghiệp Chúa ở giữa chư dân. Hãy xướng ca\, đàn hát mừng Người\, hãy tường thuật mọi điều kỳ diệu của Chúa. – Đáp. \n2) Hãy tự hào vì danh thánh của Người\, tâm hồn những ai tìm Chúa\, hãy mừng vui. Hãy coi trọng Chúa và quyền năng của Chúa\, hãy tìm kiếm thiên nhan Chúa luôn luôn. – Đáp. \n3) Hỡi miêu duệ Abraham là tôi tớ của Người\, hỡi con cháu Giacóp\, những kẻ được Người kén chọn. Chính chúa là Thiên Chúa chúng ta\, quyền cai trị của Người bao trùm khắp cả địa cầu. – Đáp. \n4) Tới muôn đời Người vẫn nhớ lời minh ước\, lời hứa mà Người đã an bài tới muôn thế hệ\, lời minh ước Người đã ký cùng Abraham\, lời thề hứa Người đã thề với Isaac. – Đáp. \nALLELUIA: Ga 14\, 23 \nAlleluia\, alleluia! – Chúa phán: “Nếu ai yêu mến Thầy\, thì sẽ giữ lời Thầy\, và Cha Thầy sẽ yêu mến người ấy\, và Chúng Ta sẽ đến và ở trong người ấy”. – Alleluia. \nPHÚC ÂM: Mt 7\, 15-20 \n“Hãy xem quả thì các con sẽ biết chúng”. \nTin Mừng Chúa Giêsu Kitô theo Thánh Matthêu. \nKhi ấy\, Chúa Giêsu phán cùng các môn đệ rằng: “Hãy coi chừng các tiên tri giả. Họ mặc lốt chiên đến cùng các con\, nhưng bên trong\, họ là sói dữ hay cắn xé. Hãy xem quả thì các con sẽ biết được chúng. Nào ai hái được trái nho nơi bụi gai\, hoặc trái vả nơi bụi găng sao? Cũng thế\, cây tốt thì sinh trái tốt\, còn cây xấu thì sinh trái xấu. Cây tốt không thể sinh trái xấu\, và cây xấu không thể sinh trái tốt. Các cây không sinh trái tốt sẽ bị chặt đi và ném vào lửa. Vậy coi trái thì các con sẽ nhận biết được chúng”. Đó là lời Chúa.
URL:https://dongchuacuuthe.us/calendar/thu-tu-tuan-xii-thuong-nien-nam-i/
END:VEVENT
BEGIN:VEVENT
DTSTART;VALUE=DATE:20230628
DTEND;VALUE=DATE:20230629
DTSTAMP:20260425T054950
CREATED:20230522T060300Z
LAST-MODIFIED:20230522T060300Z
UID:7523-1687910400-1687996799@dongchuacuuthe.us
SUMMARY:Memorial of Saint Irenaeus\, Bishop and Martyr
DESCRIPTION:Reading 1\nGn 15:1-12\, 17-18\n\nThe word of the LORD came to Abram in a vision: \n“Fear not\, Abram!\nI am your shield;\nI will make your reward very great.” \nBut Abram said\,\n“O Lord GOD\, what good will your gifts be\,\nif I keep on being childless\nand have as my heir the steward of my house\, Eliezer?”\nAbram continued\,\n“See\, you have given me no offspring\,\nand so one of my servants will be my heir.”\nThen the word of the LORD came to him:\n“No\, that one shall not be your heir;\nyour own issue shall be your heir.”\nHe took him outside and said:\n“Look up at the sky and count the stars\, if you can.\nJust so\,” he added\, “shall your descendants be.”\nAbram put his faith in the LORD\,\nwho credited it to him as an act of righteousness. \nHe then said to him\,\n“I am the LORD who brought you from Ur of the Chaldeans\nto give you this land as a possession.”\n“O Lord GOD\,” he asked\,\n“how am I to know that I shall possess it?”\nHe answered him\,\n“Bring me a three-year-old heifer\, a three-year-old she-goat\,\na three-year-old ram\, a turtledove\, and a young pigeon.”\nAbram brought him all these\, split them in two\,\nand placed each half opposite the other;\nbut the birds he did not cut up.\nBirds of prey swooped down on the carcasses\,\nbut Abram stayed with them.\nAs the sun was about to set\, a trance fell upon Abram\,\nand a deep\, terrifying darkness enveloped him. \nWhen the sun had set and it was dark\,\nthere appeared a smoking fire pot and a flaming torch\,\nwhich passed between those pieces.\nIt was on that occasion that the LORD made a covenant with Abram\,\nsaying: “To your descendants I give this land\,\nfrom the Wadi of Egypt to the Great River the Euphrates.” \n\n\n\n\n\n\n\n\n\n\n\nResponsorial Psalm\nPs 105:1-2\, 3-4\, 6-7\, 8-9\n\nR. (8a) The Lord remembers his covenant for ever.\nor:\nR. Alleluia.\nGive thanks to the LORD\, invoke his name;\nmake known among the nations his deeds.\nSing to him\, sing his praise\,\nproclaim all his wondrous deeds.\nR. The Lord remembers his covenant for ever.\nor:\nR. Alleluia.\nGlory in his holy name;\nrejoice\, O hearts that seek the LORD!\nLook to the LORD in his strength;\nseek to serve him constantly.\nR. The Lord remembers his covenant for ever.\nor:\nR. Alleluia.\nYou descendants of Abraham\, his servants\,\nsons of Jacob\, his chosen ones!\nHe\, the LORD\, is our God;\nthroughout the earth his judgments prevail.\nR. The Lord remembers his covenant for ever.\nor:\nR. Alleluia.\nHe remembers forever his covenant\nwhich he made binding for a thousand generations—\nWhich he entered into with Abraham\nand by his oath to Isaac.\nR. The Lord remembers his covenant for ever.\nor:\nR. Alleluia.\n\n\n\n\n\n\n\n\n\n\n\nAlleluia\nJn 15:4a\, 5b\n\nR. Alleluia\, alleluia.\nRemain in me\, as I remain in you\, says the Lord;\nwhoever remains in me will bear much fruit.\nR. Alleluia\, alleluia.\n\n\n\n\n\n\n\n\n\n\n\nGospel\nMt 7:15-20\n\nJesus said to his disciples:\n“Beware of false prophets\, who come to you in sheep’s clothing\,\nbut underneath are ravenous wolves.\nBy their fruits you will know them.\nDo people pick grapes from thornbushes\, or figs from thistles?\nJust so\, every good tree bears good fruit\,\nand a rotten tree bears bad fruit.\nA good tree cannot bear bad fruit\,\nnor can a rotten tree bear good fruit.\nEvery tree that does not bear good fruit will be cut down\nand thrown into the fire.\nSo by their fruits you will know them.”
URL:https://dongchuacuuthe.us/calendar/memorial-of-saint-irenaeus-bishop-and-martyr/
END:VEVENT
END:VCALENDAR