BEGIN:VCALENDAR
VERSION:2.0
PRODID:-//Dòng Chúa Cứu Thế Hải Ngoại - ECPv6.15.20//NONSGML v1.0//EN
CALSCALE:GREGORIAN
METHOD:PUBLISH
X-WR-CALNAME:Dòng Chúa Cứu Thế Hải Ngoại
X-ORIGINAL-URL:https://dongchuacuuthe.us
X-WR-CALDESC:Events for Dòng Chúa Cứu Thế Hải Ngoại
REFRESH-INTERVAL;VALUE=DURATION:PT1H
X-Robots-Tag:noindex
X-PUBLISHED-TTL:PT1H
BEGIN:VTIMEZONE
TZID:America/Los_Angeles
BEGIN:DAYLIGHT
TZOFFSETFROM:-0800
TZOFFSETTO:-0700
TZNAME:PDT
DTSTART:20220313T100000
END:DAYLIGHT
BEGIN:STANDARD
TZOFFSETFROM:-0700
TZOFFSETTO:-0800
TZNAME:PST
DTSTART:20221106T090000
END:STANDARD
BEGIN:DAYLIGHT
TZOFFSETFROM:-0800
TZOFFSETTO:-0700
TZNAME:PDT
DTSTART:20230312T100000
END:DAYLIGHT
BEGIN:STANDARD
TZOFFSETFROM:-0700
TZOFFSETTO:-0800
TZNAME:PST
DTSTART:20231105T090000
END:STANDARD
BEGIN:DAYLIGHT
TZOFFSETFROM:-0800
TZOFFSETTO:-0700
TZNAME:PDT
DTSTART:20240310T100000
END:DAYLIGHT
BEGIN:STANDARD
TZOFFSETFROM:-0700
TZOFFSETTO:-0800
TZNAME:PST
DTSTART:20241103T090000
END:STANDARD
END:VTIMEZONE
BEGIN:VEVENT
DTSTART;VALUE=DATE:20230627
DTEND;VALUE=DATE:20230628
DTSTAMP:20260425T054949
CREATED:20230522T051224Z
LAST-MODIFIED:20230522T051224Z
UID:7434-1687824000-1687910399@dongchuacuuthe.us
SUMMARY:Thứ Ba Tuần XII Thường Niên Năm I
DESCRIPTION:BÀI ĐỌC I: St 13\, 2. 5-18 \n“Bác không muốn có sự bất bình giữa bác và cháu: vì chúng ta là anh em với nhau”. \nTrích sách Sáng Thế. \nBấy giờ Abram rất giàu\, có nhiều vàng bạc. Ông Lót\, người đi với Abram\, cũng có nhiều đàn chiên\, bò và lều trại. Miền đó không đủ chỗ cho cả hai cùng ở\, vì họ có nhiều tài sản\, nên không thể ở chung với nhau. Bởi thế các người chăn chiên của Abram và của Lót hay xảy ra cãi lẫy nhau. Khi ấy dân Canaan và dân Phêrêzê ở miền này.  \nVậy Abram nói cùng Lót rằng: “Bác không muốn có sự bất bình giữa bác và cháu\, giữa các người chăn chiên của chúng ta\, vì chúng ta là anh em với nhau. Trước mặt cháu có cả một miền rộng rãi\, xin cháu hãy lìa khỏi bác: nếu cháu đi bên tả\, thì bác sẽ đi bên hữu; nếu cháu chọn phía tay phải\, thì bác sẽ đi về phía tay trái”. Vậy Lót ngước mắt lên trông thấy cả miền đồng bằng sông Giođan\, có nước dồi dào. (Trước khi Chúa huỷ diệt thành Sôđôma và Gômôra\, cả miền ấy và phía Segor như vườn địa đàng của Chúa và như đất Ai-cập). Lót chọn miền đồng bằng sông Giođan và đi về phía đông. Thế là hai bác cháu lìa xa nhau. Abram ở lại đất Canaan\, còn Lót ở các đô thị gần sông Giođan\, và cư ngụ tại Sôđôma. Dân thành Sôđôma rất xấu xa\, vì quá tội lỗi trước mặt Chúa.  \nSau khi Lót đi rồi\, Chúa phán cùng Abram rằng: “Hãy ngước mặt lên và từ nơi ngươi đang ở\, hãy nhìn tứ phía: đông tây nam bắc. Tất cả đất mà ngươi trông thấy\, Ta sẽ ban vĩnh viễn cho ngươi và dòng dõi ngươi. Ta sẽ làm cho con cháu ngươi đông như bụi đất. Nếu ai có thể đếm được bụi đất thì mới có thể đếm được con cháu ngươi. Hãy chỗi dậy và đi khắp miền này\, vì chưng Ta sẽ ban miền này cho ngươi”. Bởi vậy Abram di chuyển lều trại đến ở thung lũng Mambrê\, thuộc miền Hebron\, và dựng bàn thờ kính Chúa ở đó. Đó là lời Chúa. \nĐÁP CA: Tv 14\, 2-3ab. 3cd-4ab. 5 \nĐáp: Lạy Chúa\, ai sẽ được ở trong đền tạm Chúa? (c. 1a) \nXướng: 1) Người sống thanh liêm và thực thi công chính\, và trong lòng suy nghĩ điều ngay\, và lưỡi không bịa lời vu khống. – Đáp. \n2) Người không làm ác hại đồng liêu\, cũng không làm nhục cho ai lân cận. Người coi rẻ đứa bất nhân\, nhưng kính yêu những ai tôn sợ Chúa. – Đáp. \n3) Người không xuất tiền đặt nợ thu lời\, cũng không ăn hối lộ hại người hiền lương. Người thực thi những điều kể đó\, thì muôn đời chẳng có lung lay. – Đáp. \nALLELUIA: Tv 118\, 27 \nAlleluia\, alleluia! – Xin Chúa cho con hiểu đường lối những huấn lệnh của Chúa\, và con suy gẫm các điều lạ lùng của Chúa. – Alleluia. \nPHÚC ÂM: Mt 7\, 6. 12-14 \n“Tất cả những gì các con muốn người ta làm cho các con\, thì hãy làm cho người ta”. \nTin Mừng Chúa Giêsu Kitô theo Thánh Matthêu. \nKhi ấy\, Chúa Giêsu phán cùng các môn đệ rằng: “Đừng lấy của thánh mà cho chó\, và đừng vất ngọc trai trước mặt heo\, kẻo chúng giày đạp dưới chân\, rồi quay lại cắn xé các con.  \n“Vậy tất cả những gì các con muốn người ta làm cho các con\, thì chính các con hãy làm cho người ta như thế! Đấy là điều mà lề luật và các tiên tri dạy.  \n“Các con hãy vào qua cửa hẹp\, vì cửa rộng và đường thênh thang là lối đưa đến hư mất\, và có nhiều kẻ đi lối ấy; cửa và đường đưa tới sự sống thì chật hẹp\, và ít kẻ tìm thấy”. Đó là lời Chúa. \nTHỨ BA TUẦN 12 TN\nMt 7\,6.12-14\nDÁM LÀM ĐIỀU TỐT ĐẸP CHO NHAU \n“Tất cả những gì anh em muốn người ta làm cho mình thì chính anh em cũng hãy làm cho người ta.”(Mt 7\,12) \nSuy niệm: Theo lẽ thường\, ai cũng yêu bản thân mình và muốn người khác dành cho mình những điều tốt đẹp\, chứ không muốn bị bạc đãi hay bị xúc phạm. Đức Giê-su biến ước muốn chính đáng đó của con người thành một động cơ tích cực cho lòng nhân ái: Làm cho người ta những gì muốn họ làm cho mình. Giáo huấn này của Đức Giê-su thách đố chúng ta từ bỏ cái tôi ích kỷ\, thậm chí chấp nhận cả những mất mát\, thiệt thòi có khi rất chính đáng và lớn lao. Điều này không bao giờ dễ\, nhưng nếu chúng ta dám\, chúng ta sẽ cảm nghiệm được niềm vui và niềm an bình sâu thẳm trong tâm hồn. \nMời Bạn: Chúng ta có thể bàng hoàng và động lòng trắc ẩn trước một thảm hoạ xảy đến cho người khác\, như trong những dịp thiên tai\, bão lụt chẳng hạn. Thế nhưng\, trong đời thường chúng ta vẫn thường dửng dưng hoặc đối xử với nhau thiếu công bằng\, thiếu bác ái. Trong xã hội hôm nay\, chủ nghĩa cá nhân\, trào lưu hưởng thụ… đang càng đẩy ta sâu hơn vào mối bận tâm trau chuốt cung phụng bản thân\, đồng thời lãnh đạm\, vô tâm trước nỗi đau của bao anh chị em xung quanh đời mình. Cuộc sống là một tấm gương phản chiếu. Nếu ta dám trao cho nhau những điều tốt đẹp\, thì ta sẽ nhận lại từ cuộc sống những điều tốt đẹp. \nSống Lời Chúa: Hãy trao cho nhau những điều tốt đẹp\, dẫu rất đơn sơ như một nụ cười\, một lời thăm hỏi chân thành\, một thái độ ân cần quan tâm… Cầu nguyện: Lạy Chúa\, xin dạy con biết yêu thương và luôn tận tình vui tươi phục vụ mọi người.
URL:https://dongchuacuuthe.us/calendar/thu-ba-tuan-xii-thuong-nien-nam-i/
END:VEVENT
BEGIN:VEVENT
DTSTART;VALUE=DATE:20230627
DTEND;VALUE=DATE:20230628
DTSTAMP:20260425T054949
CREATED:20230522T060235Z
LAST-MODIFIED:20230522T060235Z
UID:7521-1687824000-1687910399@dongchuacuuthe.us
SUMMARY:Tuesday of the Twelfth Week in Ordinary Time
DESCRIPTION:Reading 1\nGn 13:2\, 5-18\n\nAbram was very rich in livestock\, silver\, and gold. \nLot\, who went with Abram\, also had flocks and herds and tents\,\nso that the land could not support them if they stayed together;\ntheir possessions were so great that they could not dwell together.\nThere were quarrels between the herdsmen of Abram’s livestock\nand those of Lot’s.\n(At this time the Canaanites and the Perizzites\nwere occupying the land.) \nSo Abram said to Lot:\n“Let there be no strife between you and me\,\nor between your herdsmen and mine\, for we are kinsmen.\nIs not the whole land at your disposal?\nPlease separate from me.\nIf you prefer the left\, I will go to the right;\nif you prefer the right\, I will go to the left.”\nLot looked about and saw how well watered\nthe whole Jordan Plain was as far as Zoar\,\nlike the LORD’s own garden\, or like Egypt.\n(This was before the LORD had destroyed Sodom and Gomorrah.)\nLot\, therefore\, chose for himself the whole Jordan Plain\nand set out eastward.\nThus they separated from each other;\nAbram stayed in the land of Canaan\,\nwhile Lot settled among the cities of the Plain\,\npitching his tents near Sodom.\nNow the inhabitants of Sodom were very wicked\nin the sins they committed against the LORD. \nAfter Lot had left\, the LORD said to Abram:\n“Look about you\, and from where you are\,\ngaze to the north and south\, east and west;\nall the land that you see I will give to you\nand your descendants forever.\nI will make your descendants like the dust of the earth;\nif anyone could count the dust of the earth\,\nyour descendants too might be counted.\nSet forth and walk about in the land\, through its length and breadth\,\nfor to you I will give it.”\nAbram moved his tents and went on to settle\nnear the terebinth of Mamre\, which is at Hebron.\nThere he built an altar to the LORD. \n\n\n\n\n\n\n\n\n\n\n\nResponsorial Psalm\nPs 15:2-3a\, 3bc-4ab\, 5\n\nR. (1b) He who does justice will live in the presence of the Lord.\nHe who walks blamelessly and does justice;\nwho thinks the truth in his heart\nand slanders not with his tongue.\nR. He who does justice will live in the presence of the Lord.\nWho harms not his fellow man\,\nnor takes up a reproach against his neighbor;\nBy whom the reprobate is despised\,\nwhile he honors those who fear the LORD.\nR. He who does justice will live in the presence of the Lord.\nWho lends not his money at usury\nand accepts no bribe against the innocent.\nHe who does these things\nshall never be disturbed.\nR. He who does justice will live in the presence of the Lord.\n\n\n\n\n\n\n\n\n\n\n\nAlleluia\nJn 8:12\n\nR. Alleluia\, alleluia.\nI am the light of the world\, says the Lord;\nwhoever follows me will have the light of life.\nR. Alleluia\, alleluia.\n\n\n\n\n\n\n\n\n\n\n\nGospel\nMt 7:6\, 12-14\n\nJesus said to his disciples:\n“Do not give what is holy to dogs\, or throw your pearls before swine\,\nlest they trample them underfoot\, and turn and tear you to pieces. \n“Do to others whatever you would have them do to you.\nThis is the Law and the Prophets. \n“Enter through the narrow gate;\nfor the gate is wide and the road broad that leads to destruction\,\nand those who enter through it are many.\nHow narrow the gate and constricted the road that leads to life.\nAnd those who find it are few.”
URL:https://dongchuacuuthe.us/calendar/tuesday-of-the-twelfth-week-in-ordinary-time/
END:VEVENT
END:VCALENDAR